{"text_format":"1","workbook":"xlsx","n_sheets":18,"sheets":["CHECK","DATABASE","CG","เห็นชอบรวม(น1)","ใบเสนอราคา","รายงานจัดจ้าง","แนบท้ายรายงาน2","คำสั่ง","การพิจารณา","ประกาศ","ใบสั่งจ้าง","ขอบเขตงาน(น2)","รายงานข้อ 16","ใบส่งของ มอบ","ใบตรวจรับ","ใบสำคัญรับเงิน","บริสุทธิ์","เบิกจ่ายเงินรวม"],"not_rendered":{"charts":0,"images":5,"macros":1,"external_links":1,"defined_names":29,"comments":3,"pivot_tables":0},"unopened":[],"bounds":{"document_bytes":16777216,"sheet_cells":100000,"rows_first":2000,"rows_last":500,"rows_between":2000,"halvings":0,"cell_chars":16384,"cell_head_chars":4096},"cells_cut":0,"cells_raw":0,"read":"whole","date_system":"1900"}

{"sheet":"CHECK","index":0,"n_rows":15,"n_cols":11,"rows_kept":15,"cut":false,"hidden":false,"merged":[[0,1,0,10],[1,1,2,1],[1,2,2,2],[1,3,2,3],[1,4,2,4],[1,5,2,5],[1,6,2,6],[1,7,2,7],[1,8,2,8],[1,9,1,10]]}
[null,"ใบตรวจสอบการดำเนิน (การจัดจ้าง)"]
[null,"ที่","รายการ","จาก","ถึง","ว ด ป",null,"CHECK","Detials ERROR (ต้องทำการแก้ไข ดังนี้)","วิธีการ ต้องดำเนินาร"]
[null,null,null,null,null,null,null,null,null,"ก่อน/เท่ากับ วดป.","หลัง/เท่ากับ วดป."]
[null,1,"ขอความเห็นชอบ","รพ.สต.","สสอ.",{"$f":"'เห็นชอบรวม(น1)'!H4","v":"2562-08-21"},{"$f":"IF(F4<=F6,1,0)","v":1},{"$f":"IF(G4=1,\"OK\",\"ต้องแก้ไข\")","v":"OK"},{"$f":"IF(G4=0,\"ต้องดำเนินการ ก่อน หรือ = รายงานการซื้อ / จ้าง\",\"\")","v":""},{"$f":"IF(G4=0,F6,\"\")","v":""}]
[null,3,"ใบเสนอราคา","ผู้ค้า/ผู้รับจ้าง","รพ.สต./สสอ.",{"$f":"ใบเสนอราคา!D5","v":"2562-08-22"},{"$f":"IF(F5>=F4,1,0)","v":1},{"$f":"IF(G5=1,\"OK\",\"ต้องแก้ไข\")","v":"OK"},{"$f":"IF(G5=0,\"ต้องดำเนินการ หลัง หรือ = ขอความเห็นชอบ\",\"\")","v":""},null,{"$f":"IF(G5=0,F4,\"\")","v":""}]
[null,2,"รายงานการซื้อ/จ้าง","สสอ.","ผวจ.",{"$f":"รายงานจัดจ้าง!H3","v":"2562-08-22"},{"$f":"IF(F6>=F4,1,0)","v":1},{"$f":"IF(G6=1,\"OK\",\"ต้องแก้ไข\")","v":"OK"},{"$f":"IF(G6=0,\"ต้องดำเนินการ หลัง หรือ = ขอความเห็นชอบ\",\"\")","v":""},null,{"$f":"IF(G6=0,F4,\"\")","v":""}]
[null,3,"คำสั่งจังหวัดบุรีรัมย์",null,null,{"$f":"คำสั่ง!E19","v":"00:00:00"},{"$f":"IF(F7>=F6,1,0)","v":0},{"$f":"IF(G7=1,\"OK\",\"ต้องแก้ไข\")","v":"ต้องแก้ไข"},{"$f":"IF(G7=0,\"ต้องดำเนินการ หลัง หรือ = รายงานการซื้อ/จ้าง\",\"\")","v":"ต้องดำเนินการ หลัง หรือ = รายงานการซื้อ/จ้าง"},null,{"$f":"IF(G7=0,F6,\"\")","v":"2562-08-22"}]
[null,4,"รายงานผลการพิจารณา","สสอ.","ผวจ.",{"$f":"การพิจารณา!H3","v":"2560-09-28"},{"$f":"IF(F8>=F6,1,0)","v":0},"ต้องแก้ไข",{"$f":"IF(G8=0,\"ต้องดำเนินการ หลัง หรือ = รายงานการซื้อ/จ้าง\",\"\")","v":"ต้องดำเนินการ หลัง หรือ = รายงานการซื้อ/จ้าง"},null,{"$f":"IF(G8=0,F6,\"\")","v":"2562-08-22"}]
[null,5,"ประกาศผลการพิจารณา",null,null,{"$f":"ประกาศ!E86","v":"2560-09-28"},{"$f":"IF(F9>=F8,1,0)","v":1},"OK",{"$f":"IF(G9=0,\"ต้องดำเนินการ หลัง หรือ = รายงานผลการพิจารณา\",\"\")","v":""}]
[null,6,"ใบสั่งซื้อ/จ้าง","สสอ.","ผู้ค้า/ผู้รับจ้าง",{"$f":"ใบสั่งจ้าง!F5","v":"2562-08-22"},{"$f":"IF(F10>=F6,1,0)","v":1},"OK",{"$f":"IF(G10=0,\"ต้องดำเนินการ หลัง หรือ = รายงานซื้อ/จ้าง\",\"\")","v":""},null,{"$f":"IF(G10=0,F6,\"\")","v":""}]
[null,7,"วันรับใบสั่งซื้อ / จ้าง",null,null,{"$f":"ใบสั่งจ้าง!F97","v":"2562-08-23"},{"$f":"IF(F11>=F10,1,0)","v":1},"OK",{"$f":"IF(G11=0,\"ต้องดำเนินการหลัง หรือ = ออกใบสั่งซื้อ/จ้าง\",\"\")","v":""},null,{"$f":"IF(G11=0,F10,\"\")","v":""}]
[null,8,"วันครบกำหนดส่งมอบ",null,null,{"$f":"ใบสั่งจ้าง!J85","v":"2562-10-04"}]
[null,9,"ใบส่งมอบพัสดุ","ผู้ค้า/ผู้รับจ้าง","ผอ.รพ.สต.",{"$f":"'ใบส่งของ มอบ'!G4","v":"2562-09-30"},{"$f":"IF(F13<=F12,1,0)","v":1},"OK",{"$f":"IF(G13=0,\"ส่งมอบงานช้ากว่ากำหนด\",\"\")","v":""},{"$f":"IF(G13=0,F12,\"\")","v":""}]
[null,10,"ใบตรวจรับพัสดุ","สสอ.","ผวจ.",{"$f":"ใบตรวจรับ!G3","v":"2562-09-30"},{"$f":"IF(F14>=F13,1,0)","v":1},"OK",{"$f":"IF(G14=0,\"ต้องตรวจรับ หลัง หรือ = ส่งมอบพัสดุ\",\"\")","v":""},null,{"$f":"IF(G14=0,F13,\"\")","v":""}]
[null,11,"ขออนุม้ติเบิกจ่ายเงิน","จนท.การเงิน","ผอ.รพ.สต.",{"$f":"เบิกจ่ายเงินรวม!I3","v":"2562-10-01"},{"$f":"IF(F15>=F14,1,0)","v":1},"OK",{"$f":"IF(G15=0,\"ต้องดำเนินการหลัง หรือ = ตรวจรับพัสดุ\",\"\")","v":""},null,{"$f":"IF(G15=0,F14,\"\")","v":""}]

{"sheet":"DATABASE","index":1,"n_rows":26,"n_cols":5,"rows_kept":26,"cut":false,"hidden":false,"merged":[[0,1,0,3]]}
[null,"ข้อมูลทั่วไป (การจัดจ้าง)"]
[null,"หน่วยงานบังคับบัญชา","สำนักงานสาธารณสุขอำเภอหนองหงส์ ถ.ราษฎร์บำรุง จังหวัดบุรีรัมย์","โทร. 0 4466 9276"]
[null,"ที่หนังสือ สสอ.","บร 1332.1/"]
[null,"หน่วยงานบริหาร","สำนักงานสาธารณสุขอำเภอหนองหงส์","อำเภอหนองหงส์  จังหวัดบุรีรัมย์ "]
[null,"ที่อยู่","ที่อยู่ หมู่ที่ 14 ถนนราษฎร์บำรุง ตำบลสระแก้ว 31240","โทร. 0 4466 9276, 0 4466 9020"]
[null,"หัวหน้าหน่วยงาน","นายประหยัด  นงประโคน","สาธารณสุขอำเภอหนองหงส์"]
[null,"หัวหน้าเจ้าหน้าที่","นางจุรีพร  บัวลอย","นักวิชาการสาธารณสุข ชำนาญการ"]
[null,"เลขคำสั่ง สป. การอนุมัติจ่ายเงิน","ปฏิบัติตามคำสั่ง สป. ที่ 2999/2559 ลว. 30 กันยายน 2559"]
[null,"คำสั่งจังหวัดบุรีรัมย์","ที่              /2560"]
[null,"คำสั่ง มอบอำนาจพัสดุ","คำสั่งจังหวัดบุรีรัมย์ ที่ 27631/2559 ลงวันที่ 24 สิงหาคม 2560"]
[null,"เจ้าหน้าที่","นางวรรณเพ็ญ  วศินไพบูลย์วงศ์","เจ้าพนักงานสาธารณสุข"]
[null,"เจ้าหน้าที่การเงิน","นางสาวกนกรัตน์  พรมมา","เจ้าพนักงานสาธารณสุข"]
[null,"ที่หนังสือ รพ.สต.","บร 1332.1.4/","นายดำรงค์  สีระสูงเนิน","<<<< ชื่อ ผอ.รพ.สต."]
[null,"ผู้อนุมัติจ่ายเงิน","นายดำรงค์  สีระสูงเนิน","ผู้อำนวยการโรงพยาบาลส่งเสริมสุขภาพตำบลบ้านกระเบื้องน้อย"]
[null,"หน่วยงานที่ขออนุมัติ","โรงพยาบาลส่งเสริมสุขภาพตำบลบ้านกระเบื้องน้อย","อำเภอหนองหงส์ จังหวัดบุรีรัมย์"]
[null,"ประธานกรรมการ","นายสมยศ  นงประโคน","เจ้าพนักงานสาธารณสุข อาวุโส"]
[null,"กรรมการ"]
[null,"กรรมการ"]
[null,"ชื่อผู้รับจ้าง","หจก. เอกสารซีพี","........................................................."]
[null,"ที่อยู่ผู้รับจ้าง","95/10-11 ถ.อินจันทร์รรงค์  ต.ในเมือง อ.เมือง จ.บุรีรัมย์","โทรศัพท์ 0 4461 4005"]
[null,"เลขผู้เสียภาษี",313555000044,"หลัก"]
[null,"เลขที่บัญชีเงินฝากธนาคาร ",null,"12 หลัก"]
[null,"ชื่อบัญชี "]
[null,"ธนาคาร"]
[null,"เลขที่โครงการใน e-GP"," -"]
[null,"เลขคุมสัญญา"," -"]

{"sheet":"CG","index":2,"n_rows":40,"n_cols":23,"rows_kept":40,"cut":false,"hidden":true,"merged":[[2,1,6,1]]}
[]
[null,"ประจำเดือน","2560-12-01",{"$f":"MONTH(C2)","v":12},{"$f":"YEAR(C2)","v":2560},{"$f":"D2","v":12},null,null,"กลุ่มที่",null,"ประเภทผู้สูงอายุที่มีภาวะพึ่งพิง"]
[null,"ผู้ช่วยเหลือดูแลผู้สูงอายุที่มีภาวะพึ่งพิง (Care Giver)",300,"บาท",9,"คน",{"$f":"C3*E3","v":2700},"บาท",1,null,"เคลื่อนไหวได้บ้างและอาจมีปัญหาการกิน หรือขับถ่ายแต่ไม่มีภาวะสับสนทางสมอง"]
[null,null,600,"บาท",2,"คน",{"$f":"C4*E4","v":1200},"บาท",2,null,"เหมือนกลุ่มที่ 1 แต่มีภาวะสับสนทางสมอง"]
[null,null,null,"บาท",null,"คน",{"$f":"C5*E5","v":0},"บาท",3,null,"เคลื่อนไหวเองไม่ได้และอาจมีปัญหาการกิน หรือขับถ่ายหรือมีอาการเจ็บป่วยรุนแรง"]
[null,null,null,"บาท",null,"คน",{"$f":"C6*E6","v":0},"บาท",4,null,"เหมือนกลุ่มที่ 3 และมีอาการ เจ็บป่วยรุนแรง หรืออยู่ในระยะท้ายของชีวิต"]
[null,null,null,"บาท",null,"คน",{"$f":"C7*E7","v":0},"บาท",null,null,null,null,null,null,null,null,null,"จ้างตั้งแต่เดือน","ธันวาคม",2560,"ถึง","กันยายน",2561]
[null,null,null,"รวม",{"$f":"SUM(E3:E7)","v":11},"รวมเงิน",{"$f":"SUM(G3:G7)","v":3900},"บาท",null,null,null,null,null,null,null,null,null,null,"รวมจ้าง (ด.)"]
[1,2,3,4,5,6,7,8,9,10,11,12,13,14,15,16,17,18,19,20,21]
["ที่","ชื่อ - สกุล","เลขที่","หมู่ที่","หมายเลขบัตรประชาชน","จำนวนเงิน","เลข ส่ง สสอ","ตกลงจ้าง ที่","ลงวันที่","คน/ที่อยู่/จำนวนเงิน","คน/ที่อยู่/จำนวนเงิน","ต.","อ.","จ.","รหัส","ที่อยู่","ที่อยู่","จำนวน Case",10]
[1,"นางน้อย ปานเพ็ชร",133,6,"3311400187879",600,1000,"46/2560","2560-12-01",{"$f":"IF(B11=\"\",\"\",B11&\" \"&$C$10&\" \"&C11&\" \"&$D$10&\" \"&D11&\" \"&$E$10&\" \"&E11)","v":"นางน้อย ปานเพ็ชร เลขที่ 133 หมู่ที่ 6 หมายเลขบัตรประชาชน 3311400187879"},"นางน้อย ปานเพ็ชร เลขที่ 133 หมู่ที่ 6 หมายเลขบัตรประชาชน 3311400187879","หนองชัยศรี","หนองหงส์","บุรีรัมย์",31240,{"$f":"IF(B11=\"\",\"\",$C$10&\" \"&C11&\" \"&$D$10&\" \"&D11&\" \"&$L$10&\" \"&L11&\" \"&$M$10&\" \"&M11&\" \"&$N$10&\" \"&N11&\" \"&O11)","v":"เลขที่ 133 หมู่ที่ 6 ต. หนองชัยศรี อ. หนองหงส์ จ. บุรีรัมย์ 31240"},"เลขที่ 133 หมู่ที่ 6 ต. หนองชัยศรี อ. หนองหงส์ จ. บุรีรัมย์ 31240",{"$f":"COUNTIF(#REF!,A11)","v":{"$error":"#REF!"}},{"$f":"$S$10*F11","v":6000}]
[2,"นางสาวกาญจนา บุญเต็ม",12,11,"1311400010905",600,{"$f":"IF(B12=\"\",\"\",G11+1)","v":1001},"47/2560",{"$f":"IF(B12=\"\",\"\",$I$11)","v":"2560-12-01"},{"$f":"IF(B12=\"\",\"\",B12&\" \"&$C$10&\" \"&C12&\" \"&$D$10&\" \"&D12&\" \"&$E$10&\" \"&E12)","v":"นางสาวกาญจนา บุญเต็ม เลขที่ 12 หมู่ที่ 11 หมายเลขบัตรประชาชน 1311400010905"},"นางสาวกาญจนา บุญเต็ม เลขที่ 12 หมู่ที่ 11 หมายเลขบัตรประชาชน 1311400010905","หนองชัยศรี","หนองหงส์","บุรีรัมย์",31240,{"$f":"IF(B12=\"\",\"\",$C$10&\" \"&C12&\" \"&$D$10&\" \"&D12&\" \"&$L$10&\" \"&L12&\" \"&$M$10&\" \"&M12&\" \"&$N$10&\" \"&N12&\" \"&O12)","v":"เลขที่ 12 หมู่ที่ 11 ต. หนองชัยศรี อ. หนองหงส์ จ. บุรีรัมย์ 31240"},"เลขที่ 12 หมู่ที่ 11 ต. หนองชัยศรี อ. หนองหงส์ จ. บุรีรัมย์ 31240",{"$f":"COUNTIF(#REF!,A12)","v":{"$error":"#REF!"}},{"$f":"$S$10*F12","v":6000}]
[3,"นางละเอียด พันธ์มี",95,1,"3311400121754",300,1002,"48/2560",{"$f":"IF(B13=\"\",\"\",$I$11)","v":"2560-12-01"},"นางละเอียด พันธ์มี เลขที่ 95 หมู่ที่ 1 หมายเลขบัตรประชาชน 3311400121754","นางละเอียด พันธ์มี เลขที่ 95 หมู่ที่ 1 หมายเลขบัตรประชาชน 3311400121754","หนองชัยศรี","หนองหงส์","บุรีรัมย์",31240,"เลขที่ 95 หมู่ที่ 1 ต. หนองชัยศรี อ. หนองหงส์ จ. บุรีรัมย์ 31240","เลขที่ 95 หมู่ที่ 1 ต. หนองชัยศรี อ. หนองหงส์ จ. บุรีรัมย์ 31240",{"$f":"COUNTIF(#REF!,A13)","v":{"$error":"#REF!"}},3000]
[4,"นางคำแปลง สารัมย์",84,2,"3311400046213",300,1003,null,"2560-12-01","นางคำแปลง สารัมย์ เลขที่ 84 หมู่ที่ 2 หมายเลขบัตรประชาชน 3311400046213","นางคำแปลง สารัมย์ เลขที่ 84 หมู่ที่ 2 หมายเลขบัตรประชาชน 3311400046213","หนองชัยศรี","หนองหงส์","บุรีรัมย์",31240,"เลขที่ 84 หมู่ที่ 2 ต. หนองชัยศรี อ. หนองหงส์ จ. บุรีรัมย์ 31240","เลขที่ 84 หมู่ที่ 2 ต. หนองชัยศรี อ. หนองหงส์ จ. บุรีรัมย์ 31240",{"$f":"COUNTIF(#REF!,A14)","v":{"$error":"#REF!"}},3000]
[5,"นางลำไพ โสนาชัย",39,4,"3311400148652",300,1004,null,"2560-12-01","นางลำไพ โสนาชัย เลขที่ 39 หมู่ที่ 4 หมายเลขบัตรประชาชน 3311400148652","นางลำไพ โสนาชัย เลขที่ 39 หมู่ที่ 4 หมายเลขบัตรประชาชน 3311400148652","หนองชัยศรี","หนองหงส์","บุรีรัมย์",31240,"เลขที่ 39 หมู่ที่ 4 ต. หนองชัยศรี อ. หนองหงส์ จ. บุรีรัมย์ 31240","เลขที่ 39 หมู่ที่ 4 ต. หนองชัยศรี อ. หนองหงส์ จ. บุรีรัมย์ 31240",{"$f":"COUNTIF(#REF!,A15)","v":{"$error":"#REF!"}},3000]
[6,"นางอำพร สาวงศ์",55,5,"3311400182338",300,1005,null,"2560-12-01","นางอำพร สาวงศ์ เลขที่ 55 หมู่ที่ 5 หมายเลขบัตรประชาชน 3311400182338","นางอำพร สาวงศ์ เลขที่ 55 หมู่ที่ 5 หมายเลขบัตรประชาชน 3311400182338","หนองชัยศรี","หนองหงส์","บุรีรัมย์",31240,"เลขที่ 55 หมู่ที่ 5 ต. หนองชัยศรี อ. หนองหงส์ จ. บุรีรัมย์ 31240","เลขที่ 55 หมู่ที่ 5 ต. หนองชัยศรี อ. หนองหงส์ จ. บุรีรัมย์ 31240",{"$f":"COUNTIF(#REF!,A16)","v":{"$error":"#REF!"}},3000]
[7,"นางฉวี มาศคำมี",72,7,"3311400191728",300,1006,null,"2560-12-01","นางฉวี มาศคำมี เลขที่ 72 หมู่ที่ 7 หมายเลขบัตรประชาชน 3311400191728","นางฉวี มาศคำมี เลขที่ 72 หมู่ที่ 7 หมายเลขบัตรประชาชน 3311400191728","หนองชัยศรี","หนองหงส์","บุรีรัมย์",31240,"เลขที่ 72 หมู่ที่ 7 ต. หนองชัยศรี อ. หนองหงส์ จ. บุรีรัมย์ 31240","เลขที่ 72 หมู่ที่ 7 ต. หนองชัยศรี อ. หนองหงส์ จ. บุรีรัมย์ 31240",{"$f":"COUNTIF(#REF!,A17)","v":{"$error":"#REF!"}},3000]
[8,"นางอุไร อัครจักร",114,8,"3311400205311",300,1007,null,"2560-12-01","นางอุไร อัครจักร เลขที่ 114 หมู่ที่ 8 หมายเลขบัตรประชาชน 3311400205311","นางอุไร อัครจักร เลขที่ 114 หมู่ที่ 8 หมายเลขบัตรประชาชน 3311400205311","หนองชัยศรี","หนองหงส์","บุรีรัมย์",31240,"เลขที่ 114 หมู่ที่ 8 ต. หนองชัยศรี อ. หนองหงส์ จ. บุรีรัมย์ 31240","เลขที่ 114 หมู่ที่ 8 ต. หนองชัยศรี อ. หนองหงส์ จ. บุรีรัมย์ 31240",{"$f":"COUNTIF(#REF!,A18)","v":{"$error":"#REF!"}},3000]
[9,"นางประยูร กรมจรรยา",30,9,"3311400048429",300,1008,null,"2560-12-01","นางประยูร กรมจรรยา เลขที่ 30 หมู่ที่ 9 หมายเลขบัตรประชาชน 3311400048429","นางประยูร กรมจรรยา เลขที่ 30 หมู่ที่ 9 หมายเลขบัตรประชาชน 3311400048429","หนองชัยศรี","หนองหงส์","บุรีรัมย์",31240,"เลขที่ 30 หมู่ที่ 9 ต. หนองชัยศรี อ. หนองหงส์ จ. บุรีรัมย์ 31240","เลขที่ 30 หมู่ที่ 9 ต. หนองชัยศรี อ. หนองหงส์ จ. บุรีรัมย์ 31240",{"$f":"COUNTIF(#REF!,A19)","v":{"$error":"#REF!"}},3000]
[10,"นางกัญญาณี สร้างนอก",2,10,"3311400122068",300,1009,null,"2560-12-01","นางกัญญาณี สร้างนอก เลขที่ 2 หมู่ที่ 10 หมายเลขบัตรประชาชน 3311400122068","นางกัญญาณี สร้างนอก เลขที่ 2 หมู่ที่ 10 หมายเลขบัตรประชาชน 3311400122068","หนองชัยศรี","หนองหงส์","บุรีรัมย์",31240,"เลขที่ 2 หมู่ที่ 10 ต. หนองชัยศรี อ. หนองหงส์ จ. บุรีรัมย์ 31240","เลขที่ 2 หมู่ที่ 10 ต. หนองชัยศรี อ. หนองหงส์ จ. บุรีรัมย์ 31240",{"$f":"COUNTIF(#REF!,A20)","v":{"$error":"#REF!"}},3000]
[11,"นางพรรณี ศรีเมือง",8,14,"3311400050792",300,1010,null,"2560-12-01","นางพรรณี ศรีเมือง เลขที่ 8 หมู่ที่ 14 หมายเลขบัตรประชาชน 3311400050792","นางพรรณี ศรีเมือง เลขที่ 8 หมู่ที่ 14 หมายเลขบัตรประชาชน 3311400050792","หนองชัยศรี","หนองหงส์","บุรีรัมย์",31240,"เลขที่ 8 หมู่ที่ 14 ต. หนองชัยศรี อ. หนองหงส์ จ. บุรีรัมย์ 31240","เลขที่ 8 หมู่ที่ 14 ต. หนองชัยศรี อ. หนองหงส์ จ. บุรีรัมย์ 31240",{"$f":"COUNTIF(#REF!,A21)","v":{"$error":"#REF!"}},3000]
[null,null,null,null,null,null,"",{"$f":"IF(B22=\"\",\"\",H21+1)","v":""},"","","",null,null,null,null,"","",{"$f":"COUNTIF(#REF!,A22)","v":{"$error":"#REF!"}},0]
[null,null,null,null,null,null,"","","","","",null,null,null,null,"","",{"$f":"COUNTIF(#REF!,A23)","v":{"$error":"#REF!"}},0]
[null,null,null,null,null,null,"","","","","",null,null,null,null,"","",{"$f":"COUNTIF(#REF!,A24)","v":{"$error":"#REF!"}},0]
[null,null,null,null,null,null,"","","","","",null,null,null,null,"","",{"$f":"COUNTIF(#REF!,A25)","v":{"$error":"#REF!"}},0]
[null,null,null,null,null,null,"","","","","",null,null,null,null,"","",{"$f":"COUNTIF(#REF!,A26)","v":{"$error":"#REF!"}},0]
[null,null,null,null,null,null,"","","","","",null,null,null,null,"","",{"$f":"COUNTIF(#REF!,A27)","v":{"$error":"#REF!"}},0]
[null,null,null,null,null,null,"","","","","",null,null,null,null,"","",{"$f":"COUNTIF(#REF!,A28)","v":{"$error":"#REF!"}},0]
[null,null,null,null,null,null,"","","","","",null,null,null,null,"","",{"$f":"COUNTIF(#REF!,A29)","v":{"$error":"#REF!"}},0]
[null,null,null,null,null,null,"","","","","",null,null,null,null,"","",{"$f":"COUNTIF(#REF!,A30)","v":{"$error":"#REF!"}},0]
[null,null,null,null,null,null,"","","","","",null,null,null,null,"","",{"$f":"COUNTIF(#REF!,A31)","v":{"$error":"#REF!"}},0]
[null,null,null,null,null,null,"","","","","",null,null,null,null,"","",{"$f":"COUNTIF(#REF!,A32)","v":{"$error":"#REF!"}},0]
[null,null,null,null,null,null,"","","","","",null,null,null,null,"","",{"$f":"COUNTIF(#REF!,A33)","v":{"$error":"#REF!"}},0]
[null,null,null,null,null,null,"","","","","",null,null,null,null,"","",{"$f":"COUNTIF(#REF!,A34)","v":{"$error":"#REF!"}},0]
[null,null,null,null,null,null,"","","","","",null,null,null,null,"","",{"$f":"COUNTIF(#REF!,A35)","v":{"$error":"#REF!"}},0]
[null,null,null,null,null,null,"","","","","",null,null,null,null,"","",{"$f":"COUNTIF(#REF!,A36)","v":{"$error":"#REF!"}},0]
[null,null,null,null,null,null,"","","","","",null,null,null,null,"","",{"$f":"COUNTIF(#REF!,A37)","v":{"$error":"#REF!"}},0]
[null,null,null,null,null,null,"","","","","",null,null,null,null,"","",{"$f":"COUNTIF(#REF!,A38)","v":{"$error":"#REF!"}},0]
[null,null,null,null,null,null,"","","","","",null,null,null,null,"","",{"$f":"COUNTIF(#REF!,A39)","v":{"$error":"#REF!"}},0]
[null,null,null,null,null,null,"","","","","",null,null,null,null,"","",{"$f":"COUNTIF(#REF!,A40)","v":{"$error":"#REF!"}},0]

{"sheet":"เห็นชอบรวม(น1)","index":3,"n_rows":99,"n_cols":16,"rows_kept":99,"cut":false,"hidden":false,"merged":[[1,1,1,8],[85,5,85,6],[93,7,93,9],[97,7,97,8],[98,7,98,8],[7,1,7,9]]}
[]
[null,"บันทึกข้อความ"]
[null,"ส่วนราชการ",null,null,{"$f":"DATABASE!C15&\" \"&DATABASE!D15","v":"โรงพยาบาลส่งเสริมสุขภาพตำบลบ้านกระเบื้องน้อย อำเภอหนองหงส์ จังหวัดบุรีรัมย์"}]
[null,"ที่",{"$f":"DATABASE!C13","v":"บร 1332.1.4/"},null,166,null,"วันที่","2562-08-21"]
[null,"เรื่อง","ถ่ายเอกสารงานราชการและเข้าเล่ม"]
[null,"เรียน",{"$f":"DATABASE!D6","v":"สาธารณสุขอำเภอหนองหงส์"}]
[null,null,null,null,"ความเป็นมา"]
[null,"                                ด้วย สำนักโรคไม่ติดต่อ กรมควบคุมโรค ได้เชิญส่งผลงานการดำเนินงานทีมป้องกันการบาดเจ็บทางถนนระดับตำบล (RTI team) และทีมป้องกันเด็กจมน้ำ ประจำปี 2562 โดย สสจ.บุรีรัมย์ได้เชิญนำเสนอผลงานการดำเนินงาน โดยเตรียมเอกสารรูปเล่มพร้อมไฟล์นำเสนอ ในวันที่ 23 สิงหาคม 2562นั้น และส่งรูปเล่มทั้ง 2 กิจกรรมภายในวันที่ 30 กันยายน 2562 นั้น ในการนี้ โรงพยาบาลส่งเสริมสุขภาพตำบลบ้านกระเบื้องน้อย ต.หนองชัยศรี ได้ส่งผลงานนำเสนอการป้องกันบาดเจ็บทางถนน ระดับ Excellent เป็นปีที่ 2 และทีมป้องกันเด็กจมน้ำ ระดับทอง ดังนั้น เพื่อให้การดำเนินงานเป็นไปด้วยความเรียบร้อย มีประสิทธิภาพ จึงใคร่ขอจัดจ้างถ่ายเอกสารเพื่อใช้ในงานราชการต่อไป"]
[null,null,null,null,"ข้อพิจารณา"]
[null,null,null,null,{"$f":"E3&H3& \"มีความประสงค์\"","v":"โรงพยาบาลส่งเสริมสุขภาพตำบลบ้านกระเบื้องน้อย อำเภอหนองหงส์ จังหวัดบุรีรัมย์มีความประสงค์"}]
[null,{"$f":"C5& \" โดยใช้งบเงินบำรุงของหน่วยงาน รพ.สต.บ้านกระเบื้องน้อย\"","v":"ถ่ายเอกสารงานราชการและเข้าเล่ม โดยใช้งบเงินบำรุงของหน่วยงาน รพ.สต.บ้านกระเบื้องน้อย"}]
[null,"รายละเอียดดังนี้"]
[null,null,null,{"$f":"IF(แนบท้ายรายงาน2!B6=\"\",\"\",แนบท้ายรายงาน2!B6)","v":1},{"$f":"แนบท้ายรายงาน2!C6&\"     จำนวน  \"&แนบท้ายรายงาน2!D6&\" \"&แนบท้ายรายงาน2!E6&\" ๆ ละ  \"&แนบท้ายรายงาน2!H6&\" บาท\"","v":"ค่าถ่ายเอกสารสี และขาวดำ จำนวน 98 หน้า พร้อมเข้าเล่ม(ส่งเขต)     จำนวน  1 เล่ม ๆ ละ  700 บาท"},null,null,null,null,null,{"$f":"IF(E13=\"\",\"\",\"เลือกปริ้น\")","v":"เลือกปริ้น"}]
[null,null,null,2,{"$f":"แนบท้ายรายงาน2!C7&\"     จำนวน  \"&แนบท้ายรายงาน2!D7&\" \"&แนบท้ายรายงาน2!E7&\" ๆ ละ  \"&แนบท้ายรายงาน2!H7&\" บาท\"","v":"ค่าถ่ายเอกสารสี และขาวดำ จำนวน 141 หน้า พร้อมเข้าเล่ม (ส่งเขต)     จำนวน  1 เล่ม ๆ ละ  1018 บาท"},null,null,null,null,null,{"$f":"IF(E14=\"\",\"\",\"เลือกปริ้น\")","v":"เลือกปริ้น"}]
[null,null,null,3,{"$f":"แนบท้ายรายงาน2!C8&\"     จำนวน  \"&แนบท้ายรายงาน2!D8&\" \"&แนบท้ายรายงาน2!E8&\" ๆ ละ  \"&แนบท้ายรายงาน2!H8&\" บาท\"","v":"ค่าถ่ายเอกสารขาวดำ จำนวน 98 หน้า พร้อมเข้าเล่ม(นำเสนอ สสจ.)     จำนวน  2 เล่ม ๆ ละ  141 บาท"},null,null,null,null,null,"เลือกปริ้น"]
[null,null,null,{"$f":"IF(#REF!=\"\",\"\",#REF!)","v":{"$error":"#REF!"}},{"$f":"IF(D16=\"\",\"\",#REF!)","v":{"$error":"#REF!"}},null,{"$f":"IF(D16=\"\",\"\",L16&\" \"&M16&\" \"&N16&\"ๆ ละ\"&\" \"&O16&\" \"&P16&\" รวมเป็นเงิน\")","v":{"$error":"#REF!"}},null,{"$f":"IF(D16=\"\",\"\",#REF!*#REF!)","v":{"$error":"#REF!"}},null,{"$error":"#REF!"}]
[null,null,null,{"$f":"IF(#REF!=\"\",\"\",#REF!)","v":{"$error":"#REF!"}},{"$f":"IF(D17=\"\",\"\",#REF!)","v":{"$error":"#REF!"}},null,{"$error":"#REF!"},null,{"$f":"IF(D17=\"\",\"\",#REF!*#REF!)","v":{"$error":"#REF!"}},null,{"$error":"#REF!"},{"$f":"IF(D17=\"\",\"\",\"จำนวน\")","v":{"$error":"#REF!"}},{"$f":"IF(D17=\"\",\"\",#REF!)","v":{"$error":"#REF!"}},{"$f":"IF(D17=\"\",\"\",#REF!)","v":{"$error":"#REF!"}},{"$f":"IF(D17=\"\",\"\",#REF!)","v":{"$error":"#REF!"}},{"$f":"IF(D17=\"\",\"\",\"บาท\")","v":{"$error":"#REF!"}}]
[null,null,null,{"$f":"IF(#REF!=\"\",\"\",#REF!)","v":{"$error":"#REF!"}},{"$f":"IF(D18=\"\",\"\",#REF!)","v":{"$error":"#REF!"}},null,{"$error":"#REF!"},null,{"$f":"IF(D18=\"\",\"\",#REF!*#REF!)","v":{"$error":"#REF!"}},null,{"$error":"#REF!"},{"$error":"#REF!"},{"$f":"IF(D18=\"\",\"\",#REF!)","v":{"$error":"#REF!"}},{"$f":"IF(D18=\"\",\"\",#REF!)","v":{"$error":"#REF!"}},{"$f":"IF(D18=\"\",\"\",#REF!)","v":{"$error":"#REF!"}},{"$error":"#REF!"}]
[null,null,null,{"$f":"IF(#REF!=\"\",\"\",#REF!)","v":{"$error":"#REF!"}},{"$f":"IF(D19=\"\",\"\",#REF!)","v":{"$error":"#REF!"}},null,{"$error":"#REF!"},null,{"$f":"IF(D19=\"\",\"\",#REF!*#REF!)","v":{"$error":"#REF!"}},null,{"$error":"#REF!"},{"$error":"#REF!"},{"$f":"IF(D19=\"\",\"\",#REF!)","v":{"$error":"#REF!"}},{"$f":"IF(D19=\"\",\"\",#REF!)","v":{"$error":"#REF!"}},{"$f":"IF(D19=\"\",\"\",#REF!)","v":{"$error":"#REF!"}},{"$error":"#REF!"}]
[null,null,null,{"$f":"IF(#REF!=\"\",\"\",#REF!)","v":{"$error":"#REF!"}},{"$f":"IF(D20=\"\",\"\",#REF!)","v":{"$error":"#REF!"}},null,{"$error":"#REF!"},null,{"$f":"IF(D20=\"\",\"\",#REF!*#REF!)","v":{"$error":"#REF!"}},null,{"$error":"#REF!"},{"$error":"#REF!"},{"$f":"IF(D20=\"\",\"\",#REF!)","v":{"$error":"#REF!"}},{"$f":"IF(D20=\"\",\"\",#REF!)","v":{"$error":"#REF!"}},{"$f":"IF(D20=\"\",\"\",#REF!)","v":{"$error":"#REF!"}},{"$error":"#REF!"}]
[null,null,null,{"$f":"IF(#REF!=\"\",\"\",#REF!)","v":{"$error":"#REF!"}},{"$f":"IF(D21=\"\",\"\",#REF!)","v":{"$error":"#REF!"}},null,{"$error":"#REF!"},null,{"$f":"IF(D21=\"\",\"\",#REF!*#REF!)","v":{"$error":"#REF!"}},null,{"$error":"#REF!"},{"$error":"#REF!"},{"$f":"IF(D21=\"\",\"\",#REF!)","v":{"$error":"#REF!"}},{"$f":"IF(D21=\"\",\"\",#REF!)","v":{"$error":"#REF!"}},{"$f":"IF(D21=\"\",\"\",#REF!)","v":{"$error":"#REF!"}},{"$error":"#REF!"}]
[null,null,null,{"$f":"IF(#REF!=\"\",\"\",#REF!)","v":{"$error":"#REF!"}},{"$f":"IF(D22=\"\",\"\",#REF!)","v":{"$error":"#REF!"}},null,{"$error":"#REF!"},null,{"$f":"IF(D22=\"\",\"\",#REF!*#REF!)","v":{"$error":"#REF!"}},null,{"$error":"#REF!"},{"$error":"#REF!"},{"$f":"IF(D22=\"\",\"\",#REF!)","v":{"$error":"#REF!"}},{"$f":"IF(D22=\"\",\"\",#REF!)","v":{"$error":"#REF!"}},{"$f":"IF(D22=\"\",\"\",#REF!)","v":{"$error":"#REF!"}},{"$error":"#REF!"}]
[null,null,null,{"$f":"IF(#REF!=\"\",\"\",#REF!)","v":{"$error":"#REF!"}},{"$f":"IF(D23=\"\",\"\",#REF!)","v":{"$error":"#REF!"}},null,{"$f":"IF(D23=\"\",\"\",L23&\" \"&M23&\" \"&N23&\"ๆ ละ\"&\" \"&O23&\" \"&P23&\" รวมเป็นเงิน\")","v":{"$error":"#REF!"}},null,{"$f":"IF(D23=\"\",\"\",#REF!*#REF!)","v":{"$error":"#REF!"}},null,{"$error":"#REF!"},{"$error":"#REF!"},{"$f":"IF(D23=\"\",\"\",#REF!)","v":{"$error":"#REF!"}},{"$f":"IF(D23=\"\",\"\",#REF!)","v":{"$error":"#REF!"}},{"$f":"IF(D23=\"\",\"\",#REF!)","v":{"$error":"#REF!"}},{"$error":"#REF!"}]
[null,null,null,{"$f":"IF(#REF!=\"\",\"\",#REF!)","v":{"$error":"#REF!"}},{"$f":"IF(D24=\"\",\"\",#REF!)","v":{"$error":"#REF!"}},null,{"$error":"#REF!"},null,{"$f":"IF(D24=\"\",\"\",#REF!*#REF!)","v":{"$error":"#REF!"}},null,{"$error":"#REF!"},{"$error":"#REF!"},{"$f":"IF(D24=\"\",\"\",#REF!)","v":{"$error":"#REF!"}},{"$f":"IF(D24=\"\",\"\",#REF!)","v":{"$error":"#REF!"}},{"$f":"IF(D24=\"\",\"\",#REF!)","v":{"$error":"#REF!"}},{"$error":"#REF!"}]
[null,null,null,{"$f":"IF(#REF!=\"\",\"\",#REF!)","v":{"$error":"#REF!"}},{"$f":"IF(D25=\"\",\"\",#REF!)","v":{"$error":"#REF!"}},null,{"$error":"#REF!"},null,{"$f":"IF(D25=\"\",\"\",#REF!*#REF!)","v":{"$error":"#REF!"}},null,{"$error":"#REF!"},{"$f":"IF(D25=\"\",\"\",\"จำนวน\")","v":{"$error":"#REF!"}},{"$f":"IF(D25=\"\",\"\",#REF!)","v":{"$error":"#REF!"}},{"$f":"IF(D25=\"\",\"\",#REF!)","v":{"$error":"#REF!"}},{"$f":"IF(D25=\"\",\"\",#REF!)","v":{"$error":"#REF!"}},{"$f":"IF(D25=\"\",\"\",\"บาท\")","v":{"$error":"#REF!"}}]
[null,null,null,{"$f":"IF(#REF!=\"\",\"\",#REF!)","v":{"$error":"#REF!"}},{"$f":"IF(D26=\"\",\"\",#REF!)","v":{"$error":"#REF!"}},null,{"$error":"#REF!"},null,{"$f":"IF(D26=\"\",\"\",#REF!*#REF!)","v":{"$error":"#REF!"}},null,{"$error":"#REF!"},{"$error":"#REF!"},{"$f":"IF(D26=\"\",\"\",#REF!)","v":{"$error":"#REF!"}},{"$f":"IF(D26=\"\",\"\",#REF!)","v":{"$error":"#REF!"}},{"$f":"IF(D26=\"\",\"\",#REF!)","v":{"$error":"#REF!"}},{"$error":"#REF!"}]
[null,null,null,{"$f":"IF(#REF!=\"\",\"\",#REF!)","v":{"$error":"#REF!"}},{"$f":"IF(D27=\"\",\"\",#REF!)","v":{"$error":"#REF!"}},null,{"$error":"#REF!"},null,{"$f":"IF(D27=\"\",\"\",#REF!*#REF!)","v":{"$error":"#REF!"}},null,{"$error":"#REF!"},{"$error":"#REF!"},{"$f":"IF(D27=\"\",\"\",#REF!)","v":{"$error":"#REF!"}},{"$f":"IF(D27=\"\",\"\",#REF!)","v":{"$error":"#REF!"}},{"$f":"IF(D27=\"\",\"\",#REF!)","v":{"$error":"#REF!"}},{"$error":"#REF!"}]
[null,null,null,{"$f":"IF(#REF!=\"\",\"\",#REF!)","v":{"$error":"#REF!"}},{"$f":"IF(D28=\"\",\"\",#REF!)","v":{"$error":"#REF!"}},null,{"$error":"#REF!"},null,{"$f":"IF(D28=\"\",\"\",#REF!*#REF!)","v":{"$error":"#REF!"}},null,{"$error":"#REF!"},{"$error":"#REF!"},{"$f":"IF(D28=\"\",\"\",#REF!)","v":{"$error":"#REF!"}},{"$f":"IF(D28=\"\",\"\",#REF!)","v":{"$error":"#REF!"}},{"$f":"IF(D28=\"\",\"\",#REF!)","v":{"$error":"#REF!"}},{"$error":"#REF!"}]
[null,null,null,{"$f":"IF(#REF!=\"\",\"\",#REF!)","v":{"$error":"#REF!"}},{"$f":"IF(D29=\"\",\"\",#REF!)","v":{"$error":"#REF!"}},null,{"$error":"#REF!"},null,{"$f":"IF(D29=\"\",\"\",#REF!*#REF!)","v":{"$error":"#REF!"}},null,{"$error":"#REF!"},{"$error":"#REF!"},{"$f":"IF(D29=\"\",\"\",#REF!)","v":{"$error":"#REF!"}},{"$f":"IF(D29=\"\",\"\",#REF!)","v":{"$error":"#REF!"}},{"$f":"IF(D29=\"\",\"\",#REF!)","v":{"$error":"#REF!"}},{"$error":"#REF!"}]
[null,null,null,{"$f":"IF(#REF!=\"\",\"\",#REF!)","v":{"$error":"#REF!"}},{"$f":"IF(D30=\"\",\"\",#REF!)","v":{"$error":"#REF!"}},null,{"$error":"#REF!"},null,{"$f":"IF(D30=\"\",\"\",#REF!*#REF!)","v":{"$error":"#REF!"}},null,{"$error":"#REF!"},{"$error":"#REF!"},{"$f":"IF(D30=\"\",\"\",#REF!)","v":{"$error":"#REF!"}},{"$f":"IF(D30=\"\",\"\",#REF!)","v":{"$error":"#REF!"}},{"$f":"IF(D30=\"\",\"\",#REF!)","v":{"$error":"#REF!"}},{"$error":"#REF!"}]
[null,null,null,{"$f":"IF(#REF!=\"\",\"\",#REF!)","v":{"$error":"#REF!"}},{"$f":"IF(D31=\"\",\"\",#REF!)","v":{"$error":"#REF!"}},null,{"$error":"#REF!"},null,{"$f":"IF(D31=\"\",\"\",#REF!*#REF!)","v":{"$error":"#REF!"}},null,{"$error":"#REF!"},{"$error":"#REF!"},{"$f":"IF(D31=\"\",\"\",#REF!)","v":{"$error":"#REF!"}},{"$f":"IF(D31=\"\",\"\",#REF!)","v":{"$error":"#REF!"}},{"$f":"IF(D31=\"\",\"\",#REF!)","v":{"$error":"#REF!"}},{"$error":"#REF!"}]
[null,null,null,{"$f":"IF(#REF!=\"\",\"\",#REF!)","v":{"$error":"#REF!"}},{"$f":"IF(D32=\"\",\"\",#REF!)","v":{"$error":"#REF!"}},null,{"$error":"#REF!"},null,{"$f":"IF(D32=\"\",\"\",#REF!*#REF!)","v":{"$error":"#REF!"}},null,{"$error":"#REF!"},{"$error":"#REF!"},{"$f":"IF(D32=\"\",\"\",#REF!)","v":{"$error":"#REF!"}},{"$f":"IF(D32=\"\",\"\",#REF!)","v":{"$error":"#REF!"}},{"$f":"IF(D32=\"\",\"\",#REF!)","v":{"$error":"#REF!"}},{"$error":"#REF!"}]
[null,null,null,{"$f":"IF(#REF!=\"\",\"\",#REF!)","v":{"$error":"#REF!"}},{"$f":"IF(D33=\"\",\"\",#REF!)","v":{"$error":"#REF!"}},null,{"$error":"#REF!"},null,{"$f":"IF(D33=\"\",\"\",#REF!*#REF!)","v":{"$error":"#REF!"}},null,{"$error":"#REF!"},{"$error":"#REF!"},{"$f":"IF(D33=\"\",\"\",#REF!)","v":{"$error":"#REF!"}},{"$f":"IF(D33=\"\",\"\",#REF!)","v":{"$error":"#REF!"}},{"$f":"IF(D33=\"\",\"\",#REF!)","v":{"$error":"#REF!"}},{"$error":"#REF!"}]
[null,null,null,{"$f":"IF(#REF!=\"\",\"\",#REF!)","v":{"$error":"#REF!"}},{"$f":"IF(D34=\"\",\"\",#REF!)","v":{"$error":"#REF!"}},null,{"$error":"#REF!"},null,{"$f":"IF(D34=\"\",\"\",#REF!*#REF!)","v":{"$error":"#REF!"}},null,{"$error":"#REF!"},{"$error":"#REF!"},{"$f":"IF(D34=\"\",\"\",#REF!)","v":{"$error":"#REF!"}},{"$f":"IF(D34=\"\",\"\",#REF!)","v":{"$error":"#REF!"}},{"$f":"IF(D34=\"\",\"\",#REF!)","v":{"$error":"#REF!"}},{"$error":"#REF!"}]
[null,null,null,{"$f":"IF(#REF!=\"\",\"\",#REF!)","v":{"$error":"#REF!"}},{"$f":"IF(D35=\"\",\"\",#REF!)","v":{"$error":"#REF!"}},null,{"$error":"#REF!"},null,{"$f":"IF(D35=\"\",\"\",#REF!*#REF!)","v":{"$error":"#REF!"}},null,{"$error":"#REF!"},{"$error":"#REF!"},{"$f":"IF(D35=\"\",\"\",#REF!)","v":{"$error":"#REF!"}},{"$f":"IF(D35=\"\",\"\",#REF!)","v":{"$error":"#REF!"}},{"$f":"IF(D35=\"\",\"\",#REF!)","v":{"$error":"#REF!"}},{"$error":"#REF!"}]
[null,null,null,{"$f":"IF(#REF!=\"\",\"\",#REF!)","v":{"$error":"#REF!"}},{"$f":"IF(D36=\"\",\"\",#REF!)","v":{"$error":"#REF!"}},null,{"$error":"#REF!"},null,{"$f":"IF(D36=\"\",\"\",#REF!*#REF!)","v":{"$error":"#REF!"}},null,{"$error":"#REF!"},{"$error":"#REF!"},{"$f":"IF(D36=\"\",\"\",#REF!)","v":{"$error":"#REF!"}},{"$f":"IF(D36=\"\",\"\",#REF!)","v":{"$error":"#REF!"}},{"$f":"IF(D36=\"\",\"\",#REF!)","v":{"$error":"#REF!"}},{"$error":"#REF!"}]
[null,null,null,{"$f":"IF(#REF!=\"\",\"\",#REF!)","v":{"$error":"#REF!"}},{"$f":"IF(D37=\"\",\"\",#REF!)","v":{"$error":"#REF!"}},null,{"$error":"#REF!"},null,{"$f":"IF(D37=\"\",\"\",#REF!*#REF!)","v":{"$error":"#REF!"}},null,{"$error":"#REF!"},{"$error":"#REF!"},{"$f":"IF(D37=\"\",\"\",#REF!)","v":{"$error":"#REF!"}},{"$f":"IF(D37=\"\",\"\",#REF!)","v":{"$error":"#REF!"}},{"$f":"IF(D37=\"\",\"\",#REF!)","v":{"$error":"#REF!"}},{"$error":"#REF!"}]
[null,null,null,{"$f":"IF(#REF!=\"\",\"\",#REF!)","v":{"$error":"#REF!"}},{"$f":"IF(D38=\"\",\"\",#REF!)","v":{"$error":"#REF!"}},null,{"$error":"#REF!"},null,{"$f":"IF(D38=\"\",\"\",#REF!*#REF!)","v":{"$error":"#REF!"}},null,{"$error":"#REF!"},{"$error":"#REF!"},{"$f":"IF(D38=\"\",\"\",#REF!)","v":{"$error":"#REF!"}},{"$f":"IF(D38=\"\",\"\",#REF!)","v":{"$error":"#REF!"}},{"$f":"IF(D38=\"\",\"\",#REF!)","v":{"$error":"#REF!"}},{"$error":"#REF!"}]
[null,null,null,{"$f":"IF(#REF!=\"\",\"\",#REF!)","v":{"$error":"#REF!"}},{"$f":"IF(D39=\"\",\"\",#REF!)","v":{"$error":"#REF!"}},null,{"$error":"#REF!"},null,{"$f":"IF(D39=\"\",\"\",#REF!*#REF!)","v":{"$error":"#REF!"}},null,{"$error":"#REF!"},{"$error":"#REF!"},{"$f":"IF(D39=\"\",\"\",#REF!)","v":{"$error":"#REF!"}},{"$f":"IF(D39=\"\",\"\",#REF!)","v":{"$error":"#REF!"}},{"$f":"IF(D39=\"\",\"\",#REF!)","v":{"$error":"#REF!"}},{"$error":"#REF!"}]
[null,null,null,{"$f":"IF(#REF!=\"\",\"\",#REF!)","v":{"$error":"#REF!"}},{"$f":"IF(D40=\"\",\"\",#REF!)","v":{"$error":"#REF!"}},null,{"$error":"#REF!"},null,{"$f":"IF(D40=\"\",\"\",#REF!*#REF!)","v":{"$error":"#REF!"}},null,{"$error":"#REF!"},{"$error":"#REF!"},{"$f":"IF(D40=\"\",\"\",#REF!)","v":{"$error":"#REF!"}},{"$f":"IF(D40=\"\",\"\",#REF!)","v":{"$error":"#REF!"}},{"$f":"IF(D40=\"\",\"\",#REF!)","v":{"$error":"#REF!"}},{"$error":"#REF!"}]
[null,null,null,{"$f":"IF(#REF!=\"\",\"\",#REF!)","v":{"$error":"#REF!"}},{"$f":"IF(D41=\"\",\"\",#REF!)","v":{"$error":"#REF!"}},null,{"$error":"#REF!"},null,{"$f":"IF(D41=\"\",\"\",#REF!*#REF!)","v":{"$error":"#REF!"}},null,{"$error":"#REF!"},{"$error":"#REF!"},{"$f":"IF(D41=\"\",\"\",#REF!)","v":{"$error":"#REF!"}},{"$f":"IF(D41=\"\",\"\",#REF!)","v":{"$error":"#REF!"}},{"$f":"IF(D41=\"\",\"\",#REF!)","v":{"$error":"#REF!"}},{"$error":"#REF!"}]
[null,null,null,{"$f":"IF(#REF!=\"\",\"\",#REF!)","v":{"$error":"#REF!"}},{"$f":"IF(D42=\"\",\"\",#REF!)","v":{"$error":"#REF!"}},null,{"$error":"#REF!"},null,{"$f":"IF(D42=\"\",\"\",#REF!*#REF!)","v":{"$error":"#REF!"}},null,{"$error":"#REF!"},{"$error":"#REF!"},{"$f":"IF(D42=\"\",\"\",#REF!)","v":{"$error":"#REF!"}},{"$f":"IF(D42=\"\",\"\",#REF!)","v":{"$error":"#REF!"}},{"$f":"IF(D42=\"\",\"\",#REF!)","v":{"$error":"#REF!"}},{"$error":"#REF!"}]
[null,null,null,{"$f":"IF(#REF!=\"\",\"\",#REF!)","v":{"$error":"#REF!"}},{"$f":"IF(D43=\"\",\"\",#REF!)","v":{"$error":"#REF!"}},null,{"$error":"#REF!"},null,{"$f":"IF(D43=\"\",\"\",#REF!*#REF!)","v":{"$error":"#REF!"}},null,{"$error":"#REF!"},{"$error":"#REF!"},{"$f":"IF(D43=\"\",\"\",#REF!)","v":{"$error":"#REF!"}},{"$f":"IF(D43=\"\",\"\",#REF!)","v":{"$error":"#REF!"}},{"$f":"IF(D43=\"\",\"\",#REF!)","v":{"$error":"#REF!"}},{"$error":"#REF!"}]
[null,null,null,{"$f":"IF(#REF!=\"\",\"\",#REF!)","v":{"$error":"#REF!"}},{"$f":"IF(D44=\"\",\"\",#REF!)","v":{"$error":"#REF!"}},null,{"$error":"#REF!"},null,{"$f":"IF(D44=\"\",\"\",#REF!*#REF!)","v":{"$error":"#REF!"}},null,{"$error":"#REF!"},{"$error":"#REF!"},{"$f":"IF(D44=\"\",\"\",#REF!)","v":{"$error":"#REF!"}},{"$f":"IF(D44=\"\",\"\",#REF!)","v":{"$error":"#REF!"}},{"$f":"IF(D44=\"\",\"\",#REF!)","v":{"$error":"#REF!"}},{"$error":"#REF!"}]
[null,null,null,{"$f":"IF(#REF!=\"\",\"\",#REF!)","v":{"$error":"#REF!"}},{"$f":"IF(D45=\"\",\"\",#REF!)","v":{"$error":"#REF!"}},null,{"$error":"#REF!"},null,{"$f":"IF(D45=\"\",\"\",#REF!*#REF!)","v":{"$error":"#REF!"}},null,{"$error":"#REF!"},{"$error":"#REF!"},{"$f":"IF(D45=\"\",\"\",#REF!)","v":{"$error":"#REF!"}},{"$f":"IF(D45=\"\",\"\",#REF!)","v":{"$error":"#REF!"}},{"$f":"IF(D45=\"\",\"\",#REF!)","v":{"$error":"#REF!"}},{"$error":"#REF!"}]
[null,null,null,{"$f":"IF(#REF!=\"\",\"\",#REF!)","v":{"$error":"#REF!"}},{"$f":"IF(D46=\"\",\"\",#REF!)","v":{"$error":"#REF!"}},null,{"$error":"#REF!"},null,{"$f":"IF(D46=\"\",\"\",#REF!*#REF!)","v":{"$error":"#REF!"}},null,{"$error":"#REF!"},{"$error":"#REF!"},{"$f":"IF(D46=\"\",\"\",#REF!)","v":{"$error":"#REF!"}},{"$f":"IF(D46=\"\",\"\",#REF!)","v":{"$error":"#REF!"}},{"$f":"IF(D46=\"\",\"\",#REF!)","v":{"$error":"#REF!"}},{"$error":"#REF!"}]
[null,null,null,{"$f":"IF(#REF!=\"\",\"\",#REF!)","v":{"$error":"#REF!"}},{"$f":"IF(D47=\"\",\"\",#REF!)","v":{"$error":"#REF!"}},null,{"$error":"#REF!"},null,{"$f":"IF(D47=\"\",\"\",#REF!*#REF!)","v":{"$error":"#REF!"}},null,{"$error":"#REF!"},{"$error":"#REF!"},{"$f":"IF(D47=\"\",\"\",#REF!)","v":{"$error":"#REF!"}},{"$f":"IF(D47=\"\",\"\",#REF!)","v":{"$error":"#REF!"}},{"$f":"IF(D47=\"\",\"\",#REF!)","v":{"$error":"#REF!"}},{"$error":"#REF!"}]
[null,null,null,{"$f":"IF(#REF!=\"\",\"\",#REF!)","v":{"$error":"#REF!"}},{"$f":"IF(D48=\"\",\"\",#REF!)","v":{"$error":"#REF!"}},null,{"$error":"#REF!"},null,{"$f":"IF(D48=\"\",\"\",#REF!*#REF!)","v":{"$error":"#REF!"}},null,{"$error":"#REF!"},{"$error":"#REF!"},{"$f":"IF(D48=\"\",\"\",#REF!)","v":{"$error":"#REF!"}},{"$f":"IF(D48=\"\",\"\",#REF!)","v":{"$error":"#REF!"}},{"$f":"IF(D48=\"\",\"\",#REF!)","v":{"$error":"#REF!"}},{"$error":"#REF!"}]
[null,null,null,{"$f":"IF(#REF!=\"\",\"\",#REF!)","v":{"$error":"#REF!"}},{"$f":"IF(D49=\"\",\"\",#REF!)","v":{"$error":"#REF!"}},null,{"$error":"#REF!"},null,{"$f":"IF(D49=\"\",\"\",#REF!*#REF!)","v":{"$error":"#REF!"}},null,{"$error":"#REF!"},{"$error":"#REF!"},{"$f":"IF(D49=\"\",\"\",#REF!)","v":{"$error":"#REF!"}},{"$f":"IF(D49=\"\",\"\",#REF!)","v":{"$error":"#REF!"}},{"$f":"IF(D49=\"\",\"\",#REF!)","v":{"$error":"#REF!"}},{"$error":"#REF!"}]
[null,null,null,{"$f":"IF(#REF!=\"\",\"\",#REF!)","v":{"$error":"#REF!"}},{"$f":"IF(D50=\"\",\"\",#REF!)","v":{"$error":"#REF!"}},null,{"$error":"#REF!"},null,{"$f":"IF(D50=\"\",\"\",#REF!*#REF!)","v":{"$error":"#REF!"}},null,{"$error":"#REF!"},{"$error":"#REF!"},{"$f":"IF(D50=\"\",\"\",#REF!)","v":{"$error":"#REF!"}},{"$f":"IF(D50=\"\",\"\",#REF!)","v":{"$error":"#REF!"}},{"$f":"IF(D50=\"\",\"\",#REF!)","v":{"$error":"#REF!"}},{"$error":"#REF!"}]
[null,null,null,{"$f":"IF(#REF!=\"\",\"\",#REF!)","v":{"$error":"#REF!"}},{"$f":"IF(D51=\"\",\"\",#REF!)","v":{"$error":"#REF!"}},null,{"$error":"#REF!"},null,{"$f":"IF(D51=\"\",\"\",#REF!*#REF!)","v":{"$error":"#REF!"}},null,{"$error":"#REF!"},{"$error":"#REF!"},{"$f":"IF(D51=\"\",\"\",#REF!)","v":{"$error":"#REF!"}},{"$f":"IF(D51=\"\",\"\",#REF!)","v":{"$error":"#REF!"}},{"$f":"IF(D51=\"\",\"\",#REF!)","v":{"$error":"#REF!"}},{"$error":"#REF!"}]
[null,null,null,{"$f":"IF(#REF!=\"\",\"\",#REF!)","v":{"$error":"#REF!"}},{"$f":"IF(D52=\"\",\"\",#REF!)","v":{"$error":"#REF!"}},null,{"$error":"#REF!"},null,{"$f":"IF(D52=\"\",\"\",#REF!*#REF!)","v":{"$error":"#REF!"}},null,{"$error":"#REF!"},{"$error":"#REF!"},{"$f":"IF(D52=\"\",\"\",#REF!)","v":{"$error":"#REF!"}},{"$f":"IF(D52=\"\",\"\",#REF!)","v":{"$error":"#REF!"}},{"$f":"IF(D52=\"\",\"\",#REF!)","v":{"$error":"#REF!"}},{"$error":"#REF!"}]
[null,null,null,{"$f":"IF(#REF!=\"\",\"\",#REF!)","v":{"$error":"#REF!"}},{"$f":"IF(D53=\"\",\"\",#REF!)","v":{"$error":"#REF!"}},null,{"$error":"#REF!"},null,{"$f":"IF(D53=\"\",\"\",#REF!*#REF!)","v":{"$error":"#REF!"}},null,{"$error":"#REF!"},{"$error":"#REF!"},{"$f":"IF(D53=\"\",\"\",#REF!)","v":{"$error":"#REF!"}},{"$f":"IF(D53=\"\",\"\",#REF!)","v":{"$error":"#REF!"}},{"$f":"IF(D53=\"\",\"\",#REF!)","v":{"$error":"#REF!"}},{"$error":"#REF!"}]
[null,null,null,{"$f":"IF(#REF!=\"\",\"\",#REF!)","v":{"$error":"#REF!"}},{"$f":"IF(D54=\"\",\"\",#REF!)","v":{"$error":"#REF!"}},null,{"$error":"#REF!"},null,{"$f":"IF(D54=\"\",\"\",#REF!*#REF!)","v":{"$error":"#REF!"}},null,{"$error":"#REF!"},{"$error":"#REF!"},{"$f":"IF(D54=\"\",\"\",#REF!)","v":{"$error":"#REF!"}},{"$f":"IF(D54=\"\",\"\",#REF!)","v":{"$error":"#REF!"}},{"$f":"IF(D54=\"\",\"\",#REF!)","v":{"$error":"#REF!"}},{"$error":"#REF!"}]
[null,null,null,{"$f":"IF(#REF!=\"\",\"\",#REF!)","v":{"$error":"#REF!"}},{"$f":"IF(D55=\"\",\"\",#REF!)","v":{"$error":"#REF!"}},null,{"$error":"#REF!"},null,{"$f":"IF(D55=\"\",\"\",#REF!*#REF!)","v":{"$error":"#REF!"}},null,{"$error":"#REF!"},{"$error":"#REF!"},{"$f":"IF(D55=\"\",\"\",#REF!)","v":{"$error":"#REF!"}},{"$f":"IF(D55=\"\",\"\",#REF!)","v":{"$error":"#REF!"}},{"$f":"IF(D55=\"\",\"\",#REF!)","v":{"$error":"#REF!"}},{"$error":"#REF!"}]
[null,null,null,{"$f":"IF(#REF!=\"\",\"\",#REF!)","v":{"$error":"#REF!"}},{"$f":"IF(D56=\"\",\"\",#REF!)","v":{"$error":"#REF!"}},null,{"$error":"#REF!"},null,{"$f":"IF(D56=\"\",\"\",#REF!*#REF!)","v":{"$error":"#REF!"}},null,{"$error":"#REF!"},{"$error":"#REF!"},{"$f":"IF(D56=\"\",\"\",#REF!)","v":{"$error":"#REF!"}},{"$f":"IF(D56=\"\",\"\",#REF!)","v":{"$error":"#REF!"}},{"$f":"IF(D56=\"\",\"\",#REF!)","v":{"$error":"#REF!"}},{"$error":"#REF!"}]
[null,null,null,{"$f":"IF(#REF!=\"\",\"\",#REF!)","v":{"$error":"#REF!"}},{"$f":"IF(D57=\"\",\"\",#REF!)","v":{"$error":"#REF!"}},null,{"$error":"#REF!"},null,{"$f":"IF(D57=\"\",\"\",#REF!*#REF!)","v":{"$error":"#REF!"}},null,{"$error":"#REF!"},{"$error":"#REF!"},{"$f":"IF(D57=\"\",\"\",#REF!)","v":{"$error":"#REF!"}},{"$f":"IF(D57=\"\",\"\",#REF!)","v":{"$error":"#REF!"}},{"$f":"IF(D57=\"\",\"\",#REF!)","v":{"$error":"#REF!"}},{"$error":"#REF!"}]
[null,null,null,{"$f":"IF(#REF!=\"\",\"\",#REF!)","v":{"$error":"#REF!"}},{"$f":"IF(D58=\"\",\"\",#REF!)","v":{"$error":"#REF!"}},null,{"$error":"#REF!"},null,{"$f":"IF(D58=\"\",\"\",#REF!*#REF!)","v":{"$error":"#REF!"}},null,{"$error":"#REF!"},{"$error":"#REF!"},{"$f":"IF(D58=\"\",\"\",#REF!)","v":{"$error":"#REF!"}},{"$f":"IF(D58=\"\",\"\",#REF!)","v":{"$error":"#REF!"}},{"$f":"IF(D58=\"\",\"\",#REF!)","v":{"$error":"#REF!"}},{"$error":"#REF!"}]
[null,null,null,{"$f":"IF(#REF!=\"\",\"\",#REF!)","v":{"$error":"#REF!"}},{"$f":"IF(D59=\"\",\"\",#REF!)","v":{"$error":"#REF!"}},null,{"$error":"#REF!"},null,{"$f":"IF(D59=\"\",\"\",#REF!*#REF!)","v":{"$error":"#REF!"}},null,{"$error":"#REF!"},{"$error":"#REF!"},{"$f":"IF(D59=\"\",\"\",#REF!)","v":{"$error":"#REF!"}},{"$f":"IF(D59=\"\",\"\",#REF!)","v":{"$error":"#REF!"}},{"$f":"IF(D59=\"\",\"\",#REF!)","v":{"$error":"#REF!"}},{"$error":"#REF!"}]
[null,null,null,{"$f":"IF(#REF!=\"\",\"\",#REF!)","v":{"$error":"#REF!"}},{"$f":"IF(D60=\"\",\"\",#REF!)","v":{"$error":"#REF!"}},null,{"$error":"#REF!"},null,{"$f":"IF(D60=\"\",\"\",#REF!*#REF!)","v":{"$error":"#REF!"}},null,{"$error":"#REF!"},{"$error":"#REF!"},{"$f":"IF(D60=\"\",\"\",#REF!)","v":{"$error":"#REF!"}},{"$f":"IF(D60=\"\",\"\",#REF!)","v":{"$error":"#REF!"}},{"$f":"IF(D60=\"\",\"\",#REF!)","v":{"$error":"#REF!"}},{"$error":"#REF!"}]
[null,null,null,{"$f":"IF(#REF!=\"\",\"\",#REF!)","v":{"$error":"#REF!"}},{"$f":"IF(D61=\"\",\"\",#REF!)","v":{"$error":"#REF!"}},null,{"$error":"#REF!"},null,{"$f":"IF(D61=\"\",\"\",#REF!*#REF!)","v":{"$error":"#REF!"}},null,{"$error":"#REF!"},{"$error":"#REF!"},{"$f":"IF(D61=\"\",\"\",#REF!)","v":{"$error":"#REF!"}},{"$f":"IF(D61=\"\",\"\",#REF!)","v":{"$error":"#REF!"}},{"$f":"IF(D61=\"\",\"\",#REF!)","v":{"$error":"#REF!"}},{"$error":"#REF!"}]
[null,null,null,{"$f":"IF(#REF!=\"\",\"\",#REF!)","v":{"$error":"#REF!"}},{"$f":"IF(D62=\"\",\"\",#REF!)","v":{"$error":"#REF!"}},null,{"$error":"#REF!"},null,{"$f":"IF(D62=\"\",\"\",#REF!*#REF!)","v":{"$error":"#REF!"}},null,{"$error":"#REF!"},{"$error":"#REF!"},{"$f":"IF(D62=\"\",\"\",#REF!)","v":{"$error":"#REF!"}},{"$f":"IF(D62=\"\",\"\",#REF!)","v":{"$error":"#REF!"}},{"$f":"IF(D62=\"\",\"\",#REF!)","v":{"$error":"#REF!"}},{"$error":"#REF!"}]
[null,null,null,{"$f":"IF(#REF!=\"\",\"\",#REF!)","v":{"$error":"#REF!"}},{"$f":"IF(D63=\"\",\"\",#REF!)","v":{"$error":"#REF!"}},null,{"$error":"#REF!"},null,{"$f":"IF(D63=\"\",\"\",#REF!*#REF!)","v":{"$error":"#REF!"}},null,{"$error":"#REF!"},{"$error":"#REF!"},{"$f":"IF(D63=\"\",\"\",#REF!)","v":{"$error":"#REF!"}},{"$f":"IF(D63=\"\",\"\",#REF!)","v":{"$error":"#REF!"}},{"$f":"IF(D63=\"\",\"\",#REF!)","v":{"$error":"#REF!"}},{"$error":"#REF!"}]
[null,null,null,{"$f":"IF(#REF!=\"\",\"\",#REF!)","v":{"$error":"#REF!"}},{"$f":"IF(D64=\"\",\"\",#REF!)","v":{"$error":"#REF!"}},null,{"$error":"#REF!"},null,{"$f":"IF(D64=\"\",\"\",#REF!*#REF!)","v":{"$error":"#REF!"}},null,{"$error":"#REF!"},{"$error":"#REF!"},{"$f":"IF(D64=\"\",\"\",#REF!)","v":{"$error":"#REF!"}},{"$f":"IF(D64=\"\",\"\",#REF!)","v":{"$error":"#REF!"}},{"$f":"IF(D64=\"\",\"\",#REF!)","v":{"$error":"#REF!"}},{"$error":"#REF!"}]
[null,null,null,{"$f":"IF(#REF!=\"\",\"\",#REF!)","v":{"$error":"#REF!"}},{"$f":"IF(D65=\"\",\"\",#REF!)","v":{"$error":"#REF!"}},null,{"$error":"#REF!"},null,{"$f":"IF(D65=\"\",\"\",#REF!*#REF!)","v":{"$error":"#REF!"}},null,{"$error":"#REF!"},{"$error":"#REF!"},{"$f":"IF(D65=\"\",\"\",#REF!)","v":{"$error":"#REF!"}},{"$f":"IF(D65=\"\",\"\",#REF!)","v":{"$error":"#REF!"}},{"$f":"IF(D65=\"\",\"\",#REF!)","v":{"$error":"#REF!"}},{"$error":"#REF!"}]
[null,null,null,{"$f":"IF(#REF!=\"\",\"\",#REF!)","v":{"$error":"#REF!"}},{"$f":"IF(D66=\"\",\"\",#REF!)","v":{"$error":"#REF!"}},null,{"$error":"#REF!"},null,{"$f":"IF(D66=\"\",\"\",#REF!*#REF!)","v":{"$error":"#REF!"}},null,{"$error":"#REF!"},{"$error":"#REF!"},{"$f":"IF(D66=\"\",\"\",#REF!)","v":{"$error":"#REF!"}},{"$f":"IF(D66=\"\",\"\",#REF!)","v":{"$error":"#REF!"}},{"$f":"IF(D66=\"\",\"\",#REF!)","v":{"$error":"#REF!"}},{"$error":"#REF!"}]
[null,null,null,{"$f":"IF(#REF!=\"\",\"\",#REF!)","v":{"$error":"#REF!"}},{"$f":"IF(D67=\"\",\"\",#REF!)","v":{"$error":"#REF!"}},null,{"$error":"#REF!"},null,{"$f":"IF(D67=\"\",\"\",#REF!*#REF!)","v":{"$error":"#REF!"}},null,{"$error":"#REF!"},{"$error":"#REF!"},{"$f":"IF(D67=\"\",\"\",#REF!)","v":{"$error":"#REF!"}},{"$f":"IF(D67=\"\",\"\",#REF!)","v":{"$error":"#REF!"}},{"$f":"IF(D67=\"\",\"\",#REF!)","v":{"$error":"#REF!"}},{"$error":"#REF!"}]
[null,null,null,{"$f":"IF(#REF!=\"\",\"\",#REF!)","v":{"$error":"#REF!"}},{"$f":"IF(D68=\"\",\"\",#REF!)","v":{"$error":"#REF!"}},null,{"$error":"#REF!"},null,{"$f":"IF(D68=\"\",\"\",#REF!*#REF!)","v":{"$error":"#REF!"}},null,{"$error":"#REF!"},{"$error":"#REF!"},{"$f":"IF(D68=\"\",\"\",#REF!)","v":{"$error":"#REF!"}},{"$f":"IF(D68=\"\",\"\",#REF!)","v":{"$error":"#REF!"}},{"$f":"IF(D68=\"\",\"\",#REF!)","v":{"$error":"#REF!"}},{"$error":"#REF!"}]
[null,null,null,{"$f":"IF(#REF!=\"\",\"\",#REF!)","v":{"$error":"#REF!"}},{"$f":"IF(D69=\"\",\"\",#REF!)","v":{"$error":"#REF!"}},null,{"$error":"#REF!"},null,{"$f":"IF(D69=\"\",\"\",#REF!*#REF!)","v":{"$error":"#REF!"}},null,{"$error":"#REF!"},{"$error":"#REF!"},{"$f":"IF(D69=\"\",\"\",#REF!)","v":{"$error":"#REF!"}},{"$f":"IF(D69=\"\",\"\",#REF!)","v":{"$error":"#REF!"}},{"$f":"IF(D69=\"\",\"\",#REF!)","v":{"$error":"#REF!"}},{"$error":"#REF!"}]
[null,null,null,{"$f":"IF(#REF!=\"\",\"\",#REF!)","v":{"$error":"#REF!"}},{"$f":"IF(D70=\"\",\"\",#REF!)","v":{"$error":"#REF!"}},null,{"$error":"#REF!"},null,{"$f":"IF(D70=\"\",\"\",#REF!*#REF!)","v":{"$error":"#REF!"}},null,{"$error":"#REF!"},{"$error":"#REF!"},{"$f":"IF(D70=\"\",\"\",#REF!)","v":{"$error":"#REF!"}},{"$f":"IF(D70=\"\",\"\",#REF!)","v":{"$error":"#REF!"}},{"$f":"IF(D70=\"\",\"\",#REF!)","v":{"$error":"#REF!"}},{"$error":"#REF!"}]
[null,null,null,{"$f":"IF(#REF!=\"\",\"\",#REF!)","v":{"$error":"#REF!"}},{"$f":"IF(D71=\"\",\"\",#REF!)","v":{"$error":"#REF!"}},null,{"$error":"#REF!"},null,{"$f":"IF(D71=\"\",\"\",#REF!*#REF!)","v":{"$error":"#REF!"}},null,{"$error":"#REF!"},{"$error":"#REF!"},{"$f":"IF(D71=\"\",\"\",#REF!)","v":{"$error":"#REF!"}},{"$f":"IF(D71=\"\",\"\",#REF!)","v":{"$error":"#REF!"}},{"$f":"IF(D71=\"\",\"\",#REF!)","v":{"$error":"#REF!"}},{"$error":"#REF!"}]
[null,null,null,{"$f":"IF(#REF!=\"\",\"\",#REF!)","v":{"$error":"#REF!"}},{"$f":"IF(D72=\"\",\"\",#REF!)","v":{"$error":"#REF!"}},null,{"$error":"#REF!"},null,{"$f":"IF(D72=\"\",\"\",#REF!*#REF!)","v":{"$error":"#REF!"}},null,{"$error":"#REF!"},{"$error":"#REF!"},{"$f":"IF(D72=\"\",\"\",#REF!)","v":{"$error":"#REF!"}},{"$f":"IF(D72=\"\",\"\",#REF!)","v":{"$error":"#REF!"}},{"$f":"IF(D72=\"\",\"\",#REF!)","v":{"$error":"#REF!"}},{"$error":"#REF!"}]
[null,null,null,{"$f":"IF(#REF!=\"\",\"\",#REF!)","v":{"$error":"#REF!"}},{"$f":"IF(D73=\"\",\"\",#REF!)","v":{"$error":"#REF!"}},null,{"$error":"#REF!"},null,{"$f":"IF(D73=\"\",\"\",#REF!*#REF!)","v":{"$error":"#REF!"}},null,{"$error":"#REF!"},{"$error":"#REF!"},{"$f":"IF(D73=\"\",\"\",#REF!)","v":{"$error":"#REF!"}},{"$f":"IF(D73=\"\",\"\",#REF!)","v":{"$error":"#REF!"}},{"$f":"IF(D73=\"\",\"\",#REF!)","v":{"$error":"#REF!"}},{"$error":"#REF!"}]
[null,null,null,{"$f":"IF(#REF!=\"\",\"\",#REF!)","v":{"$error":"#REF!"}},{"$f":"IF(D74=\"\",\"\",#REF!)","v":{"$error":"#REF!"}},null,{"$error":"#REF!"},null,{"$f":"IF(D74=\"\",\"\",#REF!*#REF!)","v":{"$error":"#REF!"}},null,{"$error":"#REF!"},{"$error":"#REF!"},{"$f":"IF(D74=\"\",\"\",#REF!)","v":{"$error":"#REF!"}},{"$f":"IF(D74=\"\",\"\",#REF!)","v":{"$error":"#REF!"}},{"$f":"IF(D74=\"\",\"\",#REF!)","v":{"$error":"#REF!"}},{"$error":"#REF!"}]
[null,null,null,{"$f":"IF(#REF!=\"\",\"\",#REF!)","v":{"$error":"#REF!"}},{"$f":"IF(D75=\"\",\"\",#REF!)","v":{"$error":"#REF!"}},null,{"$error":"#REF!"},null,{"$f":"IF(D75=\"\",\"\",#REF!*#REF!)","v":{"$error":"#REF!"}},null,{"$error":"#REF!"},{"$error":"#REF!"},{"$f":"IF(D75=\"\",\"\",#REF!)","v":{"$error":"#REF!"}},{"$f":"IF(D75=\"\",\"\",#REF!)","v":{"$error":"#REF!"}},{"$f":"IF(D75=\"\",\"\",#REF!)","v":{"$error":"#REF!"}},{"$error":"#REF!"}]
[null,null,null,{"$f":"IF(#REF!=\"\",\"\",#REF!)","v":{"$error":"#REF!"}},{"$f":"IF(D76=\"\",\"\",#REF!)","v":{"$error":"#REF!"}},null,{"$error":"#REF!"},null,{"$f":"IF(D76=\"\",\"\",#REF!*#REF!)","v":{"$error":"#REF!"}},null,{"$error":"#REF!"},{"$error":"#REF!"},{"$f":"IF(D76=\"\",\"\",#REF!)","v":{"$error":"#REF!"}},{"$f":"IF(D76=\"\",\"\",#REF!)","v":{"$error":"#REF!"}},{"$f":"IF(D76=\"\",\"\",#REF!)","v":{"$error":"#REF!"}},{"$error":"#REF!"}]
[null,null,null,{"$f":"IF(#REF!=\"\",\"\",#REF!)","v":{"$error":"#REF!"}},{"$f":"IF(D77=\"\",\"\",#REF!)","v":{"$error":"#REF!"}},null,{"$error":"#REF!"},null,{"$f":"IF(D77=\"\",\"\",#REF!*#REF!)","v":{"$error":"#REF!"}},null,{"$f":"IF(E77=\"\",\"\",\"เลือกปริ้น\")","v":{"$error":"#REF!"}},{"$error":"#REF!"},{"$f":"IF(D77=\"\",\"\",#REF!)","v":{"$error":"#REF!"}},{"$f":"IF(D77=\"\",\"\",#REF!)","v":{"$error":"#REF!"}},{"$f":"IF(D77=\"\",\"\",#REF!)","v":{"$error":"#REF!"}},{"$error":"#REF!"}]
[null,null,null,{"$f":"IF(#REF!=\"\",\"\",#REF!)","v":{"$error":"#REF!"}},{"$f":"IF(D78=\"\",\"\",#REF!)","v":{"$error":"#REF!"}},null,{"$error":"#REF!"},null,{"$f":"IF(D78=\"\",\"\",#REF!*#REF!)","v":{"$error":"#REF!"}},null,{"$error":"#REF!"},{"$error":"#REF!"},{"$f":"IF(D78=\"\",\"\",#REF!)","v":{"$error":"#REF!"}},{"$f":"IF(D78=\"\",\"\",#REF!)","v":{"$error":"#REF!"}},{"$f":"IF(D78=\"\",\"\",#REF!)","v":{"$error":"#REF!"}},{"$error":"#REF!"}]
[null,null,null,{"$f":"IF(#REF!=\"\",\"\",#REF!)","v":{"$error":"#REF!"}},{"$f":"IF(D79=\"\",\"\",#REF!)","v":{"$error":"#REF!"}},null,{"$error":"#REF!"},null,{"$f":"IF(D79=\"\",\"\",#REF!*#REF!)","v":{"$error":"#REF!"}},null,{"$error":"#REF!"},{"$error":"#REF!"},{"$f":"IF(D79=\"\",\"\",#REF!)","v":{"$error":"#REF!"}},{"$f":"IF(D79=\"\",\"\",#REF!)","v":{"$error":"#REF!"}},{"$f":"IF(D79=\"\",\"\",#REF!)","v":{"$error":"#REF!"}},{"$error":"#REF!"}]
[null,null,null,{"$f":"IF(#REF!=\"\",\"\",#REF!)","v":{"$error":"#REF!"}},{"$f":"IF(D80=\"\",\"\",#REF!)","v":{"$error":"#REF!"}},null,{"$error":"#REF!"},null,{"$f":"IF(D80=\"\",\"\",#REF!*#REF!)","v":{"$error":"#REF!"}},null,{"$error":"#REF!"},{"$error":"#REF!"},{"$f":"IF(D80=\"\",\"\",#REF!)","v":{"$error":"#REF!"}},{"$f":"IF(D80=\"\",\"\",#REF!)","v":{"$error":"#REF!"}},{"$f":"IF(D80=\"\",\"\",#REF!)","v":{"$error":"#REF!"}},{"$error":"#REF!"}]
[null,null,null,{"$f":"IF(#REF!=\"\",\"\",#REF!)","v":{"$error":"#REF!"}},{"$f":"IF(D81=\"\",\"\",#REF!)","v":{"$error":"#REF!"}},null,{"$error":"#REF!"},null,{"$f":"IF(D81=\"\",\"\",#REF!*#REF!)","v":{"$error":"#REF!"}},null,{"$error":"#REF!"},{"$error":"#REF!"},{"$f":"IF(D81=\"\",\"\",#REF!)","v":{"$error":"#REF!"}},{"$f":"IF(D81=\"\",\"\",#REF!)","v":{"$error":"#REF!"}},{"$f":"IF(D81=\"\",\"\",#REF!)","v":{"$error":"#REF!"}},{"$error":"#REF!"}]
[null,null,null,{"$f":"IF(#REF!=\"\",\"\",#REF!)","v":{"$error":"#REF!"}},{"$f":"IF(D82=\"\",\"\",#REF!)","v":{"$error":"#REF!"}},null,{"$error":"#REF!"},null,{"$f":"IF(D82=\"\",\"\",#REF!*#REF!)","v":{"$error":"#REF!"}},null,{"$error":"#REF!"},{"$error":"#REF!"},{"$f":"IF(D82=\"\",\"\",#REF!)","v":{"$error":"#REF!"}},{"$f":"IF(D82=\"\",\"\",#REF!)","v":{"$error":"#REF!"}},{"$f":"IF(D82=\"\",\"\",#REF!)","v":{"$error":"#REF!"}},{"$error":"#REF!"}]
[null,null,null,{"$f":"IF(#REF!=\"\",\"\",#REF!)","v":{"$error":"#REF!"}},{"$f":"IF(D83=\"\",\"\",#REF!)","v":{"$error":"#REF!"}},null,{"$error":"#REF!"},null,{"$f":"IF(D83=\"\",\"\",#REF!*#REF!)","v":{"$error":"#REF!"}},null,{"$error":"#REF!"},{"$error":"#REF!"},{"$f":"IF(D83=\"\",\"\",#REF!)","v":{"$error":"#REF!"}},{"$f":"IF(D83=\"\",\"\",#REF!)","v":{"$error":"#REF!"}},{"$f":"IF(D83=\"\",\"\",#REF!)","v":{"$error":"#REF!"}},{"$error":"#REF!"}]
[null,null,null,{"$f":"IF(#REF!=\"\",\"\",#REF!)","v":{"$error":"#REF!"}},{"$f":"IF(D84=\"\",\"\",#REF!)","v":{"$error":"#REF!"}},null,{"$error":"#REF!"},null,{"$f":"IF(D84=\"\",\"\",#REF!*#REF!)","v":{"$error":"#REF!"}},null,{"$error":"#REF!"},{"$error":"#REF!"},{"$f":"IF(D84=\"\",\"\",#REF!)","v":{"$error":"#REF!"}},{"$f":"IF(D84=\"\",\"\",#REF!)","v":{"$error":"#REF!"}},{"$f":"IF(D84=\"\",\"\",#REF!)","v":{"$error":"#REF!"}},{"$error":"#REF!"}]
[null,null,null,{"$f":"IF(#REF!=\"\",\"\",#REF!)","v":{"$error":"#REF!"}},{"$f":"IF(D85=\"\",\"\",#REF!)","v":{"$error":"#REF!"}},null,{"$error":"#REF!"},null,{"$f":"IF(D85=\"\",\"\",#REF!*#REF!)","v":{"$error":"#REF!"}},null,{"$error":"#REF!"},{"$error":"#REF!"},{"$f":"IF(D85=\"\",\"\",#REF!)","v":{"$error":"#REF!"}},{"$f":"IF(D85=\"\",\"\",#REF!)","v":{"$error":"#REF!"}},{"$f":"IF(D85=\"\",\"\",#REF!)","v":{"$error":"#REF!"}},{"$error":"#REF!"}]
[null,null,null,null,"รวมวงเงินไม่เกิน",{"$f":"แนบท้ายรายงาน2!I24","v":2000},null,{"$f":"BAHTTEXT(F86)","v":"สองพันบาทถ้วน"},null,null,"เลือกปริ้น"]
[null,null,null,null,"ข้อเสนอ",null,null,null,null,null,"เลือกปริ้น"]
[null,null,null,null,"จึงเรียนมาเพื่อโปรดทราบ และพิจารณาอนุมัติ",null,null,null,null,null,"เลือกปริ้น"]
[null,null,null,null,null,null,"     (ลงชื่อ)................................................................",null,null,null,"เลือกปริ้น"]
[null,null,null,null,null,null,null,{"$f":"DATABASE!D13","v":"นายดำรงค์  สีระสูงเนิน"},null,null,"เลือกปริ้น"]
[null,null,null,null,null,null,null,{"$f":"DATABASE!D14","v":"ผู้อำนวยการโรงพยาบาลส่งเสริมสุขภาพตำบลบ้านกระเบื้องน้อย"},null,null,"เลือกปริ้น"]
[null,"เรียน  ",{"$f":"C6","v":"สาธารณสุขอำเภอหนองหงส์"},null,null,null,null,null,null,null,"เลือกปริ้น"]
[null,null,null," - เพื่อโปรดทราบ/พิจารณาอนุมัติ",null,null,null,null,null,null,"เลือกปริ้น"]
[null,null,null,null,null,null,null,"o อนุมัติ    o ไม่อนุมัติ",null,null,"เลือกปริ้น"]
[null,null,null,null,null,null,null,"                         เนื่องจาก..................................",null,null,"เลือกปริ้น"]
[null,null,null,null,{"$f":"DATABASE!C7","v":"นางจุรีพร  บัวลอย"},null,null,null,null,null,"เลือกปริ้น"]
[null,null,null,null,{"$f":"DATABASE!D7","v":"นักวิชาการสาธารณสุข ชำนาญการ"},null,null,null,null,null,"เลือกปริ้น"]
[null,null,null,null,null,null,null,{"$f":"DATABASE!C6","v":"นายประหยัด  นงประโคน"},null,null,"เลือกปริ้น"]
[null,null,null,null,null,null,null,{"$f":"DATABASE!D6","v":"สาธารณสุขอำเภอหนองหงส์"},null,null,"เลือกปริ้น"]

{"sheet":"ใบเสนอราคา","index":4,"n_rows":24,"n_cols":9,"rows_kept":24,"cut":false,"hidden":false,"merged":[[18,1,18,5],[21,3,21,5],[22,3,22,5],[23,3,23,5],[8,1,8,6],[10,3,10,4],[0,1,0,6],[1,1,1,6],[2,1,2,6],[3,1,3,6],[4,3,4,5]]}
[null,"ใบเสนอราคา"]
[null,{"$f":"DATABASE!C19","v":"หจก. เอกสารซีพี"}]
[null,{"$f":"DATABASE!C20","v":"95/10-11 ถ.อินจันทร์รรงค์  ต.ในเมือง อ.เมือง จ.บุรีรัมย์"}]
[null,{"$f":"DATABASE!D20","v":"โทรศัพท์ 0 4461 4005"}]
[null,null,"วันที่","2562-08-22",null,null,null,"รายละเอียดให้ไปบันทึกใน Sheet แนบท้ายรายงาน"]
[null,"เรื่อง  ","เสนอราคาจ่างถ่ายเอกสารพร้อมเข้าเล่ม"]
[null,"เรียน  ",{"$f":"DATABASE!B11","v":"เจ้าหน้าที่"}]
[null,null,{"$f":"DATABASE!C19&\" \"&DATABASE!C20&\" \"&DATABASE!D20","v":"หจก. เอกสารซีพี 95/10-11 ถ.อินจันทร์รรงค์  ต.ในเมือง อ.เมือง จ.บุรีรัมย์ โทรศัพท์ 0 4461 4005"}]
[null,{"$f":"DATABASE!B21&\" \"&DATABASE!C21&\"   \"&\"ข้าพเจ้าเป็นผู้มีคุณสมบัติครบถ้วนตามที่กำหนดและไม่เป็นผู้ทิ้งงานของทางราชการ ขอเสนอพัสดุ \"","v":"เลขผู้เสียภาษี 313555000044   ข้าพเจ้าเป็นผู้มีคุณสมบัติครบถ้วนตามที่กำหนดและไม่เป็นผู้ทิ้งงานของทางราชการ ขอเสนอพัสดุ "}]
[null,"รวมทั้งบริการและกำหนดเวลาส่งมอบ ดังต่อไปนี้"]
[null,"ที่","รายการ","จำนวนหน่วย",null,"ราคาต่อหน่วย","รวมเงิน",null,"<< เลือกตัวกรองก่อนปริ้นทุกครั้ง"]
[null,{"$f":"IF(C12=\"\",\"\",1)","v":1},{"$f":"IF(แนบท้ายรายงาน2!C6=\"\",\"\",แนบท้ายรายงาน2!C6)","v":"ค่าถ่ายเอกสารสี และขาวดำ จำนวน 98 หน้า พร้อมเข้าเล่ม(ส่งเขต)"},{"$f":"แนบท้ายรายงาน2!D6","v":1},{"$f":"แนบท้ายรายงาน2!E6","v":"เล่ม"},{"$f":"แนบท้ายรายงาน2!H6","v":700},{"$f":"แนบท้ายรายงาน2!I6","v":700},{"$f":"IF(C12=\"\",\"\",\"เลือกปริ้น\")","v":"เลือกปริ้น"}]
[null,{"$f":"IF(C13=\"\",\"\",B12+1)","v":2},{"$f":"IF(แนบท้ายรายงาน2!C7=\"\",\"\",แนบท้ายรายงาน2!C7)","v":"ค่าถ่ายเอกสารสี และขาวดำ จำนวน 141 หน้า พร้อมเข้าเล่ม (ส่งเขต)"},{"$f":"แนบท้ายรายงาน2!D7","v":1},{"$f":"แนบท้ายรายงาน2!E7","v":"เล่ม"},{"$f":"แนบท้ายรายงาน2!H7","v":1018},{"$f":"แนบท้ายรายงาน2!I7","v":1018},{"$f":"IF(C13=\"\",\"\",\"เลือกปริ้น\")","v":"เลือกปริ้น"}]
[null,{"$f":"IF(C14=\"\",\"\",B13+1)","v":3},{"$f":"IF(แนบท้ายรายงาน2!C8=\"\",\"\",แนบท้ายรายงาน2!C8)","v":"ค่าถ่ายเอกสารขาวดำ จำนวน 98 หน้า พร้อมเข้าเล่ม(นำเสนอ สสจ.)"},{"$f":"แนบท้ายรายงาน2!D8","v":2},{"$f":"แนบท้ายรายงาน2!E8","v":"เล่ม"},{"$f":"แนบท้ายรายงาน2!H8","v":141},{"$f":"แนบท้ายรายงาน2!I8","v":282},"เลือกปริ้น"]
[null,"",{"$f":"IF(แนบท้ายรายงาน2!C18=\"\",\"\",แนบท้ายรายงาน2!C18)","v":""},{"$f":"แนบท้ายรายงาน2!D18","v":0},{"$f":"แนบท้ายรายงาน2!E18","v":0},{"$f":"แนบท้ายรายงาน2!H18","v":0},{"$f":"แนบท้ายรายงาน2!I18","v":0},""]
[null,"",{"$f":"IF(แนบท้ายรายงาน2!C19=\"\",\"\",แนบท้ายรายงาน2!C19)","v":""},{"$f":"แนบท้ายรายงาน2!D19","v":0},{"$f":"แนบท้ายรายงาน2!E19","v":0},{"$f":"แนบท้ายรายงาน2!H19","v":0},{"$f":"แนบท้ายรายงาน2!I19","v":0},""]
[null,"",{"$f":"IF(แนบท้ายรายงาน2!C20=\"\",\"\",แนบท้ายรายงาน2!C20)","v":""},{"$f":"แนบท้ายรายงาน2!D20","v":0},{"$f":"แนบท้ายรายงาน2!E20","v":0},{"$f":"แนบท้ายรายงาน2!H20","v":0},{"$f":"แนบท้ายรายงาน2!I20","v":0},""]
[null,"",{"$f":"IF(แนบท้ายรายงาน2!C21=\"\",\"\",แนบท้ายรายงาน2!C21)","v":""},{"$f":"แนบท้ายรายงาน2!D21","v":0},{"$f":"แนบท้ายรายงาน2!E21","v":0},{"$f":"แนบท้ายรายงาน2!H21","v":0},{"$f":"แนบท้ายรายงาน2!I21","v":0},""]
[null,"รวมเป็นเงินทั้งสิ้น",null,null,null,null,{"$f":"SUM(G12:G18)","v":2000},"เลือกปริ้น"]
[null,"ตัวอักษร",{"$f":"\"(\"&BAHTTEXT(G19)&\")\"","v":"(สองพันบาทถ้วน)"},null,null,null,null,"เลือกปริ้น"]
[null,null,"ซึ่งเป็นราคาที่รวมภาษีมูลค่าเพิ่ม รวมทั้งภาษีอากรอื่น และค่าใช้จ่ายทั้งปวงไว้ด้วยแล้ว",null,null,null,null,"เลือกปริ้น"]
[null,null,null,"ขอแสดงความนับถือ",null,null,null,"เลือกปริ้น"]
[null,null,null,{"$f":"DATABASE!D19","v":"........................................................."},null,null,null,"เลือกปริ้น"]
[null,null,null,"ผู้เสนอราคา",null,null,null,"เลือกปริ้น"]

{"sheet":"รายงานจัดจ้าง","index":5,"n_rows":40,"n_cols":14,"rows_kept":40,"cut":false,"hidden":false,"merged":[[18,2,18,3],[0,1,0,11],[13,5,13,11],[1,3,1,11],[4,2,4,9],[12,1,12,11],[2,2,2,3],[2,7,2,11],[10,1,10,11],[23,1,23,11],[38,7,38,11],[37,3,37,5],[38,1,38,6],[33,3,33,5],[33,7,33,10],[37,7,37,11],[30,3,30,11],[26,4,26,5],[27,4,27,5],[28,4,28,5]]}
[1,"บันทึกข้อความ"]
["ใส่เลขลำดับ CG","ส่วนราชการ",null,{"$f":"DATABASE!C4&\" \"&DATABASE!D4","v":"สำนักงานสาธารณสุขอำเภอหนองหงส์ อำเภอหนองหงส์  จังหวัดบุรีรัมย์ "}]
[null,"ที่",{"$f":"DATABASE!C3","v":"บร 1332.1/"},null,1016,null,"วันที่","2562-08-22"]
[null,"เรื่อง",{"$f":"'เห็นชอบรวม(น1)'!C5","v":"ถ่ายเอกสารงานราชการและเข้าเล่ม"}]
[null,"เรียน",{"$f":"\"ผู้ว่าราชการจังหวัดบุรีรัมย์ (โดย\"&DATABASE!D6&\"ปฏิบัติราชการแทน)\"","v":"ผู้ว่าราชการจังหวัดบุรีรัมย์ (โดยสาธารณสุขอำเภอหนองหงส์ปฏิบัติราชการแทน)"}]
[null,null,null,"ด้วย",{"$f":"DATABASE!C15","v":"โรงพยาบาลส่งเสริมสุขภาพตำบลบ้านกระเบื้องน้อย"},null,null,"จะดำเนินการขอจ้างบริการ จำนวน",null,null,{"$f":"แนบท้ายรายงาน2!E2","v":3},{"$f":"แนบท้ายรายงาน2!F2","v":"รายการ"}]
[null,{"$f":"\"โดยการจ้างบริการ\"&CG!B3&\" \"&#REF!","v":{"$error":"#REF!"}}]
[null,"โดยวิธีเฉพาะเจาะจง เพื่อใช้ในงานราชการ ตามหนังสือที่",null,null,null,null,{"$f":"'เห็นชอบรวม(น1)'!C4&'เห็นชอบรวม(น1)'!E4&\"    ลงวันที่ \"","v":"บร 1332.1.4/166    ลงวันที่ "},null,null,{"$f":"'เห็นชอบรวม(น1)'!H4","v":"2562-08-21"},"(เอกสารที่ 1)"]
[null,null,1,"เหตุผลและความจำเป็นที่ต้องจ้าง "]
[null,null,null,"เนื่องจาก โรงพยาบาลส่งเสริมสุขภาพตำบลบ้านกระเบื้องน้อย ต.หนองชัยศรี อ.หนองหงส์ จ.บุรีรัมย์"]
[null,{"$f":"'เห็นชอบรวม(น1)'!B8:J8","v":"                                ด้วย สำนักโรคไม่ติดต่อ กรมควบคุมโรค ได้เชิญส่งผลงานการดำเนินงานทีมป้องกันการบาดเจ็บทางถนนระดับตำบล (RTI team) และทีมป้องกันเด็กจมน้ำ ประจำปี 2562 โดย สสจ.บุรีรัมย์ได้เชิญนำเสนอผลงานการดำเนินงาน โดยเตรียมเอกสารรูปเล่มพร้อมไฟล์นำเสนอ ในวันที่ 23 สิงหาคม 2562นั้น และส่งรูปเล่มทั้ง 2 กิจกรรมภายในวันที่ 30 กันยายน 2562 นั้น ในการนี้ โรงพยาบาลส่งเสริมสุขภาพตำบลบ้านกระเบื้องน้อย ต.หนองชัยศรี ได้ส่งผลงานนำเสนอการป้องกันบาดเจ็บทางถนน ระดับ Excellent เป็นปีที่ 2 และทีมป้องกันเด็กจมน้ำ ระดับทอง ดังนั้น เพื่อให้การดำเนินงานเป็นไปด้วยความเรียบร้อย มีประสิทธิภาพ จึงใคร่ขอจัดจ้างถ่ายเอกสารเพื่อใช้ในงานราชการต่อไป"}]
[null,null,null,{"$f":"'เห็นชอบรวม(น1)'!C5","v":"ถ่ายเอกสารงานราชการและเข้าเล่ม"}]
[null,{"$f":"DATABASE!C15&\" \"&DATABASE!D15","v":"โรงพยาบาลส่งเสริมสุขภาพตำบลบ้านกระเบื้องน้อย อำเภอหนองหงส์ จังหวัดบุรีรัมย์"}]
[null,null,2,"รายละเอียดของพัสดุ",null,"ปรากฎตามเงื่อนไข และรายละเอียดขอบเขตงานจ้าง (เอกสารแนบท้าย)"]
[null,null,3,"ราคากลางและรายละเอียดของราคากลาง ",null,null,{"$f":"แนบท้ายรายงาน2!I24","v":2000},"บาท"]
[null,"ลงวันที่ 5 ตุลาคม 2560 เรื่อง แนวทางการบริหารจัดการโครงการพัฒนาระบบบริการดูแลระยะยาวด้านสาธารณสุขสำหรับ"]
[null,"ผู้สูงอายุที่มีภาวะพึ่งพิง (Long Term Care) (เอกสารแนบ 4)"]
[null,null,4,{"$f":"\"วงเงินที่จะจ้าง โดยขอเบิกเงินบำรุงของหน่วยงาน สังกัด \"&DATABASE!C15","v":"วงเงินที่จะจ้าง โดยขอเบิกเงินบำรุงของหน่วยงาน สังกัด โรงพยาบาลส่งเสริมสุขภาพตำบลบ้านกระเบื้องน้อย"}]
[null,"จำนวน",{"$f":"แนบท้ายรายงาน2!I24","v":2000},null,{"$f":"\"บาท \"&\"(\"&BAHTTEXT(C19)&\")\"","v":"บาท (สองพันบาทถ้วน)"},null,null,null,null,null,null,null,{"$f":"ใบสั่งจ้าง!J5","v":"2562-08-23"},"<<< วันที่รับใบสั่ง ในใบสั่งจ้าง"]
[null,null,5,"กำหนดเวลาที่ต้องการใช้พัสดุ      ",null,"หรือให้งานนั้นแล้วเสร็จ",null,null,null,null,null,null,{"$f":"ใบสั่งจ้าง!F97+รายงานจัดจ้าง!G20","v":"2562-08-23"},"<<< วันทำการสิ้นเดือนนั้นๆ"]
[null,null,null,{"$f":"\"กำหนดเวลาการส่งมอบพัสดุหรือให้งานแล้วเสร็จภายใน \"&M21&\" \"&N21&\" นับจากวันที่ได้รับใบสั่งจ้าง\"","v":"กำหนดเวลาการส่งมอบพัสดุหรือให้งานแล้วเสร็จภายใน 30 วันทำการ นับจากวันที่ได้รับใบสั่งจ้าง"},null,null,null,null,null,null,null,null,30,"วันทำการ"]
[]
[null,null,6,"วิธีที่จะจ้าง และเหตุผลที่ต้องจ้าง    "]
[null,"                 โดยวิธีเฉพาะเจาะจง เนื่องจาก การจัดจ้างพัสดุที่มีการผลิต จำหน่าย ก่อสร้าง หรือให้บริการวไป และมีวงเงินในการจัดซื้อจัดจ้างครั้งหนึ่งไม่เกินวงเงินตามที่กำหนดในกฎกระทรวง"]
[null,null,7,"หลักเกณฑ์การพิจารณาคัดเลือกข้อเสนอ ",null,null,"การพิจารณาคัดเลือกข้อเสนอโดยใช้เกณฑ์ราคา"]
[null,null,8,"การขออนุมัติแต่งตั้งผู้ตรวจรับพัสดุ  ",null,null," การแต่งตั้งผู้ตรวจรับพัสดุ โดยวิธีเฉพาะเจาะจง",null,null,null,null,null,"เลือก คณะกรรมการ"]
[null,null,null,{"$f":"IF(DATABASE!C17=\"\",\"\",1)","v":""},{"$f":"DATABASE!C16","v":"นายสมยศ  นงประโคน"},null,{"$f":"DATABASE!D16","v":"เจ้าพนักงานสาธารณสุข อาวุโส"},null,null,null,{"$f":"IF(DATABASE!C17=\"\",\"ผู้ตรวจรับพัสดุ\",\"ประธานกรรมการ\")","v":"ผู้ตรวจรับพัสดุ"},null,"เลือกปริ้น"]
[null,null,null,{"$f":"IF(DATABASE!C17=\"\",\"\",2)","v":""},{"$f":"IF(DATABASE!C17=\"\",\"\",DATABASE!C17)","v":""},null,{"$f":"IF(DATABASE!C17=\"\",\"\",DATABASE!D17)","v":""},null,null,null,{"$f":"IF(DATABASE!C17=\"\",\"\",\"กรรมการ\")","v":""},null,{"$f":"IF(DATABASE!C17=\"\",\"\",\"เลือกปริ้น\")","v":""}]
[null,null,null,{"$f":"IF(DATABASE!C18=\"\",\"\",3)","v":""},{"$f":"IF(DATABASE!C18=\"\",\"\",DATABASE!C18)","v":""},null,{"$f":"IF(DATABASE!C18=\"\",\"\",DATABASE!D18)","v":""},null,null,null,{"$f":"IF(DATABASE!C18=\"\",\"\",\"กรรมการ\")","v":""},null,{"$f":"IF(DATABASE!C18=\"\",\"\",\"เลือกปริ้น\")","v":""}]
[null,null,null,"จึงเรียนมาเพื่อโปรดพิจารณา หากเห็นชอบขอได้โปรด"]
[null,null,1,{"$f":"\"เห็นชอบอนุมัติดำเนินการจ้าง \"&DATABASE!C19&\" \"&DATABASE!C20&\" เพื่อจ้าง \"&แนบท้ายรายงาน2!C6&\" จำนวน \"&แนบท้ายรายงาน2!D6&\" และ \"&แนบท้ายรายงาน2!C7&\" จำนวน \"&แนบท้ายรายงาน2!D7&\" \"&แนบท้ายรายงาน2!E7&\" เป็นจำนวนเงินทั้งสิ้น  \"&แนบท้ายรายงาน2!I24&\" บาท \"&\"(\"&BAHTTEXT(G15)&\")\"","v":"เห็นชอบอนุมัติดำเนินการจ้าง หจก. เอกสารซีพี 95/10-11 ถ.อินจันทร์รรงค์  ต.ในเมือง อ.เมือง จ.บุรีรัมย์ เพื่อจ้าง ค่าถ่ายเอกสารสี และขาวดำ จำนวน 98 หน้า พร้อมเข้าเล่ม(ส่งเขต) จำนวน 1 และ ค่าถ่ายเอกสารสี และขาวดำ จำนวน 141 หน้า พร้อมเข้าเล่ม (ส่งเขต) จำนวน 1 เล่ม เป็นจำนวนเงินทั้งสิ้น  2000 บาท (สองพันบาทถ้วน)"}]
[null,null,2,"ลงนามในคำสั่งแต่งตั้งผู้ตรวจรับพัสดุ โดยวิธีเฉพาะเจาะจง "]
[null,null,"ลงชื่อ","…………………………………………………เจ้าหน้าที่",null,null,"ลงชื่อ","………………………………………หัวหน้าเจ้าหน้าที่"]
[null,null,null,{"$f":"DATABASE!C11","v":"นางวรรณเพ็ญ  วศินไพบูลย์วงศ์"},null,null,null,{"$f":"DATABASE!C7","v":"นางจุรีพร  บัวลอย"}]
[null,"เรียน",{"$f":"C5","v":"ผู้ว่าราชการจังหวัดบุรีรัมย์ (โดยสาธารณสุขอำเภอหนองหงส์ปฏิบัติราชการแทน)"}]
[null,null,null," - โปรดพิจารณาเห็นชอบ/ลงนาม",null,null,null,null,"o","เห็นชอบ / ลงนาม"]
[]
[null,null,null,"นายชัยณรงค์  สมสะอาด",null,null,null,{"$f":"DATABASE!C6","v":"นายประหยัด  นงประโคน"}]
[null,{"$f":"DATABASE!D7","v":"นักวิชาการสาธารณสุข ชำนาญการ"},null,null,null,null,null,{"$f":"DATABASE!D6","v":"สาธารณสุขอำเภอหนองหงส์"}]
[null,null,null,null,null,null,null,null,null,"ปฏิบัติราชการแทนผู้ว่าราชการจังหวัดบุรีรัมย์"]

{"sheet":"แนบท้ายรายงาน2","index":6,"n_rows":24,"n_cols":14,"rows_kept":24,"cut":false,"hidden":false,"merged":[[3,1,4,1],[3,2,4,2],[3,3,3,4],[3,7,3,8],[4,3,4,4],[0,1,0,5],[0,7,0,8],[0,9,0,11],[1,1,1,3],[2,1,2,8]]}
[null,{"$f":"\"รายละเอียดแนบท้ายบันทึกข้อความ\"&รายงานจัดจ้าง!B3&\" \"&รายงานจัดจ้าง!C3&\" \"&รายงานจัดจ้าง!E3","v":"รายละเอียดแนบท้ายบันทึกข้อความที่ บร 1332.1/ 1016"},null,null,null,null,"ลงวันที่",{"$f":"รายงานจัดจ้าง!H3","v":"2562-08-22"},null,"รวม VAT ใส่เลข 1 ไม่รวมใส่เลข 0"]
[null,"งานจัดจ้าง จำนวน",null,null,{"$f":"COUNT(B6:B21)","v":3},"รายการ",null,null,null,0,"<<< บันทึกเลข 1 หรือ 0"]
[null,"โรงพยาบาลส่งเสริมสุขภาพตำบลบ้านกระเบื้องน้อย"]
[null,"ลำดับที่","รายละเอียดของพัสดุที่จะจ้าง","ความต้องการ",null,"o","ราคามาตรฐาน","จำนวนและวงเงินที่ขอจ้างครั้งนี้",null,null,null,"< ถ้าตั้งเงินไว้",null,"o"]
[null,null,null,"จำนวน\n",null,"þ","ราคาที่ได้จากการสืบจากท้องตลาด\n     หน่วยละ","หน่วยละ\n(บาท)","จำนวนเงิน\n(บาท)",null,"<< เลือกตัวกรองก่อนปริ้นทุกครั้ง",null,null,"þ"]
[null,1,"ค่าถ่ายเอกสารสี และขาวดำ จำนวน 98 หน้า พร้อมเข้าเล่ม(ส่งเขต)",1,"เล่ม",null,null,700,{"$f":"D6*H6","v":700},{"$f":"IF(C6=\"\",\"\",\"เลือกปริ้น\")","v":"เลือกปริ้น"}]
[null,2,"ค่าถ่ายเอกสารสี และขาวดำ จำนวน 141 หน้า พร้อมเข้าเล่ม (ส่งเขต)",1,"เล่ม",null,null,1018,{"$f":"D7*H7","v":1018},{"$f":"IF(C7=\"\",\"\",\"เลือกปริ้น\")","v":"เลือกปริ้น"}]
[null,3,"ค่าถ่ายเอกสารขาวดำ จำนวน 98 หน้า พร้อมเข้าเล่ม(นำเสนอ สสจ.)",2,"เล่ม",null,null,141,{"$f":"D8*H8","v":282},"เลือกปริ้น"]
[null,null,null,null,null,null,null,null,null,""]
[null,null,null,null,null,null,null,null,null,""]
[null,null,null,null,null,null,null,null,null,""]
[null,null,null,null,null,null,null,null,null,""]
[null,null,null,null,null,null,null,null,null,""]
[null,null,null,null,null,null,null,null,null,""]
[null,null,null,null,null,null,null,null,null,""]
[null,null,null,null,null,null,null,null,null,""]
[null,null,null,null,null,null,null,null,null,""]
[null,null,null,null,null,null,null,null,null,""]
[null,null,null,null,null,null,null,null,null,""]
[null,null,null,null,null,null,null,null,null,""]
[null,null,null,null,null,null,null,null,null,""]
[null,"",null,null,null,null,null,"รวมเงิน",{"$f":"IF(J2=1,L22,L23)","v":1869.1588785046729},"เลือกปริ้น","รวม VAT",{"$f":"SUM(I6:I21)","v":2000}]
[null,"",null,null,null,null,null,"ภาษีมูลค่าเพิ่ม 7%",{"$f":"IF(J2=1,0,I22*7%)","v":130.84112149532712},"เลือกปริ้น","ไม่รวม VAT",{"$f":"L22*100/107","v":1869.1588785046729}]
[null,"(สองพันสองร้อยหกสิบเจ็ดบาทห้าสิบสตางค์)",null,null,null,null,null,"รวมเป็นเงินทั้งสิ้น",{"$f":"SUM(I22:I23)","v":2000},"เลือกปริ้น"]

{"sheet":"คำสั่ง","index":7,"n_rows":26,"n_cols":11,"rows_kept":26,"cut":false,"hidden":true,"merged":[[6,1,6,9],[5,1,5,9],[4,1,4,9],[24,4,24,8],[25,3,25,9],[22,5,22,7],[23,5,23,7],[18,4,18,6],[8,1,8,9]]}
[]
[]
[]
[]
[null,"คำสั่งจังหวัดบุรีรัมย์",null,null,null,null,null,null,null,null,"พิมพ์กรณีเกิน 5,000 บาท"]
[null,{"$f":"DATABASE!C9","v":"ที่              /2560"}]
[null,{"$f":"'เห็นชอบรวม(น1)'!C5","v":"ถ่ายเอกสารงานราชการและเข้าเล่ม"}]
[null,null,{"$f":"'เห็นชอบรวม(น1)'!C5","v":"ถ่ายเอกสารงานราชการและเข้าเล่ม"}]
[null,{"$f":"รายงานจัดจ้าง!#REF!& \"โดยวิธีเฉพาะเจาะจง และเพื่อเป็นไปตามระเบียบกระทรวงการคลังว่าด้วยการจัดซื้อ จัดจ้าง และการบริหารพัสดุภาครัฐ พ.ศ. 2560 จึงขอแต่งตั้งรายชื่อต่อไปนี้เป็น ผู้ตรวจรับพัสดุ สำหรับการ\"&'เห็นชอบรวม(น1)'!C5&\" โดยวิธีเฉพาะเจาะจง รายนามดังนี้\"","v":{"$error":"#REF!"}}]
[null,null,"คณะกรรมการตรวจรับพัสดุ"]
[null,null,1,{"$f":"DATABASE!C16","v":"นายสมยศ  นงประโคน"},null,null,null,"เป็นประธานกรรมการฯ"]
[null,null,null,{"$f":"DATABASE!D16","v":"เจ้าพนักงานสาธารณสุข อาวุโส"}]
[null,null,2,{"$f":"DATABASE!C17","v":0},null,null,null,"เป็นกรรมการ"]
[null,null,null,{"$f":"DATABASE!D17","v":0}]
[null,null,3,{"$f":"DATABASE!C18","v":0},null,null,null,"เป็นกรรมการ"]
[null,null,null,{"$f":"DATABASE!D18","v":0}]
[null,null,"อำนาจและหน้าที่"]
[null,null,"ทำการตรวจรับพัสดุให้เป็นไปตามเงื่อนไขของสัญาหรือข้อตกลงนั้น"]
[null,null,null,"สั่ง  ณ วันที่",{"$f":"DATABASE!D9","v":"00:00:00"}]
[]
[]
[]
[null,null,null,null,null,{"$f":"DATABASE!C6","v":"นายประหยัด  นงประโคน"}]
[null,null,null,null,null,{"$f":"DATABASE!D6","v":"สาธารณสุขอำเภอหนองหงส์"}]
[null,null,null,null,"ปฏิบัติราชการแทนผู้ว่าราชการจังหวัดบุรีรัมย์ตาม"]
[null,null,null,{"$f":"DATABASE!C10","v":"คำสั่งจังหวัดบุรีรัมย์ ที่ 27631/2559 ลงวันที่ 24 สิงหาคม 2560"}]

{"sheet":"การพิจารณา","index":8,"n_rows":98,"n_cols":13,"rows_kept":98,"cut":false,"hidden":true,"merged":[[31,1,31,5],[32,1,32,5],[9,1,9,5],[10,1,10,5],[29,7,29,8],[24,7,24,8],[25,7,25,8],[26,7,26,8],[27,7,27,8],[28,7,28,8],[30,7,30,8],[31,7,31,8],[32,7,32,8],[29,1,29,5],[0,1,0,10],[89,6,89,8],[2,2,2,3],[4,2,4,9],[2,7,2,9],[7,9,7,10],[7,7,7,8],[7,1,7,5],[8,1,8,5],[30,9,30,10],[31,9,31,10],[32,9,32,10],[33,9,33,10],[34,9,34,10],[8,7,8,8],[9,7,9,8],[10,7,10,8],[25,1,25,5],[26,1,26,5],[8,9,8,10],[9,9,9,10],[10,9,10,10],[24,9,24,10],[25,9,25,10],[26,9,26,10],[27,9,27,10],[28,9,28,10],[29,9,29,10],[30,1,30,5],[44,1,44,5],[45,1,45,5],[46,1,46,5],[47,1,47,5],[39,7,39,8],[40,7,40,8],[41,7,41,8],[42,7,42,8],[43,7,43,8],[34,7,34,8],[35,7,35,8],[36,7,36,8],[37,7,37,8],[38,7,38,8],[33,1,33,5],[40,1,40,5],[41,1,41,5],[42,1,42,5],[43,1,43,5],[33,7,33,8],[48,1,48,5],[11,1,11,5],[12,1,12,5],[13,1,13,5],[14,1,14,5],[15,1,15,5],[16,1,16,5],[17,1,17,5],[18,1,18,5],[19,1,19,5],[20,1,20,5],[21,1,21,5],[22,1,22,5],[23,1,23,5],[24,1,24,5],[35,1,35,5],[36,1,36,5],[37,1,37,5],[38,1,38,5],[39,1,39,5],[34,1,34,5],[27,1,27,5],[28,1,28,5],[54,1,54,5],[55,1,55,5],[56,1,56,5],[57,1,57,5],[58,1,58,5],[49,1,49,5],[50,1,50,5],[51,1,51,5],[52,1,52,5],[53,1,53,5],[72,1,72,5],[73,1,73,5],[64,1,64,5],[65,1,65,5],[66,1,66,5],[67,1,67,5],[68,1,68,5],[59,1,59,5],[60,1,60,5],[61,1,61,5],[62,1,62,5],[63,1,63,5],[79,1,79,5],[80,1,80,5],[81,1,81,5],[11,7,11,8],[12,7,12,8],[13,7,13,8],[14,7,14,8],[15,7,15,8],[16,7,16,8],[17,7,17,8],[18,7,18,8],[19,7,19,8],[20,7,20,8],[21,7,21,8],[22,7,22,8],[23,7,23,8],[74,1,74,5],[75,1,75,5],[76,1,76,5],[77,1,77,5],[78,1,78,5],[69,1,69,5],[70,1,70,5],[71,1,71,5],[49,7,49,8],[50,7,50,8],[51,7,51,8],[52,7,52,8],[53,7,53,8],[44,7,44,8],[45,7,45,8],[46,7,46,8],[47,7,47,8],[48,7,48,8],[59,7,59,8],[60,7,60,8],[61,7,61,8],[62,7,62,8],[63,7,63,8],[54,7,54,8],[55,7,55,8],[56,7,56,8],[57,7,57,8],[58,7,58,8],[77,7,77,8],[78,7,78,8],[69,7,69,8],[70,7,70,8],[71,7,71,8],[72,7,72,8],[73,7,73,8],[64,7,64,8],[65,7,65,8],[66,7,66,8],[67,7,67,8],[68,7,68,8],[35,9,35,10],[36,9,36,10],[37,9,37,10],[38,9,38,10],[39,9,39,10],[79,7,79,8],[80,7,80,8],[81,7,81,8],[11,9,11,10],[12,9,12,10],[13,9,13,10],[14,9,14,10],[15,9,15,10],[16,9,16,10],[17,9,17,10],[18,9,18,10],[19,9,19,10],[20,9,20,10],[21,9,21,10],[22,9,22,10],[23,9,23,10],[74,7,74,8],[75,7,75,8],[76,7,76,8],[45,9,45,10],[46,9,46,10],[47,9,47,10],[48,9,48,10],[49,9,49,10],[40,9,40,10],[41,9,41,10],[42,9,42,10],[43,9,43,10],[44,9,44,10],[55,9,55,10],[56,9,56,10],[57,9,57,10],[58,9,58,10],[59,9,59,10],[50,9,50,10],[51,9,51,10],[52,9,52,10],[53,9,53,10],[54,9,54,10],[65,9,65,10],[66,9,66,10],[67,9,67,10],[68,9,68,10],[69,9,69,10],[60,9,60,10],[61,9,61,10],[62,9,62,10],[63,9,63,10],[64,9,64,10],[75,9,75,10],[76,9,76,10],[77,9,77,10],[78,9,78,10],[79,9,79,10],[70,9,70,10],[71,9,71,10],[72,9,72,10],[73,9,73,10],[74,9,74,10],[96,6,96,10],[97,6,97,10],[90,5,90,10],[94,2,94,5],[95,2,95,5],[95,6,95,10],[80,9,80,10],[81,9,81,10],[82,7,82,8],[82,9,82,10],[82,1,82,6]]}
[null,"บันทึกข้อความ"]
[null,"ส่วนราชการ",null,{"$f":"DATABASE!C15&\" \"&DATABASE!D4","v":"โรงพยาบาลส่งเสริมสุขภาพตำบลบ้านกระเบื้องน้อย อำเภอหนองหงส์  จังหวัดบุรีรัมย์ "}]
[null,"ที่",{"$f":"DATABASE!C13","v":"บร 1332.1.4/"},null,null,null,"วันที่","2560-09-28"]
[null,"เรื่อง",{"$f":"รายงานจัดจ้าง!C4","v":"ถ่ายเอกสารงานราชการและเข้าเล่ม"},null,null,null,null,null,null,null,null,"พิมพ์กรณีเกิน 5,000 บาท"]
[null,"เรียน",{"$f":"รายงานจัดจ้าง!C5","v":"ผู้ว่าราชการจังหวัดบุรีรัมย์ (โดยสาธารณสุขอำเภอหนองหงส์ปฏิบัติราชการแทน)"}]
[null,null,null,{"$f":"'เห็นชอบรวม(น1)'!C5","v":"ถ่ายเอกสารงานราชการและเข้าเล่ม"}]
[null,"โดยวิธีเฉพาะเจาะจง ดังนี้"]
[null,"รายการพิจารณา",null,null,null,null,"ผู้ชนะการเสนอราคา","ราคาที่เสนอ",null,"ราคาที่ตกลงซื้อ",null,null,"<< เลือกตัวกรองก่อนปริ้นทุกครั้ง"]
[null,{"$f":"IF(#REF!=\"\",\"\",#REF!&\".\"&\" \"&#REF!&\" จำนวน \"&#REF!&\" \"&#REF!)","v":{"$error":"#REF!"}},null,null,null,null,{"$f":"IF(B9=\"\",\"\",DATABASE!C19)","v":{"$error":"#REF!"}},{"$f":"IF(B9=\"\",\"\",#REF!)","v":{"$error":"#REF!"}},null,{"$f":"IF(H9=\"\",\"\",H9)","v":{"$error":"#REF!"}},null,{"$f":"IF(#REF!=\"\",\"\",\"เลือกก่อนปริ้น\")","v":{"$error":"#REF!"}}]
[null,{"$f":"IF(#REF!=\"\",\"\",#REF!&\".\"&\" \"&#REF!&\" จำนวน \"&#REF!&\" \"&#REF!)","v":{"$error":"#REF!"}},null,null,null,null,{"$f":"IF(B10=\"\",\"\",$G$9)","v":{"$error":"#REF!"}},{"$f":"IF(B10=\"\",\"\",#REF!)","v":{"$error":"#REF!"}},null,{"$f":"IF(H10=\"\",\"\",H10)","v":{"$error":"#REF!"}},null,{"$f":"IF(#REF!=\"\",\"\",\"เลือกก่อนปริ้น\")","v":{"$error":"#REF!"}}]
[null,{"$f":"IF(#REF!=\"\",\"\",#REF!&\".\"&\" \"&#REF!&\" จำนวน \"&#REF!&\" \"&#REF!)","v":{"$error":"#REF!"}},null,null,null,null,{"$f":"IF(B11=\"\",\"\",$G$9)","v":{"$error":"#REF!"}},{"$f":"IF(B11=\"\",\"\",#REF!)","v":{"$error":"#REF!"}},null,{"$f":"IF(H11=\"\",\"\",H11)","v":{"$error":"#REF!"}},null,{"$f":"IF(#REF!=\"\",\"\",\"เลือกก่อนปริ้น\")","v":{"$error":"#REF!"}}]
[null,{"$f":"IF(#REF!=\"\",\"\",#REF!&\".\"&\" \"&#REF!&\" จำนวน \"&#REF!&\" \"&#REF!)","v":{"$error":"#REF!"}},null,null,null,null,{"$error":"#REF!"},{"$f":"IF(B12=\"\",\"\",#REF!)","v":{"$error":"#REF!"}},null,{"$f":"IF(H12=\"\",\"\",H12)","v":{"$error":"#REF!"}},null,{"$f":"IF(#REF!=\"\",\"\",\"เลือกก่อนปริ้น\")","v":{"$error":"#REF!"}}]
[null,{"$f":"IF(#REF!=\"\",\"\",#REF!&\".\"&\" \"&#REF!&\" จำนวน \"&#REF!&\" \"&#REF!)","v":{"$error":"#REF!"}},null,null,null,null,{"$error":"#REF!"},{"$f":"IF(B13=\"\",\"\",#REF!)","v":{"$error":"#REF!"}},null,{"$f":"IF(H13=\"\",\"\",H13)","v":{"$error":"#REF!"}},null,{"$f":"IF(#REF!=\"\",\"\",\"เลือกก่อนปริ้น\")","v":{"$error":"#REF!"}}]
[null,{"$f":"IF(#REF!=\"\",\"\",#REF!&\".\"&\" \"&#REF!&\" จำนวน \"&#REF!&\" \"&#REF!)","v":{"$error":"#REF!"}},null,null,null,null,{"$error":"#REF!"},{"$f":"IF(B14=\"\",\"\",#REF!)","v":{"$error":"#REF!"}},null,{"$f":"IF(H14=\"\",\"\",H14)","v":{"$error":"#REF!"}},null,{"$f":"IF(#REF!=\"\",\"\",\"เลือกก่อนปริ้น\")","v":{"$error":"#REF!"}}]
[null,{"$f":"IF(#REF!=\"\",\"\",#REF!&\".\"&\" \"&#REF!&\" จำนวน \"&#REF!&\" \"&#REF!)","v":{"$error":"#REF!"}},null,null,null,null,{"$error":"#REF!"},{"$f":"IF(B15=\"\",\"\",#REF!)","v":{"$error":"#REF!"}},null,{"$error":"#REF!"},null,{"$f":"IF(#REF!=\"\",\"\",\"เลือกก่อนปริ้น\")","v":{"$error":"#REF!"}}]
[null,{"$f":"IF(#REF!=\"\",\"\",#REF!&\".\"&\" \"&#REF!&\" จำนวน \"&#REF!&\" \"&#REF!)","v":{"$error":"#REF!"}},null,null,null,null,{"$error":"#REF!"},{"$f":"IF(B16=\"\",\"\",#REF!)","v":{"$error":"#REF!"}},null,{"$error":"#REF!"},null,{"$f":"IF(#REF!=\"\",\"\",\"เลือกก่อนปริ้น\")","v":{"$error":"#REF!"}}]
[null,{"$f":"IF(#REF!=\"\",\"\",#REF!&\".\"&\" \"&#REF!&\" จำนวน \"&#REF!&\" \"&#REF!)","v":{"$error":"#REF!"}},null,null,null,null,{"$error":"#REF!"},{"$f":"IF(B17=\"\",\"\",#REF!)","v":{"$error":"#REF!"}},null,{"$error":"#REF!"},null,{"$f":"IF(#REF!=\"\",\"\",\"เลือกก่อนปริ้น\")","v":{"$error":"#REF!"}}]
[null,{"$f":"IF(#REF!=\"\",\"\",#REF!&\".\"&\" \"&#REF!&\" จำนวน \"&#REF!&\" \"&#REF!)","v":{"$error":"#REF!"}},null,null,null,null,{"$error":"#REF!"},{"$f":"IF(B18=\"\",\"\",#REF!)","v":{"$error":"#REF!"}},null,{"$error":"#REF!"},null,{"$f":"IF(#REF!=\"\",\"\",\"เลือกก่อนปริ้น\")","v":{"$error":"#REF!"}}]
[null,{"$f":"IF(#REF!=\"\",\"\",#REF!&\".\"&\" \"&#REF!&\" จำนวน \"&#REF!&\" \"&#REF!)","v":{"$error":"#REF!"}},null,null,null,null,{"$error":"#REF!"},{"$f":"IF(B19=\"\",\"\",#REF!)","v":{"$error":"#REF!"}},null,{"$error":"#REF!"},null,{"$f":"IF(#REF!=\"\",\"\",\"เลือกก่อนปริ้น\")","v":{"$error":"#REF!"}}]
[null,{"$f":"IF(#REF!=\"\",\"\",#REF!&\".\"&\" \"&#REF!&\" จำนวน \"&#REF!&\" \"&#REF!)","v":{"$error":"#REF!"}},null,null,null,null,{"$error":"#REF!"},{"$f":"IF(B20=\"\",\"\",#REF!)","v":{"$error":"#REF!"}},null,{"$f":"IF(H20=\"\",\"\",H20)","v":{"$error":"#REF!"}},null,{"$f":"IF(#REF!=\"\",\"\",\"เลือกก่อนปริ้น\")","v":{"$error":"#REF!"}}]
[null,{"$f":"IF(#REF!=\"\",\"\",#REF!&\".\"&\" \"&#REF!&\" จำนวน \"&#REF!&\" \"&#REF!)","v":{"$error":"#REF!"}},null,null,null,null,{"$error":"#REF!"},{"$f":"IF(B21=\"\",\"\",#REF!)","v":{"$error":"#REF!"}},null,{"$error":"#REF!"},null,{"$f":"IF(#REF!=\"\",\"\",\"เลือกก่อนปริ้น\")","v":{"$error":"#REF!"}}]
[null,{"$f":"IF(#REF!=\"\",\"\",#REF!&\".\"&\" \"&#REF!&\" จำนวน \"&#REF!&\" \"&#REF!)","v":{"$error":"#REF!"}},null,null,null,null,{"$error":"#REF!"},{"$f":"IF(B22=\"\",\"\",#REF!)","v":{"$error":"#REF!"}},null,{"$error":"#REF!"},null,{"$f":"IF(#REF!=\"\",\"\",\"เลือกก่อนปริ้น\")","v":{"$error":"#REF!"}}]
[null,{"$f":"IF(#REF!=\"\",\"\",#REF!&\".\"&\" \"&#REF!&\" จำนวน \"&#REF!&\" \"&#REF!)","v":{"$error":"#REF!"}},null,null,null,null,{"$error":"#REF!"},{"$f":"IF(B23=\"\",\"\",#REF!)","v":{"$error":"#REF!"}},null,{"$error":"#REF!"},null,{"$f":"IF(#REF!=\"\",\"\",\"เลือกก่อนปริ้น\")","v":{"$error":"#REF!"}}]
[null,{"$f":"IF(#REF!=\"\",\"\",#REF!&\".\"&\" \"&#REF!&\" จำนวน \"&#REF!&\" \"&#REF!)","v":{"$error":"#REF!"}},null,null,null,null,{"$error":"#REF!"},{"$f":"IF(B24=\"\",\"\",#REF!)","v":{"$error":"#REF!"}},null,{"$error":"#REF!"},null,{"$f":"IF(#REF!=\"\",\"\",\"เลือกก่อนปริ้น\")","v":{"$error":"#REF!"}}]
[null,{"$f":"IF(#REF!=\"\",\"\",#REF!&\".\"&\" \"&#REF!&\" จำนวน \"&#REF!&\" \"&#REF!)","v":{"$error":"#REF!"}},null,null,null,null,{"$error":"#REF!"},{"$f":"IF(B25=\"\",\"\",#REF!)","v":{"$error":"#REF!"}},null,{"$error":"#REF!"},null,{"$f":"IF(#REF!=\"\",\"\",\"เลือกก่อนปริ้น\")","v":{"$error":"#REF!"}}]
[null,{"$f":"IF(#REF!=\"\",\"\",#REF!&\".\"&\" \"&#REF!&\" จำนวน \"&#REF!&\" \"&#REF!)","v":{"$error":"#REF!"}},null,null,null,null,{"$error":"#REF!"},{"$f":"IF(B26=\"\",\"\",#REF!)","v":{"$error":"#REF!"}},null,{"$error":"#REF!"},null,{"$f":"IF(#REF!=\"\",\"\",\"เลือกก่อนปริ้น\")","v":{"$error":"#REF!"}}]
[null,{"$f":"IF(#REF!=\"\",\"\",#REF!&\".\"&\" \"&#REF!&\" จำนวน \"&#REF!&\" \"&#REF!)","v":{"$error":"#REF!"}},null,null,null,null,{"$error":"#REF!"},{"$f":"IF(B27=\"\",\"\",#REF!)","v":{"$error":"#REF!"}},null,{"$error":"#REF!"},null,{"$f":"IF(#REF!=\"\",\"\",\"เลือกก่อนปริ้น\")","v":{"$error":"#REF!"}}]
[null,{"$f":"IF(#REF!=\"\",\"\",#REF!&\".\"&\" \"&#REF!&\" จำนวน \"&#REF!&\" \"&#REF!)","v":{"$error":"#REF!"}},null,null,null,null,{"$error":"#REF!"},{"$f":"IF(B28=\"\",\"\",#REF!)","v":{"$error":"#REF!"}},null,{"$error":"#REF!"},null,{"$f":"IF(#REF!=\"\",\"\",\"เลือกก่อนปริ้น\")","v":{"$error":"#REF!"}}]
[null,{"$f":"IF(#REF!=\"\",\"\",#REF!&\".\"&\" \"&#REF!&\" จำนวน \"&#REF!&\" \"&#REF!)","v":{"$error":"#REF!"}},null,null,null,null,{"$error":"#REF!"},{"$f":"IF(B29=\"\",\"\",#REF!)","v":{"$error":"#REF!"}},null,{"$error":"#REF!"},null,{"$f":"IF(#REF!=\"\",\"\",\"เลือกก่อนปริ้น\")","v":{"$error":"#REF!"}}]
[null,{"$f":"IF(#REF!=\"\",\"\",#REF!&\".\"&\" \"&#REF!&\" จำนวน \"&#REF!&\" \"&#REF!)","v":{"$error":"#REF!"}},null,null,null,null,{"$error":"#REF!"},{"$f":"IF(B30=\"\",\"\",#REF!)","v":{"$error":"#REF!"}},null,{"$error":"#REF!"},null,{"$f":"IF(#REF!=\"\",\"\",\"เลือกก่อนปริ้น\")","v":{"$error":"#REF!"}}]
[null,{"$f":"IF(#REF!=\"\",\"\",#REF!&\".\"&\" \"&#REF!&\" จำนวน \"&#REF!&\" \"&#REF!)","v":{"$error":"#REF!"}},null,null,null,null,{"$error":"#REF!"},{"$f":"IF(B31=\"\",\"\",#REF!)","v":{"$error":"#REF!"}},null,{"$error":"#REF!"},null,{"$f":"IF(#REF!=\"\",\"\",\"เลือกก่อนปริ้น\")","v":{"$error":"#REF!"}}]
[null,{"$f":"IF(#REF!=\"\",\"\",#REF!&\".\"&\" \"&#REF!&\" จำนวน \"&#REF!&\" \"&#REF!)","v":{"$error":"#REF!"}},null,null,null,null,{"$error":"#REF!"},{"$f":"IF(B32=\"\",\"\",#REF!)","v":{"$error":"#REF!"}},null,{"$error":"#REF!"},null,{"$f":"IF(#REF!=\"\",\"\",\"เลือกก่อนปริ้น\")","v":{"$error":"#REF!"}}]
[null,{"$f":"IF(#REF!=\"\",\"\",#REF!&\".\"&\" \"&#REF!&\" จำนวน \"&#REF!&\" \"&#REF!)","v":{"$error":"#REF!"}},null,null,null,null,{"$error":"#REF!"},{"$f":"IF(B33=\"\",\"\",#REF!)","v":{"$error":"#REF!"}},null,{"$error":"#REF!"},null,{"$f":"IF(#REF!=\"\",\"\",\"เลือกก่อนปริ้น\")","v":{"$error":"#REF!"}}]
[null,{"$f":"IF(#REF!=\"\",\"\",#REF!&\".\"&\" \"&#REF!&\" จำนวน \"&#REF!&\" \"&#REF!)","v":{"$error":"#REF!"}},null,null,null,null,{"$error":"#REF!"},{"$f":"IF(B34=\"\",\"\",#REF!)","v":{"$error":"#REF!"}},null,{"$error":"#REF!"},null,{"$f":"IF(#REF!=\"\",\"\",\"เลือกก่อนปริ้น\")","v":{"$error":"#REF!"}}]
[null,{"$f":"IF(#REF!=\"\",\"\",#REF!&\".\"&\" \"&#REF!&\" จำนวน \"&#REF!&\" \"&#REF!)","v":{"$error":"#REF!"}},null,null,null,null,{"$error":"#REF!"},{"$f":"IF(B35=\"\",\"\",#REF!)","v":{"$error":"#REF!"}},null,{"$error":"#REF!"},null,{"$f":"IF(#REF!=\"\",\"\",\"เลือกก่อนปริ้น\")","v":{"$error":"#REF!"}}]
[null,{"$f":"IF(#REF!=\"\",\"\",#REF!&\".\"&\" \"&#REF!&\" จำนวน \"&#REF!&\" \"&#REF!)","v":{"$error":"#REF!"}},null,null,null,null,{"$error":"#REF!"},{"$f":"IF(B36=\"\",\"\",#REF!)","v":{"$error":"#REF!"}},null,{"$error":"#REF!"},null,{"$f":"IF(#REF!=\"\",\"\",\"เลือกก่อนปริ้น\")","v":{"$error":"#REF!"}}]
[null,{"$f":"IF(#REF!=\"\",\"\",#REF!&\".\"&\" \"&#REF!&\" จำนวน \"&#REF!&\" \"&#REF!)","v":{"$error":"#REF!"}},null,null,null,null,{"$error":"#REF!"},{"$f":"IF(B37=\"\",\"\",#REF!)","v":{"$error":"#REF!"}},null,{"$error":"#REF!"},null,{"$f":"IF(#REF!=\"\",\"\",\"เลือกก่อนปริ้น\")","v":{"$error":"#REF!"}}]
[null,{"$f":"IF(#REF!=\"\",\"\",#REF!&\".\"&\" \"&#REF!&\" จำนวน \"&#REF!&\" \"&#REF!)","v":{"$error":"#REF!"}},null,null,null,null,{"$error":"#REF!"},{"$f":"IF(B38=\"\",\"\",#REF!)","v":{"$error":"#REF!"}},null,{"$error":"#REF!"},null,{"$f":"IF(#REF!=\"\",\"\",\"เลือกก่อนปริ้น\")","v":{"$error":"#REF!"}}]
[null,{"$f":"IF(#REF!=\"\",\"\",#REF!&\".\"&\" \"&#REF!&\" จำนวน \"&#REF!&\" \"&#REF!)","v":{"$error":"#REF!"}},null,null,null,null,{"$error":"#REF!"},{"$f":"IF(B39=\"\",\"\",#REF!)","v":{"$error":"#REF!"}},null,{"$error":"#REF!"},null,{"$f":"IF(#REF!=\"\",\"\",\"เลือกก่อนปริ้น\")","v":{"$error":"#REF!"}}]
[null,{"$f":"IF(#REF!=\"\",\"\",#REF!&\".\"&\" \"&#REF!&\" จำนวน \"&#REF!&\" \"&#REF!)","v":{"$error":"#REF!"}},null,null,null,null,{"$error":"#REF!"},{"$f":"IF(B40=\"\",\"\",#REF!)","v":{"$error":"#REF!"}},null,{"$error":"#REF!"},null,{"$f":"IF(#REF!=\"\",\"\",\"เลือกก่อนปริ้น\")","v":{"$error":"#REF!"}}]
[null,{"$f":"IF(#REF!=\"\",\"\",#REF!&\".\"&\" \"&#REF!&\" จำนวน \"&#REF!&\" \"&#REF!)","v":{"$error":"#REF!"}},null,null,null,null,{"$error":"#REF!"},{"$f":"IF(B41=\"\",\"\",#REF!)","v":{"$error":"#REF!"}},null,{"$error":"#REF!"},null,{"$f":"IF(#REF!=\"\",\"\",\"เลือกก่อนปริ้น\")","v":{"$error":"#REF!"}}]
[null,{"$f":"IF(#REF!=\"\",\"\",#REF!&\".\"&\" \"&#REF!&\" จำนวน \"&#REF!&\" \"&#REF!)","v":{"$error":"#REF!"}},null,null,null,null,{"$error":"#REF!"},{"$f":"IF(B42=\"\",\"\",#REF!)","v":{"$error":"#REF!"}},null,{"$error":"#REF!"},null,{"$f":"IF(#REF!=\"\",\"\",\"เลือกก่อนปริ้น\")","v":{"$error":"#REF!"}}]
[null,{"$f":"IF(#REF!=\"\",\"\",#REF!&\".\"&\" \"&#REF!&\" จำนวน \"&#REF!&\" \"&#REF!)","v":{"$error":"#REF!"}},null,null,null,null,{"$error":"#REF!"},{"$f":"IF(B43=\"\",\"\",#REF!)","v":{"$error":"#REF!"}},null,{"$error":"#REF!"},null,{"$f":"IF(#REF!=\"\",\"\",\"เลือกก่อนปริ้น\")","v":{"$error":"#REF!"}}]
[null,{"$f":"IF(#REF!=\"\",\"\",#REF!&\".\"&\" \"&#REF!&\" จำนวน \"&#REF!&\" \"&#REF!)","v":{"$error":"#REF!"}},null,null,null,null,{"$error":"#REF!"},{"$f":"IF(B44=\"\",\"\",#REF!)","v":{"$error":"#REF!"}},null,{"$error":"#REF!"},null,{"$f":"IF(#REF!=\"\",\"\",\"เลือกก่อนปริ้น\")","v":{"$error":"#REF!"}}]
[null,{"$f":"IF(#REF!=\"\",\"\",#REF!&\".\"&\" \"&#REF!&\" จำนวน \"&#REF!&\" \"&#REF!)","v":{"$error":"#REF!"}},null,null,null,null,{"$error":"#REF!"},{"$f":"IF(B45=\"\",\"\",#REF!)","v":{"$error":"#REF!"}},null,{"$error":"#REF!"},null,{"$f":"IF(#REF!=\"\",\"\",\"เลือกก่อนปริ้น\")","v":{"$error":"#REF!"}}]
[null,{"$f":"IF(#REF!=\"\",\"\",#REF!&\".\"&\" \"&#REF!&\" จำนวน \"&#REF!&\" \"&#REF!)","v":{"$error":"#REF!"}},null,null,null,null,{"$error":"#REF!"},{"$f":"IF(B46=\"\",\"\",#REF!)","v":{"$error":"#REF!"}},null,{"$error":"#REF!"},null,{"$f":"IF(#REF!=\"\",\"\",\"เลือกก่อนปริ้น\")","v":{"$error":"#REF!"}}]
[null,{"$f":"IF(#REF!=\"\",\"\",#REF!&\".\"&\" \"&#REF!&\" จำนวน \"&#REF!&\" \"&#REF!)","v":{"$error":"#REF!"}},null,null,null,null,{"$error":"#REF!"},{"$f":"IF(B47=\"\",\"\",#REF!)","v":{"$error":"#REF!"}},null,{"$error":"#REF!"},null,{"$f":"IF(#REF!=\"\",\"\",\"เลือกก่อนปริ้น\")","v":{"$error":"#REF!"}}]
[null,{"$f":"IF(#REF!=\"\",\"\",#REF!&\".\"&\" \"&#REF!&\" จำนวน \"&#REF!&\" \"&#REF!)","v":{"$error":"#REF!"}},null,null,null,null,{"$error":"#REF!"},{"$f":"IF(B48=\"\",\"\",#REF!)","v":{"$error":"#REF!"}},null,{"$error":"#REF!"},null,{"$f":"IF(#REF!=\"\",\"\",\"เลือกก่อนปริ้น\")","v":{"$error":"#REF!"}}]
[null,{"$f":"IF(#REF!=\"\",\"\",#REF!&\".\"&\" \"&#REF!&\" จำนวน \"&#REF!&\" \"&#REF!)","v":{"$error":"#REF!"}},null,null,null,null,{"$error":"#REF!"},{"$f":"IF(B49=\"\",\"\",#REF!)","v":{"$error":"#REF!"}},null,{"$error":"#REF!"},null,{"$f":"IF(#REF!=\"\",\"\",\"เลือกก่อนปริ้น\")","v":{"$error":"#REF!"}}]
[null,{"$f":"IF(#REF!=\"\",\"\",#REF!&\".\"&\" \"&#REF!&\" จำนวน \"&#REF!&\" \"&#REF!)","v":{"$error":"#REF!"}},null,null,null,null,{"$error":"#REF!"},{"$f":"IF(B50=\"\",\"\",#REF!)","v":{"$error":"#REF!"}},null,{"$error":"#REF!"},null,{"$f":"IF(#REF!=\"\",\"\",\"เลือกก่อนปริ้น\")","v":{"$error":"#REF!"}}]
[null,{"$f":"IF(#REF!=\"\",\"\",#REF!&\".\"&\" \"&#REF!&\" จำนวน \"&#REF!&\" \"&#REF!)","v":{"$error":"#REF!"}},null,null,null,null,{"$error":"#REF!"},{"$f":"IF(B51=\"\",\"\",#REF!)","v":{"$error":"#REF!"}},null,{"$error":"#REF!"},null,{"$f":"IF(#REF!=\"\",\"\",\"เลือกก่อนปริ้น\")","v":{"$error":"#REF!"}}]
[null,{"$f":"IF(#REF!=\"\",\"\",#REF!&\".\"&\" \"&#REF!&\" จำนวน \"&#REF!&\" \"&#REF!)","v":{"$error":"#REF!"}},null,null,null,null,{"$error":"#REF!"},{"$f":"IF(B52=\"\",\"\",#REF!)","v":{"$error":"#REF!"}},null,{"$error":"#REF!"},null,{"$f":"IF(#REF!=\"\",\"\",\"เลือกก่อนปริ้น\")","v":{"$error":"#REF!"}}]
[null,{"$f":"IF(#REF!=\"\",\"\",#REF!&\".\"&\" \"&#REF!&\" จำนวน \"&#REF!&\" \"&#REF!)","v":{"$error":"#REF!"}},null,null,null,null,{"$error":"#REF!"},{"$f":"IF(B53=\"\",\"\",#REF!)","v":{"$error":"#REF!"}},null,{"$error":"#REF!"},null,{"$f":"IF(#REF!=\"\",\"\",\"เลือกก่อนปริ้น\")","v":{"$error":"#REF!"}}]
[null,{"$f":"IF(#REF!=\"\",\"\",#REF!&\".\"&\" \"&#REF!&\" จำนวน \"&#REF!&\" \"&#REF!)","v":{"$error":"#REF!"}},null,null,null,null,{"$error":"#REF!"},{"$f":"IF(B54=\"\",\"\",#REF!)","v":{"$error":"#REF!"}},null,{"$error":"#REF!"},null,{"$f":"IF(#REF!=\"\",\"\",\"เลือกก่อนปริ้น\")","v":{"$error":"#REF!"}}]
[null,{"$f":"IF(#REF!=\"\",\"\",#REF!&\".\"&\" \"&#REF!&\" จำนวน \"&#REF!&\" \"&#REF!)","v":{"$error":"#REF!"}},null,null,null,null,{"$error":"#REF!"},{"$f":"IF(B55=\"\",\"\",#REF!)","v":{"$error":"#REF!"}},null,{"$error":"#REF!"},null,{"$f":"IF(#REF!=\"\",\"\",\"เลือกก่อนปริ้น\")","v":{"$error":"#REF!"}}]
[null,{"$f":"IF(#REF!=\"\",\"\",#REF!&\".\"&\" \"&#REF!&\" จำนวน \"&#REF!&\" \"&#REF!)","v":{"$error":"#REF!"}},null,null,null,null,{"$error":"#REF!"},{"$f":"IF(B56=\"\",\"\",#REF!)","v":{"$error":"#REF!"}},null,{"$error":"#REF!"},null,{"$f":"IF(#REF!=\"\",\"\",\"เลือกก่อนปริ้น\")","v":{"$error":"#REF!"}}]
[null,{"$f":"IF(#REF!=\"\",\"\",#REF!&\".\"&\" \"&#REF!&\" จำนวน \"&#REF!&\" \"&#REF!)","v":{"$error":"#REF!"}},null,null,null,null,{"$error":"#REF!"},{"$f":"IF(B57=\"\",\"\",#REF!)","v":{"$error":"#REF!"}},null,{"$error":"#REF!"},null,{"$f":"IF(#REF!=\"\",\"\",\"เลือกก่อนปริ้น\")","v":{"$error":"#REF!"}}]
[null,{"$f":"IF(#REF!=\"\",\"\",#REF!&\".\"&\" \"&#REF!&\" จำนวน \"&#REF!&\" \"&#REF!)","v":{"$error":"#REF!"}},null,null,null,null,{"$error":"#REF!"},{"$f":"IF(B58=\"\",\"\",#REF!)","v":{"$error":"#REF!"}},null,{"$error":"#REF!"},null,{"$f":"IF(#REF!=\"\",\"\",\"เลือกก่อนปริ้น\")","v":{"$error":"#REF!"}}]
[null,{"$f":"IF(#REF!=\"\",\"\",#REF!&\".\"&\" \"&#REF!&\" จำนวน \"&#REF!&\" \"&#REF!)","v":{"$error":"#REF!"}},null,null,null,null,{"$error":"#REF!"},{"$f":"IF(B59=\"\",\"\",#REF!)","v":{"$error":"#REF!"}},null,{"$error":"#REF!"},null,{"$f":"IF(#REF!=\"\",\"\",\"เลือกก่อนปริ้น\")","v":{"$error":"#REF!"}}]
[null,{"$f":"IF(#REF!=\"\",\"\",#REF!&\".\"&\" \"&#REF!&\" จำนวน \"&#REF!&\" \"&#REF!)","v":{"$error":"#REF!"}},null,null,null,null,{"$error":"#REF!"},{"$f":"IF(B60=\"\",\"\",#REF!)","v":{"$error":"#REF!"}},null,{"$error":"#REF!"},null,{"$f":"IF(#REF!=\"\",\"\",\"เลือกก่อนปริ้น\")","v":{"$error":"#REF!"}}]
[null,{"$f":"IF(#REF!=\"\",\"\",#REF!&\".\"&\" \"&#REF!&\" จำนวน \"&#REF!&\" \"&#REF!)","v":{"$error":"#REF!"}},null,null,null,null,{"$error":"#REF!"},{"$f":"IF(B61=\"\",\"\",#REF!)","v":{"$error":"#REF!"}},null,{"$error":"#REF!"},null,{"$f":"IF(#REF!=\"\",\"\",\"เลือกก่อนปริ้น\")","v":{"$error":"#REF!"}}]
[null,{"$f":"IF(#REF!=\"\",\"\",#REF!&\".\"&\" \"&#REF!&\" จำนวน \"&#REF!&\" \"&#REF!)","v":{"$error":"#REF!"}},null,null,null,null,{"$error":"#REF!"},{"$f":"IF(B62=\"\",\"\",#REF!)","v":{"$error":"#REF!"}},null,{"$error":"#REF!"},null,{"$f":"IF(#REF!=\"\",\"\",\"เลือกก่อนปริ้น\")","v":{"$error":"#REF!"}}]
[null,{"$f":"IF(#REF!=\"\",\"\",#REF!&\".\"&\" \"&#REF!&\" จำนวน \"&#REF!&\" \"&#REF!)","v":{"$error":"#REF!"}},null,null,null,null,{"$error":"#REF!"},{"$f":"IF(B63=\"\",\"\",#REF!)","v":{"$error":"#REF!"}},null,{"$error":"#REF!"},null,{"$f":"IF(#REF!=\"\",\"\",\"เลือกก่อนปริ้น\")","v":{"$error":"#REF!"}}]
[null,{"$f":"IF(#REF!=\"\",\"\",#REF!&\".\"&\" \"&#REF!&\" จำนวน \"&#REF!&\" \"&#REF!)","v":{"$error":"#REF!"}},null,null,null,null,{"$error":"#REF!"},{"$f":"IF(B64=\"\",\"\",#REF!)","v":{"$error":"#REF!"}},null,{"$error":"#REF!"},null,{"$f":"IF(#REF!=\"\",\"\",\"เลือกก่อนปริ้น\")","v":{"$error":"#REF!"}}]
[null,{"$f":"IF(#REF!=\"\",\"\",#REF!&\".\"&\" \"&#REF!&\" จำนวน \"&#REF!&\" \"&#REF!)","v":{"$error":"#REF!"}},null,null,null,null,{"$error":"#REF!"},{"$f":"IF(B65=\"\",\"\",#REF!)","v":{"$error":"#REF!"}},null,{"$error":"#REF!"},null,{"$f":"IF(#REF!=\"\",\"\",\"เลือกก่อนปริ้น\")","v":{"$error":"#REF!"}}]
[null,{"$f":"IF(#REF!=\"\",\"\",#REF!&\".\"&\" \"&#REF!&\" จำนวน \"&#REF!&\" \"&#REF!)","v":{"$error":"#REF!"}},null,null,null,null,{"$error":"#REF!"},{"$f":"IF(B66=\"\",\"\",#REF!)","v":{"$error":"#REF!"}},null,{"$error":"#REF!"},null,{"$f":"IF(#REF!=\"\",\"\",\"เลือกก่อนปริ้น\")","v":{"$error":"#REF!"}}]
[null,{"$f":"IF(#REF!=\"\",\"\",#REF!&\".\"&\" \"&#REF!&\" จำนวน \"&#REF!&\" \"&#REF!)","v":{"$error":"#REF!"}},null,null,null,null,{"$error":"#REF!"},{"$f":"IF(B67=\"\",\"\",#REF!)","v":{"$error":"#REF!"}},null,{"$error":"#REF!"},null,{"$f":"IF(#REF!=\"\",\"\",\"เลือกก่อนปริ้น\")","v":{"$error":"#REF!"}}]
[null,{"$f":"IF(#REF!=\"\",\"\",#REF!&\".\"&\" \"&#REF!&\" จำนวน \"&#REF!&\" \"&#REF!)","v":{"$error":"#REF!"}},null,null,null,null,{"$error":"#REF!"},{"$f":"IF(B68=\"\",\"\",#REF!)","v":{"$error":"#REF!"}},null,{"$error":"#REF!"},null,{"$f":"IF(#REF!=\"\",\"\",\"เลือกก่อนปริ้น\")","v":{"$error":"#REF!"}}]
[null,{"$f":"IF(#REF!=\"\",\"\",#REF!&\".\"&\" \"&#REF!&\" จำนวน \"&#REF!&\" \"&#REF!)","v":{"$error":"#REF!"}},null,null,null,null,{"$error":"#REF!"},{"$f":"IF(B69=\"\",\"\",#REF!)","v":{"$error":"#REF!"}},null,{"$error":"#REF!"},null,{"$f":"IF(#REF!=\"\",\"\",\"เลือกก่อนปริ้น\")","v":{"$error":"#REF!"}}]
[null,{"$f":"IF(#REF!=\"\",\"\",#REF!&\".\"&\" \"&#REF!&\" จำนวน \"&#REF!&\" \"&#REF!)","v":{"$error":"#REF!"}},null,null,null,null,{"$error":"#REF!"},{"$f":"IF(B70=\"\",\"\",#REF!)","v":{"$error":"#REF!"}},null,{"$error":"#REF!"},null,{"$f":"IF(#REF!=\"\",\"\",\"เลือกก่อนปริ้น\")","v":{"$error":"#REF!"}}]
[null,{"$f":"IF(#REF!=\"\",\"\",#REF!&\".\"&\" \"&#REF!&\" จำนวน \"&#REF!&\" \"&#REF!)","v":{"$error":"#REF!"}},null,null,null,null,{"$error":"#REF!"},{"$f":"IF(B71=\"\",\"\",#REF!)","v":{"$error":"#REF!"}},null,{"$error":"#REF!"},null,{"$f":"IF(#REF!=\"\",\"\",\"เลือกก่อนปริ้น\")","v":{"$error":"#REF!"}}]
[null,{"$f":"IF(#REF!=\"\",\"\",#REF!&\".\"&\" \"&#REF!&\" จำนวน \"&#REF!&\" \"&#REF!)","v":{"$error":"#REF!"}},null,null,null,null,{"$error":"#REF!"},{"$f":"IF(B72=\"\",\"\",#REF!)","v":{"$error":"#REF!"}},null,{"$error":"#REF!"},null,{"$f":"IF(#REF!=\"\",\"\",\"เลือกก่อนปริ้น\")","v":{"$error":"#REF!"}}]
[null,{"$f":"IF(#REF!=\"\",\"\",#REF!&\".\"&\" \"&#REF!&\" จำนวน \"&#REF!&\" \"&#REF!)","v":{"$error":"#REF!"}},null,null,null,null,{"$error":"#REF!"},{"$f":"IF(B73=\"\",\"\",#REF!)","v":{"$error":"#REF!"}},null,{"$error":"#REF!"},null,{"$f":"IF(#REF!=\"\",\"\",\"เลือกก่อนปริ้น\")","v":{"$error":"#REF!"}}]
[null,{"$f":"IF(#REF!=\"\",\"\",#REF!&\".\"&\" \"&#REF!&\" จำนวน \"&#REF!&\" \"&#REF!)","v":{"$error":"#REF!"}},null,null,null,null,{"$error":"#REF!"},{"$f":"IF(B74=\"\",\"\",#REF!)","v":{"$error":"#REF!"}},null,{"$error":"#REF!"},null,{"$f":"IF(#REF!=\"\",\"\",\"เลือกก่อนปริ้น\")","v":{"$error":"#REF!"}}]
[null,{"$f":"IF(#REF!=\"\",\"\",#REF!&\".\"&\" \"&#REF!&\" จำนวน \"&#REF!&\" \"&#REF!)","v":{"$error":"#REF!"}},null,null,null,null,{"$f":"IF(B75=\"\",\"\",$G$9)","v":{"$error":"#REF!"}},{"$f":"IF(B75=\"\",\"\",#REF!)","v":{"$error":"#REF!"}},null,{"$error":"#REF!"},null,{"$f":"IF(#REF!=\"\",\"\",\"เลือกก่อนปริ้น\")","v":{"$error":"#REF!"}}]
[null,{"$f":"IF(#REF!=\"\",\"\",#REF!&\".\"&\" \"&#REF!&\" จำนวน \"&#REF!&\" \"&#REF!)","v":{"$error":"#REF!"}},null,null,null,null,{"$error":"#REF!"},{"$f":"IF(B76=\"\",\"\",#REF!)","v":{"$error":"#REF!"}},null,{"$error":"#REF!"},null,{"$f":"IF(#REF!=\"\",\"\",\"เลือกก่อนปริ้น\")","v":{"$error":"#REF!"}}]
[null,{"$f":"IF(#REF!=\"\",\"\",#REF!&\".\"&\" \"&#REF!&\" จำนวน \"&#REF!&\" \"&#REF!)","v":{"$error":"#REF!"}},null,null,null,null,{"$error":"#REF!"},{"$f":"IF(B77=\"\",\"\",#REF!)","v":{"$error":"#REF!"}},null,{"$error":"#REF!"},null,{"$f":"IF(#REF!=\"\",\"\",\"เลือกก่อนปริ้น\")","v":{"$error":"#REF!"}}]
[null,{"$f":"IF(#REF!=\"\",\"\",#REF!&\".\"&\" \"&#REF!&\" จำนวน \"&#REF!&\" \"&#REF!)","v":{"$error":"#REF!"}},null,null,null,null,{"$error":"#REF!"},{"$f":"IF(B78=\"\",\"\",#REF!)","v":{"$error":"#REF!"}},null,{"$error":"#REF!"},null,{"$f":"IF(#REF!=\"\",\"\",\"เลือกก่อนปริ้น\")","v":{"$error":"#REF!"}}]
[null,{"$f":"IF(#REF!=\"\",\"\",#REF!&\".\"&\" \"&#REF!&\" จำนวน \"&#REF!&\" \"&#REF!)","v":{"$error":"#REF!"}},null,null,null,null,{"$error":"#REF!"},{"$f":"IF(B79=\"\",\"\",#REF!)","v":{"$error":"#REF!"}},null,{"$error":"#REF!"},null,{"$f":"IF(#REF!=\"\",\"\",\"เลือกก่อนปริ้น\")","v":{"$error":"#REF!"}}]
[null,{"$f":"IF(#REF!=\"\",\"\",#REF!&\".\"&\" \"&#REF!&\" จำนวน \"&#REF!&\" \"&#REF!)","v":{"$error":"#REF!"}},null,null,null,null,{"$error":"#REF!"},{"$f":"IF(B80=\"\",\"\",#REF!)","v":{"$error":"#REF!"}},null,{"$error":"#REF!"},null,{"$f":"IF(#REF!=\"\",\"\",\"เลือกก่อนปริ้น\")","v":{"$error":"#REF!"}}]
[null,{"$f":"IF(#REF!=\"\",\"\",#REF!&\".\"&\" \"&#REF!&\" จำนวน \"&#REF!&\" \"&#REF!)","v":{"$error":"#REF!"}},null,null,null,null,{"$error":"#REF!"},{"$f":"IF(B81=\"\",\"\",#REF!)","v":{"$error":"#REF!"}},null,{"$error":"#REF!"},null,{"$f":"IF(#REF!=\"\",\"\",\"เลือกก่อนปริ้น\")","v":{"$error":"#REF!"}}]
[null,{"$f":"IF(#REF!=\"\",\"\",#REF!&\".\"&\" \"&#REF!&\" จำนวน \"&#REF!&\" \"&#REF!)","v":{"$error":"#REF!"}},null,null,null,null,{"$error":"#REF!"},{"$f":"IF(B82=\"\",\"\",#REF!)","v":{"$error":"#REF!"}},null,{"$error":"#REF!"},null,{"$f":"IF(#REF!=\"\",\"\",\"เลือกก่อนปริ้น\")","v":{"$error":"#REF!"}}]
[null,"รวม",null,null,null,null,null,{"$f":"SUM(H9:I82)","v":{"$error":"#REF!"}},null,{"$f":"SUM(J9:K82)","v":{"$error":"#REF!"}},null,"เลือกก่อนปริ้น"]
[null,null,"เกณฑ์การพิจารณาผลการยื่นข้อเสนอครั้งนี้ จะพิจารณาตัดสินโดยใช้หลักเกณฑ์ราคา",null,null,null,null,null,null,null,null,"เลือกก่อนปริ้น"]
[null,null,{"$f":"DATABASE!C15","v":"โรงพยาบาลส่งเสริมสุขภาพตำบลบ้านกระเบื้องน้อย"},null,null,null,null,null,null,null,null,"เลือกก่อนปริ้น"]
[null,"ราคาดังกล่าว",null,null,null,null,null,null,null,null,null,"เลือกก่อนปริ้น"]
[null,null,"จึงเรียนมาเพื่อโปรดพิจารณา หากเห็นชอบขอได้โปรดอนุมัติให้สั่งซื้อจากผู้เสนอราคาดังกล่าว",null,null,null,null,null,null,null,null,"เลือกก่อนปริ้น"]
[null,null,null,null,null,null,null,null,null,null,null,"เลือกก่อนปริ้น"]
[null,null,null,null,null,null,"ลงชื่อ.............................................................",null,null,null,null,"เลือกก่อนปริ้น"]
[null,null,null,null,null,null,{"$f":"DATABASE!D13","v":"นายดำรงค์  สีระสูงเนิน"},null,null,null,null,"เลือกก่อนปริ้น"]
[null,null,null,null,null,{"$f":"DATABASE!D14","v":"ผู้อำนวยการโรงพยาบาลส่งเสริมสุขภาพตำบลบ้านกระเบื้องน้อย"},null,null,null,null,null,"เลือกก่อนปริ้น"]
[null,"เรียน","ผู้ว่าราชการจังหวัดบุรีรัมย์",null,null,null,null,"o","ทราบ/อนุมัติ",null,null,"เลือกก่อนปริ้น"]
[null,null," - เพื่อโปรดทราบ/พิจารณาอนุมัติ",null,null,null,null,"o","ไม่อนุมัติ เนื่องจาก......................",null,null,"เลือกก่อนปริ้น"]
[null,null,null,null,null,null,null,null,null,null,null,"เลือกก่อนปริ้น"]
[null,null,{"$f":"DATABASE!C7","v":"นางจุรีพร  บัวลอย"},null,null,null,null,null,null,null,null,"เลือกก่อนปริ้น"]
[null,null,{"$f":"DATABASE!D7","v":"นักวิชาการสาธารณสุข ชำนาญการ"},null,null,null,{"$f":"DATABASE!C6","v":"นายประหยัด  นงประโคน"},null,null,null,null,"เลือกก่อนปริ้น"]
[null,null,null,null,null,null,{"$f":"DATABASE!D6","v":"สาธารณสุขอำเภอหนองหงส์"},null,null,null,null,"เลือกก่อนปริ้น"]
[null,null,null,null,null,null,{"$f":"รายงานจัดจ้าง!J40","v":"ปฏิบัติราชการแทนผู้ว่าราชการจังหวัดบุรีรัมย์"},null,null,null,null,"เลือกก่อนปริ้น"]

{"sheet":"ประกาศ","index":9,"n_rows":91,"n_cols":12,"rows_kept":91,"cut":false,"hidden":true,"merged":[[89,4,89,8],[90,3,90,9],[85,4,85,5],[4,1,4,9],[5,1,5,9],[87,5,87,7],[88,5,88,7]]}
[]
[]
[]
[]
[null,"ประกาศจังหวัดบุรีรัมย์",null,null,null,null,null,null,null,null,"พิมพ์กรณีเกิน 5,000 บาท"]
[null,{"$f":"'เห็นชอบรวม(น1)'!C5","v":"ถ่ายเอกสารงานราชการและเข้าเล่ม"}]
[null,null,{"$f":"DATABASE!C15","v":"โรงพยาบาลส่งเสริมสุขภาพตำบลบ้านกระเบื้องน้อย"}]
[null,{"$f":"'เห็นชอบรวม(น1)'!C5","v":"ถ่ายเอกสารงานราชการและเข้าเล่ม"},null,null,null,null,null,null,null,null,null,"<< เลือกตัวกรองก่อนปริ้นทุกครั้ง"]
[null,null,{"$f":"IF(ใบเสนอราคา!B12=\"\",\"\",ใบเสนอราคา!B12&\".\"&\" \"&ใบเสนอราคา!C12&\" \"&\" จำนวน\"&\" \"&ใบเสนอราคา!D12&\" \"&ใบเสนอราคา!E12&\"ๆ \"&ใบเสนอราคา!F12&\" บาท\")","v":"1. ค่าถ่ายเอกสารสี และขาวดำ จำนวน 98 หน้า พร้อมเข้าเล่ม(ส่งเขต)  จำนวน 1 เล่มๆ 700 บาท"},null,null,null,null,null,null,null,{"$f":"IF(#REF!=\"\",\"\",\"เลือกเพื่อปริ้น\")","v":{"$error":"#REF!"}}]
[null,null,{"$f":"IF(ใบเสนอราคา!B13=\"\",\"\",ใบเสนอราคา!B13&\".\"&\" \"&ใบเสนอราคา!C13&\" \"&\" จำนวน\"&\" \"&ใบเสนอราคา!D13&\" \"&ใบเสนอราคา!E13&\"ๆ \"&ใบเสนอราคา!F13&\" บาท\")","v":"2. ค่าถ่ายเอกสารสี และขาวดำ จำนวน 141 หน้า พร้อมเข้าเล่ม (ส่งเขต)  จำนวน 1 เล่มๆ 1018 บาท"},null,null,null,null,null,null,null,{"$f":"IF(C10=\"\",\"\",\"เลือกเพื่อปริ้น\")","v":"เลือกเพื่อปริ้น"}]
[null,null,{"$f":"IF(ใบเสนอราคา!B14=\"\",\"\",ใบเสนอราคา!B14&\".\"&\" \"&ใบเสนอราคา!C14&\" \"&\" จำนวน\"&\" \"&ใบเสนอราคา!D14&\" \"&ใบเสนอราคา!E14&\"ๆ \"&ใบเสนอราคา!F14&\" บาท\")","v":"3. ค่าถ่ายเอกสารขาวดำ จำนวน 98 หน้า พร้อมเข้าเล่ม(นำเสนอ สสจ.)  จำนวน 2 เล่มๆ 141 บาท"},null,null,null,null,null,null,null,"เลือกเพื่อปริ้น"]
[null,null,{"$f":"IF(ใบเสนอราคา!B15=\"\",\"\",ใบเสนอราคา!B15&\".\"&\" \"&ใบเสนอราคา!C15&\" \"&\" จำนวน\"&\" \"&ใบเสนอราคา!D15&\" \"&ใบเสนอราคา!E15&\"ๆ \"&ใบเสนอราคา!F15&\" บาท\")","v":""},null,null,null,null,null,null,null,""]
[null,null,{"$f":"IF(ใบเสนอราคา!B16=\"\",\"\",ใบเสนอราคา!B16&\".\"&\" \"&ใบเสนอราคา!C16&\" \"&\" จำนวน\"&\" \"&ใบเสนอราคา!D16&\" \"&ใบเสนอราคา!E16&\"ๆ \"&ใบเสนอราคา!F16&\" บาท\")","v":""},null,null,null,null,null,null,null,""]
[null,null,{"$f":"IF(ใบเสนอราคา!B17=\"\",\"\",ใบเสนอราคา!B17&\".\"&\" \"&ใบเสนอราคา!C17&\" \"&\" จำนวน\"&\" \"&ใบเสนอราคา!D17&\" \"&ใบเสนอราคา!E17&\"ๆ \"&ใบเสนอราคา!F17&\" บาท\")","v":""},null,null,null,null,null,null,null,""]
[null,null,{"$f":"IF(ใบเสนอราคา!B18=\"\",\"\",ใบเสนอราคา!B18&\".\"&\" \"&ใบเสนอราคา!C18&\" \"&\" จำนวน\"&\" \"&ใบเสนอราคา!D18&\" \"&ใบเสนอราคา!E18&\"ๆ \"&ใบเสนอราคา!F18&\" บาท\")","v":""},null,null,null,null,null,null,null,""]
[null,null,{"$f":"IF(ใบเสนอราคา!#REF!=\"\",\"\",ใบเสนอราคา!#REF!&\".\"&\" \"&ใบเสนอราคา!#REF!&\" \"&\" จำนวน\"&\" \"&ใบเสนอราคา!#REF!&\" \"&ใบเสนอราคา!#REF!&\"ๆ \"&ใบเสนอราคา!#REF!&\" บาท\")","v":{"$error":"#REF!"}},null,null,null,null,null,null,null,{"$error":"#REF!"}]
[null,null,{"$f":"IF(ใบเสนอราคา!#REF!=\"\",\"\",ใบเสนอราคา!#REF!&\".\"&\" \"&ใบเสนอราคา!#REF!&\" \"&\" จำนวน\"&\" \"&ใบเสนอราคา!#REF!&\" \"&ใบเสนอราคา!#REF!&\"ๆ \"&ใบเสนอราคา!#REF!&\" บาท\")","v":{"$error":"#REF!"}},null,null,null,null,null,null,null,{"$error":"#REF!"}]
[null,null,{"$f":"IF(ใบเสนอราคา!#REF!=\"\",\"\",ใบเสนอราคา!#REF!&\".\"&\" \"&ใบเสนอราคา!#REF!&\" \"&\" จำนวน\"&\" \"&ใบเสนอราคา!#REF!&\" \"&ใบเสนอราคา!#REF!&\"ๆ \"&ใบเสนอราคา!#REF!&\" บาท\")","v":{"$error":"#REF!"}},null,null,null,null,null,null,null,{"$error":"#REF!"}]
[null,null,{"$f":"IF(ใบเสนอราคา!#REF!=\"\",\"\",ใบเสนอราคา!#REF!&\".\"&\" \"&ใบเสนอราคา!#REF!&\" \"&\" จำนวน\"&\" \"&ใบเสนอราคา!#REF!&\" \"&ใบเสนอราคา!#REF!&\"ๆ \"&ใบเสนอราคา!#REF!&\" บาท\")","v":{"$error":"#REF!"}},null,null,null,null,null,null,null,{"$error":"#REF!"}]
[null,null,{"$f":"IF(ใบเสนอราคา!#REF!=\"\",\"\",ใบเสนอราคา!#REF!&\".\"&\" \"&ใบเสนอราคา!#REF!&\" \"&\" จำนวน\"&\" \"&ใบเสนอราคา!#REF!&\" \"&ใบเสนอราคา!#REF!&\"ๆ \"&ใบเสนอราคา!#REF!&\" บาท\")","v":{"$error":"#REF!"}},null,null,null,null,null,null,null,{"$error":"#REF!"}]
[null,null,{"$f":"IF(ใบเสนอราคา!#REF!=\"\",\"\",ใบเสนอราคา!#REF!&\".\"&\" \"&ใบเสนอราคา!#REF!&\" \"&\" จำนวน\"&\" \"&ใบเสนอราคา!#REF!&\" \"&ใบเสนอราคา!#REF!&\"ๆ \"&ใบเสนอราคา!#REF!&\" บาท\")","v":{"$error":"#REF!"}},null,null,null,null,null,null,null,{"$error":"#REF!"}]
[null,null,{"$f":"IF(ใบเสนอราคา!#REF!=\"\",\"\",ใบเสนอราคา!#REF!&\".\"&\" \"&ใบเสนอราคา!#REF!&\" \"&\" จำนวน\"&\" \"&ใบเสนอราคา!#REF!&\" \"&ใบเสนอราคา!#REF!&\"ๆ \"&ใบเสนอราคา!#REF!&\" บาท\")","v":{"$error":"#REF!"}},null,null,null,null,null,null,null,{"$error":"#REF!"}]
[null,null,{"$f":"IF(ใบเสนอราคา!#REF!=\"\",\"\",ใบเสนอราคา!#REF!&\".\"&\" \"&ใบเสนอราคา!#REF!&\" \"&\" จำนวน\"&\" \"&ใบเสนอราคา!#REF!&\" \"&ใบเสนอราคา!#REF!&\"ๆ \"&ใบเสนอราคา!#REF!&\" บาท\")","v":{"$error":"#REF!"}},null,null,null,null,null,null,null,{"$error":"#REF!"}]
[null,null,{"$f":"IF(ใบเสนอราคา!#REF!=\"\",\"\",ใบเสนอราคา!#REF!&\".\"&\" \"&ใบเสนอราคา!#REF!&\" \"&\" จำนวน\"&\" \"&ใบเสนอราคา!#REF!&\" \"&ใบเสนอราคา!#REF!&\"ๆ \"&ใบเสนอราคา!#REF!&\" บาท\")","v":{"$error":"#REF!"}},null,null,null,null,null,null,null,{"$error":"#REF!"}]
[null,null,{"$f":"IF(ใบเสนอราคา!#REF!=\"\",\"\",ใบเสนอราคา!#REF!&\".\"&\" \"&ใบเสนอราคา!#REF!&\" \"&\" จำนวน\"&\" \"&ใบเสนอราคา!#REF!&\" \"&ใบเสนอราคา!#REF!&\"ๆ \"&ใบเสนอราคา!#REF!&\" บาท\")","v":{"$error":"#REF!"}},null,null,null,null,null,null,null,{"$error":"#REF!"}]
[null,null,{"$f":"IF(ใบเสนอราคา!#REF!=\"\",\"\",ใบเสนอราคา!#REF!&\".\"&\" \"&ใบเสนอราคา!#REF!&\" \"&\" จำนวน\"&\" \"&ใบเสนอราคา!#REF!&\" \"&ใบเสนอราคา!#REF!&\"ๆ \"&ใบเสนอราคา!#REF!&\" บาท\")","v":{"$error":"#REF!"}},null,null,null,null,null,null,null,{"$error":"#REF!"}]
[null,null,{"$f":"IF(ใบเสนอราคา!#REF!=\"\",\"\",ใบเสนอราคา!#REF!&\".\"&\" \"&ใบเสนอราคา!#REF!&\" \"&\" จำนวน\"&\" \"&ใบเสนอราคา!#REF!&\" \"&ใบเสนอราคา!#REF!&\"ๆ \"&ใบเสนอราคา!#REF!&\" บาท\")","v":{"$error":"#REF!"}},null,null,null,null,null,null,null,{"$error":"#REF!"}]
[null,null,{"$f":"IF(ใบเสนอราคา!#REF!=\"\",\"\",ใบเสนอราคา!#REF!&\".\"&\" \"&ใบเสนอราคา!#REF!&\" \"&\" จำนวน\"&\" \"&ใบเสนอราคา!#REF!&\" \"&ใบเสนอราคา!#REF!&\"ๆ \"&ใบเสนอราคา!#REF!&\" บาท\")","v":{"$error":"#REF!"}},null,null,null,null,null,null,null,{"$error":"#REF!"}]
[null,null,{"$f":"IF(ใบเสนอราคา!#REF!=\"\",\"\",ใบเสนอราคา!#REF!&\".\"&\" \"&ใบเสนอราคา!#REF!&\" \"&\" จำนวน\"&\" \"&ใบเสนอราคา!#REF!&\" \"&ใบเสนอราคา!#REF!&\"ๆ \"&ใบเสนอราคา!#REF!&\" บาท\")","v":{"$error":"#REF!"}},null,null,null,null,null,null,null,{"$error":"#REF!"}]
[null,null,{"$f":"IF(ใบเสนอราคา!#REF!=\"\",\"\",ใบเสนอราคา!#REF!&\".\"&\" \"&ใบเสนอราคา!#REF!&\" \"&\" จำนวน\"&\" \"&ใบเสนอราคา!#REF!&\" \"&ใบเสนอราคา!#REF!&\"ๆ \"&ใบเสนอราคา!#REF!&\" บาท\")","v":{"$error":"#REF!"}},null,null,null,null,null,null,null,{"$error":"#REF!"}]
[null,null,{"$f":"IF(ใบเสนอราคา!#REF!=\"\",\"\",ใบเสนอราคา!#REF!&\".\"&\" \"&ใบเสนอราคา!#REF!&\" \"&\" จำนวน\"&\" \"&ใบเสนอราคา!#REF!&\" \"&ใบเสนอราคา!#REF!&\"ๆ \"&ใบเสนอราคา!#REF!&\" บาท\")","v":{"$error":"#REF!"}},null,null,null,null,null,null,null,{"$error":"#REF!"}]
[null,null,{"$f":"IF(ใบเสนอราคา!#REF!=\"\",\"\",ใบเสนอราคา!#REF!&\".\"&\" \"&ใบเสนอราคา!#REF!&\" \"&\" จำนวน\"&\" \"&ใบเสนอราคา!#REF!&\" \"&ใบเสนอราคา!#REF!&\"ๆ \"&ใบเสนอราคา!#REF!&\" บาท\")","v":{"$error":"#REF!"}},null,null,null,null,null,null,null,{"$error":"#REF!"}]
[null,null,{"$f":"IF(ใบเสนอราคา!#REF!=\"\",\"\",ใบเสนอราคา!#REF!&\".\"&\" \"&ใบเสนอราคา!#REF!&\" \"&\" จำนวน\"&\" \"&ใบเสนอราคา!#REF!&\" \"&ใบเสนอราคา!#REF!&\"ๆ \"&ใบเสนอราคา!#REF!&\" บาท\")","v":{"$error":"#REF!"}},null,null,null,null,null,null,null,{"$error":"#REF!"}]
[null,null,{"$f":"IF(ใบเสนอราคา!#REF!=\"\",\"\",ใบเสนอราคา!#REF!&\".\"&\" \"&ใบเสนอราคา!#REF!&\" \"&\" จำนวน\"&\" \"&ใบเสนอราคา!#REF!&\" \"&ใบเสนอราคา!#REF!&\"ๆ \"&ใบเสนอราคา!#REF!&\" บาท\")","v":{"$error":"#REF!"}},null,null,null,null,null,null,null,{"$error":"#REF!"}]
[null,null,{"$f":"IF(ใบเสนอราคา!#REF!=\"\",\"\",ใบเสนอราคา!#REF!&\".\"&\" \"&ใบเสนอราคา!#REF!&\" \"&\" จำนวน\"&\" \"&ใบเสนอราคา!#REF!&\" \"&ใบเสนอราคา!#REF!&\"ๆ \"&ใบเสนอราคา!#REF!&\" บาท\")","v":{"$error":"#REF!"}},null,null,null,null,null,null,null,{"$error":"#REF!"}]
[null,null,{"$f":"IF(ใบเสนอราคา!#REF!=\"\",\"\",ใบเสนอราคา!#REF!&\".\"&\" \"&ใบเสนอราคา!#REF!&\" \"&\" จำนวน\"&\" \"&ใบเสนอราคา!#REF!&\" \"&ใบเสนอราคา!#REF!&\"ๆ \"&ใบเสนอราคา!#REF!&\" บาท\")","v":{"$error":"#REF!"}},null,null,null,null,null,null,null,{"$error":"#REF!"}]
[null,null,{"$f":"IF(ใบเสนอราคา!#REF!=\"\",\"\",ใบเสนอราคา!#REF!&\".\"&\" \"&ใบเสนอราคา!#REF!&\" \"&\" จำนวน\"&\" \"&ใบเสนอราคา!#REF!&\" \"&ใบเสนอราคา!#REF!&\"ๆ \"&ใบเสนอราคา!#REF!&\" บาท\")","v":{"$error":"#REF!"}},null,null,null,null,null,null,null,{"$error":"#REF!"}]
[null,null,{"$f":"IF(ใบเสนอราคา!#REF!=\"\",\"\",ใบเสนอราคา!#REF!&\".\"&\" \"&ใบเสนอราคา!#REF!&\" \"&\" จำนวน\"&\" \"&ใบเสนอราคา!#REF!&\" \"&ใบเสนอราคา!#REF!&\"ๆ \"&ใบเสนอราคา!#REF!&\" บาท\")","v":{"$error":"#REF!"}},null,null,null,null,null,null,null,{"$error":"#REF!"}]
[null,null,{"$f":"IF(ใบเสนอราคา!#REF!=\"\",\"\",ใบเสนอราคา!#REF!&\".\"&\" \"&ใบเสนอราคา!#REF!&\" \"&\" จำนวน\"&\" \"&ใบเสนอราคา!#REF!&\" \"&ใบเสนอราคา!#REF!&\"ๆ \"&ใบเสนอราคา!#REF!&\" บาท\")","v":{"$error":"#REF!"}},null,null,null,null,null,null,null,{"$error":"#REF!"}]
[null,null,{"$f":"IF(ใบเสนอราคา!#REF!=\"\",\"\",ใบเสนอราคา!#REF!&\".\"&\" \"&ใบเสนอราคา!#REF!&\" \"&\" จำนวน\"&\" \"&ใบเสนอราคา!#REF!&\" \"&ใบเสนอราคา!#REF!&\"ๆ \"&ใบเสนอราคา!#REF!&\" บาท\")","v":{"$error":"#REF!"}},null,null,null,null,null,null,null,{"$error":"#REF!"}]
[null,null,{"$f":"IF(ใบเสนอราคา!#REF!=\"\",\"\",ใบเสนอราคา!#REF!&\".\"&\" \"&ใบเสนอราคา!#REF!&\" \"&\" จำนวน\"&\" \"&ใบเสนอราคา!#REF!&\" \"&ใบเสนอราคา!#REF!&\"ๆ \"&ใบเสนอราคา!#REF!&\" บาท\")","v":{"$error":"#REF!"}},null,null,null,null,null,null,null,{"$error":"#REF!"}]
[null,null,{"$f":"IF(ใบเสนอราคา!#REF!=\"\",\"\",ใบเสนอราคา!#REF!&\".\"&\" \"&ใบเสนอราคา!#REF!&\" \"&\" จำนวน\"&\" \"&ใบเสนอราคา!#REF!&\" \"&ใบเสนอราคา!#REF!&\"ๆ \"&ใบเสนอราคา!#REF!&\" บาท\")","v":{"$error":"#REF!"}},null,null,null,null,null,null,null,{"$error":"#REF!"}]
[null,null,{"$f":"IF(ใบเสนอราคา!#REF!=\"\",\"\",ใบเสนอราคา!#REF!&\".\"&\" \"&ใบเสนอราคา!#REF!&\" \"&\" จำนวน\"&\" \"&ใบเสนอราคา!#REF!&\" \"&ใบเสนอราคา!#REF!&\"ๆ \"&ใบเสนอราคา!#REF!&\" บาท\")","v":{"$error":"#REF!"}},null,null,null,null,null,null,null,{"$error":"#REF!"}]
[null,null,{"$f":"IF(ใบเสนอราคา!#REF!=\"\",\"\",ใบเสนอราคา!#REF!&\".\"&\" \"&ใบเสนอราคา!#REF!&\" \"&\" จำนวน\"&\" \"&ใบเสนอราคา!#REF!&\" \"&ใบเสนอราคา!#REF!&\"ๆ \"&ใบเสนอราคา!#REF!&\" บาท\")","v":{"$error":"#REF!"}},null,null,null,null,null,null,null,{"$error":"#REF!"}]
[null,null,{"$f":"IF(ใบเสนอราคา!#REF!=\"\",\"\",ใบเสนอราคา!#REF!&\".\"&\" \"&ใบเสนอราคา!#REF!&\" \"&\" จำนวน\"&\" \"&ใบเสนอราคา!#REF!&\" \"&ใบเสนอราคา!#REF!&\"ๆ \"&ใบเสนอราคา!#REF!&\" บาท\")","v":{"$error":"#REF!"}},null,null,null,null,null,null,null,{"$error":"#REF!"}]
[null,null,{"$f":"IF(ใบเสนอราคา!#REF!=\"\",\"\",ใบเสนอราคา!#REF!&\".\"&\" \"&ใบเสนอราคา!#REF!&\" \"&\" จำนวน\"&\" \"&ใบเสนอราคา!#REF!&\" \"&ใบเสนอราคา!#REF!&\"ๆ \"&ใบเสนอราคา!#REF!&\" บาท\")","v":{"$error":"#REF!"}},null,null,null,null,null,null,null,{"$error":"#REF!"}]
[null,null,{"$f":"IF(ใบเสนอราคา!#REF!=\"\",\"\",ใบเสนอราคา!#REF!&\".\"&\" \"&ใบเสนอราคา!#REF!&\" \"&\" จำนวน\"&\" \"&ใบเสนอราคา!#REF!&\" \"&ใบเสนอราคา!#REF!&\"ๆ \"&ใบเสนอราคา!#REF!&\" บาท\")","v":{"$error":"#REF!"}},null,null,null,null,null,null,null,{"$error":"#REF!"}]
[null,null,{"$f":"IF(ใบเสนอราคา!#REF!=\"\",\"\",ใบเสนอราคา!#REF!&\".\"&\" \"&ใบเสนอราคา!#REF!&\" \"&\" จำนวน\"&\" \"&ใบเสนอราคา!#REF!&\" \"&ใบเสนอราคา!#REF!&\"ๆ \"&ใบเสนอราคา!#REF!&\" บาท\")","v":{"$error":"#REF!"}},null,null,null,null,null,null,null,{"$error":"#REF!"}]
[null,null,{"$f":"IF(ใบเสนอราคา!#REF!=\"\",\"\",ใบเสนอราคา!#REF!&\".\"&\" \"&ใบเสนอราคา!#REF!&\" \"&\" จำนวน\"&\" \"&ใบเสนอราคา!#REF!&\" \"&ใบเสนอราคา!#REF!&\"ๆ \"&ใบเสนอราคา!#REF!&\" บาท\")","v":{"$error":"#REF!"}},null,null,null,null,null,null,null,{"$error":"#REF!"}]
[null,null,{"$f":"IF(ใบเสนอราคา!#REF!=\"\",\"\",ใบเสนอราคา!#REF!&\".\"&\" \"&ใบเสนอราคา!#REF!&\" \"&\" จำนวน\"&\" \"&ใบเสนอราคา!#REF!&\" \"&ใบเสนอราคา!#REF!&\"ๆ \"&ใบเสนอราคา!#REF!&\" บาท\")","v":{"$error":"#REF!"}},null,null,null,null,null,null,null,{"$error":"#REF!"}]
[null,null,{"$f":"IF(ใบเสนอราคา!#REF!=\"\",\"\",ใบเสนอราคา!#REF!&\".\"&\" \"&ใบเสนอราคา!#REF!&\" \"&\" จำนวน\"&\" \"&ใบเสนอราคา!#REF!&\" \"&ใบเสนอราคา!#REF!&\"ๆ \"&ใบเสนอราคา!#REF!&\" บาท\")","v":{"$error":"#REF!"}},null,null,null,null,null,null,null,{"$error":"#REF!"}]
[null,null,{"$f":"IF(ใบเสนอราคา!#REF!=\"\",\"\",ใบเสนอราคา!#REF!&\".\"&\" \"&ใบเสนอราคา!#REF!&\" \"&\" จำนวน\"&\" \"&ใบเสนอราคา!#REF!&\" \"&ใบเสนอราคา!#REF!&\"ๆ \"&ใบเสนอราคา!#REF!&\" บาท\")","v":{"$error":"#REF!"}},null,null,null,null,null,null,null,{"$error":"#REF!"}]
[null,null,{"$f":"IF(ใบเสนอราคา!#REF!=\"\",\"\",ใบเสนอราคา!#REF!&\".\"&\" \"&ใบเสนอราคา!#REF!&\" \"&\" จำนวน\"&\" \"&ใบเสนอราคา!#REF!&\" \"&ใบเสนอราคา!#REF!&\"ๆ \"&ใบเสนอราคา!#REF!&\" บาท\")","v":{"$error":"#REF!"}},null,null,null,null,null,null,null,{"$error":"#REF!"}]
[null,null,{"$f":"IF(ใบเสนอราคา!#REF!=\"\",\"\",ใบเสนอราคา!#REF!&\".\"&\" \"&ใบเสนอราคา!#REF!&\" \"&\" จำนวน\"&\" \"&ใบเสนอราคา!#REF!&\" \"&ใบเสนอราคา!#REF!&\"ๆ \"&ใบเสนอราคา!#REF!&\" บาท\")","v":{"$error":"#REF!"}},null,null,null,null,null,null,null,{"$error":"#REF!"}]
[null,null,{"$f":"IF(ใบเสนอราคา!#REF!=\"\",\"\",ใบเสนอราคา!#REF!&\".\"&\" \"&ใบเสนอราคา!#REF!&\" \"&\" จำนวน\"&\" \"&ใบเสนอราคา!#REF!&\" \"&ใบเสนอราคา!#REF!&\"ๆ \"&ใบเสนอราคา!#REF!&\" บาท\")","v":{"$error":"#REF!"}},null,null,null,null,null,null,null,{"$error":"#REF!"}]
[null,null,{"$f":"IF(ใบเสนอราคา!#REF!=\"\",\"\",ใบเสนอราคา!#REF!&\".\"&\" \"&ใบเสนอราคา!#REF!&\" \"&\" จำนวน\"&\" \"&ใบเสนอราคา!#REF!&\" \"&ใบเสนอราคา!#REF!&\"ๆ \"&ใบเสนอราคา!#REF!&\" บาท\")","v":{"$error":"#REF!"}},null,null,null,null,null,null,null,{"$error":"#REF!"}]
[null,null,{"$f":"IF(ใบเสนอราคา!#REF!=\"\",\"\",ใบเสนอราคา!#REF!&\".\"&\" \"&ใบเสนอราคา!#REF!&\" \"&\" จำนวน\"&\" \"&ใบเสนอราคา!#REF!&\" \"&ใบเสนอราคา!#REF!&\"ๆ \"&ใบเสนอราคา!#REF!&\" บาท\")","v":{"$error":"#REF!"}},null,null,null,null,null,null,null,{"$error":"#REF!"}]
[null,null,{"$f":"IF(ใบเสนอราคา!#REF!=\"\",\"\",ใบเสนอราคา!#REF!&\".\"&\" \"&ใบเสนอราคา!#REF!&\" \"&\" จำนวน\"&\" \"&ใบเสนอราคา!#REF!&\" \"&ใบเสนอราคา!#REF!&\"ๆ \"&ใบเสนอราคา!#REF!&\" บาท\")","v":{"$error":"#REF!"}},null,null,null,null,null,null,null,{"$error":"#REF!"}]
[null,null,{"$f":"IF(ใบเสนอราคา!#REF!=\"\",\"\",ใบเสนอราคา!#REF!&\".\"&\" \"&ใบเสนอราคา!#REF!&\" \"&\" จำนวน\"&\" \"&ใบเสนอราคา!#REF!&\" \"&ใบเสนอราคา!#REF!&\"ๆ \"&ใบเสนอราคา!#REF!&\" บาท\")","v":{"$error":"#REF!"}},null,null,null,null,null,null,null,{"$error":"#REF!"}]
[null,null,{"$f":"IF(ใบเสนอราคา!#REF!=\"\",\"\",ใบเสนอราคา!#REF!&\".\"&\" \"&ใบเสนอราคา!#REF!&\" \"&\" จำนวน\"&\" \"&ใบเสนอราคา!#REF!&\" \"&ใบเสนอราคา!#REF!&\"ๆ \"&ใบเสนอราคา!#REF!&\" บาท\")","v":{"$error":"#REF!"}},null,null,null,null,null,null,null,{"$error":"#REF!"}]
[null,null,{"$f":"IF(ใบเสนอราคา!#REF!=\"\",\"\",ใบเสนอราคา!#REF!&\".\"&\" \"&ใบเสนอราคา!#REF!&\" \"&\" จำนวน\"&\" \"&ใบเสนอราคา!#REF!&\" \"&ใบเสนอราคา!#REF!&\"ๆ \"&ใบเสนอราคา!#REF!&\" บาท\")","v":{"$error":"#REF!"}},null,null,null,null,null,null,null,{"$error":"#REF!"}]
[null,null,{"$f":"IF(ใบเสนอราคา!#REF!=\"\",\"\",ใบเสนอราคา!#REF!&\".\"&\" \"&ใบเสนอราคา!#REF!&\" \"&\" จำนวน\"&\" \"&ใบเสนอราคา!#REF!&\" \"&ใบเสนอราคา!#REF!&\"ๆ \"&ใบเสนอราคา!#REF!&\" บาท\")","v":{"$error":"#REF!"}},null,null,null,null,null,null,null,{"$error":"#REF!"}]
[null,null,{"$f":"IF(ใบเสนอราคา!#REF!=\"\",\"\",ใบเสนอราคา!#REF!&\".\"&\" \"&ใบเสนอราคา!#REF!&\" \"&\" จำนวน\"&\" \"&ใบเสนอราคา!#REF!&\" \"&ใบเสนอราคา!#REF!&\"ๆ \"&ใบเสนอราคา!#REF!&\" บาท\")","v":{"$error":"#REF!"}},null,null,null,null,null,null,null,{"$error":"#REF!"}]
[null,null,{"$f":"IF(ใบเสนอราคา!#REF!=\"\",\"\",ใบเสนอราคา!#REF!&\".\"&\" \"&ใบเสนอราคา!#REF!&\" \"&\" จำนวน\"&\" \"&ใบเสนอราคา!#REF!&\" \"&ใบเสนอราคา!#REF!&\"ๆ \"&ใบเสนอราคา!#REF!&\" บาท\")","v":{"$error":"#REF!"}},null,null,null,null,null,null,null,{"$error":"#REF!"}]
[null,null,{"$f":"IF(ใบเสนอราคา!#REF!=\"\",\"\",ใบเสนอราคา!#REF!&\".\"&\" \"&ใบเสนอราคา!#REF!&\" \"&\" จำนวน\"&\" \"&ใบเสนอราคา!#REF!&\" \"&ใบเสนอราคา!#REF!&\"ๆ \"&ใบเสนอราคา!#REF!&\" บาท\")","v":{"$error":"#REF!"}},null,null,null,null,null,null,null,{"$error":"#REF!"}]
[null,null,{"$f":"IF(ใบเสนอราคา!#REF!=\"\",\"\",ใบเสนอราคา!#REF!&\".\"&\" \"&ใบเสนอราคา!#REF!&\" \"&\" จำนวน\"&\" \"&ใบเสนอราคา!#REF!&\" \"&ใบเสนอราคา!#REF!&\"ๆ \"&ใบเสนอราคา!#REF!&\" บาท\")","v":{"$error":"#REF!"}},null,null,null,null,null,null,null,{"$error":"#REF!"}]
[null,null,{"$f":"IF(ใบเสนอราคา!#REF!=\"\",\"\",ใบเสนอราคา!#REF!&\".\"&\" \"&ใบเสนอราคา!#REF!&\" \"&\" จำนวน\"&\" \"&ใบเสนอราคา!#REF!&\" \"&ใบเสนอราคา!#REF!&\"ๆ \"&ใบเสนอราคา!#REF!&\" บาท\")","v":{"$error":"#REF!"}},null,null,null,null,null,null,null,{"$error":"#REF!"}]
[null,null,{"$f":"IF(ใบเสนอราคา!#REF!=\"\",\"\",ใบเสนอราคา!#REF!&\".\"&\" \"&ใบเสนอราคา!#REF!&\" \"&\" จำนวน\"&\" \"&ใบเสนอราคา!#REF!&\" \"&ใบเสนอราคา!#REF!&\"ๆ \"&ใบเสนอราคา!#REF!&\" บาท\")","v":{"$error":"#REF!"}},null,null,null,null,null,null,null,{"$error":"#REF!"}]
[null,null,{"$f":"IF(ใบเสนอราคา!#REF!=\"\",\"\",ใบเสนอราคา!#REF!&\".\"&\" \"&ใบเสนอราคา!#REF!&\" \"&\" จำนวน\"&\" \"&ใบเสนอราคา!#REF!&\" \"&ใบเสนอราคา!#REF!&\"ๆ \"&ใบเสนอราคา!#REF!&\" บาท\")","v":{"$error":"#REF!"}},null,null,null,null,null,null,null,{"$error":"#REF!"}]
[null,null,{"$f":"IF(ใบเสนอราคา!#REF!=\"\",\"\",ใบเสนอราคา!#REF!&\".\"&\" \"&ใบเสนอราคา!#REF!&\" \"&\" จำนวน\"&\" \"&ใบเสนอราคา!#REF!&\" \"&ใบเสนอราคา!#REF!&\"ๆ \"&ใบเสนอราคา!#REF!&\" บาท\")","v":{"$error":"#REF!"}},null,null,null,null,null,null,null,{"$error":"#REF!"}]
[null,null,{"$f":"IF(ใบเสนอราคา!#REF!=\"\",\"\",ใบเสนอราคา!#REF!&\".\"&\" \"&ใบเสนอราคา!#REF!&\" \"&\" จำนวน\"&\" \"&ใบเสนอราคา!#REF!&\" \"&ใบเสนอราคา!#REF!&\"ๆ \"&ใบเสนอราคา!#REF!&\" บาท\")","v":{"$error":"#REF!"}},null,null,null,null,null,null,null,{"$error":"#REF!"}]
[null,null,{"$f":"IF(ใบเสนอราคา!#REF!=\"\",\"\",ใบเสนอราคา!#REF!&\".\"&\" \"&ใบเสนอราคา!#REF!&\" \"&\" จำนวน\"&\" \"&ใบเสนอราคา!#REF!&\" \"&ใบเสนอราคา!#REF!&\"ๆ \"&ใบเสนอราคา!#REF!&\" บาท\")","v":{"$error":"#REF!"}},null,null,null,null,null,null,null,{"$error":"#REF!"}]
[null,null,{"$f":"IF(ใบเสนอราคา!#REF!=\"\",\"\",ใบเสนอราคา!#REF!&\".\"&\" \"&ใบเสนอราคา!#REF!&\" \"&\" จำนวน\"&\" \"&ใบเสนอราคา!#REF!&\" \"&ใบเสนอราคา!#REF!&\"ๆ \"&ใบเสนอราคา!#REF!&\" บาท\")","v":{"$error":"#REF!"}},null,null,null,null,null,null,null,{"$error":"#REF!"}]
[null,null,{"$f":"IF(ใบเสนอราคา!#REF!=\"\",\"\",ใบเสนอราคา!#REF!&\".\"&\" \"&ใบเสนอราคา!#REF!&\" \"&\" จำนวน\"&\" \"&ใบเสนอราคา!#REF!&\" \"&ใบเสนอราคา!#REF!&\"ๆ \"&ใบเสนอราคา!#REF!&\" บาท\")","v":{"$error":"#REF!"}},null,null,null,null,null,null,null,{"$f":"IF(C74=\"\",\"\",\"เลือกเพื่อปริ้น\")","v":{"$error":"#REF!"}}]
[null,null,{"$f":"IF(ใบเสนอราคา!#REF!=\"\",\"\",ใบเสนอราคา!#REF!&\".\"&\" \"&ใบเสนอราคา!#REF!&\" \"&\" จำนวน\"&\" \"&ใบเสนอราคา!#REF!&\" \"&ใบเสนอราคา!#REF!&\"ๆ \"&ใบเสนอราคา!#REF!&\" บาท\")","v":{"$error":"#REF!"}},null,null,null,null,null,null,null,{"$error":"#REF!"}]
[null,null,{"$f":"IF(ใบเสนอราคา!#REF!=\"\",\"\",ใบเสนอราคา!#REF!&\".\"&\" \"&ใบเสนอราคา!#REF!&\" \"&\" จำนวน\"&\" \"&ใบเสนอราคา!#REF!&\" \"&ใบเสนอราคา!#REF!&\"ๆ \"&ใบเสนอราคา!#REF!&\" บาท\")","v":{"$error":"#REF!"}},null,null,null,null,null,null,null,{"$error":"#REF!"}]
[null,null,{"$f":"IF(ใบเสนอราคา!#REF!=\"\",\"\",ใบเสนอราคา!#REF!&\".\"&\" \"&ใบเสนอราคา!#REF!&\" \"&\" จำนวน\"&\" \"&ใบเสนอราคา!#REF!&\" \"&ใบเสนอราคา!#REF!&\"ๆ \"&ใบเสนอราคา!#REF!&\" บาท\")","v":{"$error":"#REF!"}},null,null,null,null,null,null,null,{"$error":"#REF!"}]
[null,null,{"$f":"IF(ใบเสนอราคา!#REF!=\"\",\"\",ใบเสนอราคา!#REF!&\".\"&\" \"&ใบเสนอราคา!#REF!&\" \"&\" จำนวน\"&\" \"&ใบเสนอราคา!#REF!&\" \"&ใบเสนอราคา!#REF!&\"ๆ \"&ใบเสนอราคา!#REF!&\" บาท\")","v":{"$error":"#REF!"}},null,null,null,null,null,null,null,{"$error":"#REF!"}]
[null,null,{"$f":"IF(ใบเสนอราคา!#REF!=\"\",\"\",ใบเสนอราคา!#REF!&\".\"&\" \"&ใบเสนอราคา!#REF!&\" \"&\" จำนวน\"&\" \"&ใบเสนอราคา!#REF!&\" \"&ใบเสนอราคา!#REF!&\"ๆ \"&ใบเสนอราคา!#REF!&\" บาท\")","v":{"$error":"#REF!"}},null,null,null,null,null,null,null,{"$error":"#REF!"}]
[null,null,{"$f":"IF(ใบเสนอราคา!#REF!=\"\",\"\",ใบเสนอราคา!#REF!&\".\"&\" \"&ใบเสนอราคา!#REF!&\" \"&\" จำนวน\"&\" \"&ใบเสนอราคา!#REF!&\" \"&ใบเสนอราคา!#REF!&\"ๆ \"&ใบเสนอราคา!#REF!&\" บาท\")","v":{"$error":"#REF!"}},null,null,null,null,null,null,null,{"$error":"#REF!"}]
[null,null,{"$f":"IF(ใบเสนอราคา!#REF!=\"\",\"\",ใบเสนอราคา!#REF!&\".\"&\" \"&ใบเสนอราคา!#REF!&\" \"&\" จำนวน\"&\" \"&ใบเสนอราคา!#REF!&\" \"&ใบเสนอราคา!#REF!&\"ๆ \"&ใบเสนอราคา!#REF!&\" บาท\")","v":{"$error":"#REF!"}},null,null,null,null,null,null,null,{"$error":"#REF!"}]
[null,null,{"$f":"IF(ใบเสนอราคา!#REF!=\"\",\"\",ใบเสนอราคา!#REF!&\".\"&\" \"&ใบเสนอราคา!#REF!&\" \"&\" จำนวน\"&\" \"&ใบเสนอราคา!#REF!&\" \"&ใบเสนอราคา!#REF!&\"ๆ \"&ใบเสนอราคา!#REF!&\" บาท\")","v":{"$error":"#REF!"}},null,null,null,null,null,null,null,{"$error":"#REF!"}]
[null,"ผู้เสนอราคาที่ชนะการเสนอราคา ได้แก่",null,null,{"$f":"DATABASE!C19","v":"หจก. เอกสารซีพี"},null,null,null,null,null,"เลือกเพื่อปริ้น"]
[null,{"$f":"ใบเสนอราคา!G19","v":2000},"บาท",{"$f":"\"(\"&BAHTTEXT(B84)&\")\"","v":"(สองพันบาทถ้วน)"},null,null,null,null,null,null,"เลือกเพื่อปริ้น"]
[null,"ค่าจดทะเบียน และค่าใช้จ่ายอื่นๆ ทั้งปวง",null,null,null,null,null,null,null,null,"เลือกเพื่อปริ้น"]
[null,null,"ประกาศ  ณ วันที่",null,"2560-09-28",null,null,null,null,null,"เลือกเพื่อปริ้น"]
[null,null,null,null,null,null,null,null,null,null,"เลือกเพื่อปริ้น"]
[null,null,null,null,null,{"$f":"DATABASE!C6","v":"นายประหยัด  นงประโคน"},null,null,null,null,"เลือกเพื่อปริ้น"]
[null,null,null,null,null,{"$f":"DATABASE!D6","v":"สาธารณสุขอำเภอหนองหงส์"},null,null,null,null,"เลือกเพื่อปริ้น"]
[null,null,null,null,"ปฏิบัติราชการแทนผู้ว่าราชการจังหวัดบุรีรัมย์ตาม",null,null,null,null,null,"เลือกเพื่อปริ้น"]
[null,null,null,{"$f":"DATABASE!C10","v":"คำสั่งจังหวัดบุรีรัมย์ ที่ 27631/2559 ลงวันที่ 24 สิงหาคม 2560"},null,null,null,null,null,null,"เลือกเพื่อปริ้น"]

{"sheet":"ใบสั่งจ้าง","index":10,"n_rows":99,"n_cols":13,"rows_kept":99,"cut":false,"hidden":false,"merged":[[11,3,12,4],[94,4,94,6],[95,4,95,6],[96,5,96,6],[91,2,91,6],[92,2,92,6],[4,7,4,8],[93,4,93,6],[83,2,83,6],[84,3,84,5],[8,1,8,3],[8,4,8,6],[9,1,9,6],[11,1,12,1],[11,2,12,2],[5,4,5,6],[6,1,6,3],[6,4,6,6],[7,1,7,3],[7,4,7,6],[5,7,5,8],[90,2,90,6],[84,9,84,10],[85,2,85,6],[87,2,87,6],[89,2,89,6],[79,1,79,3],[79,4,79,5],[80,1,80,3],[80,4,80,5],[81,1,81,3],[81,4,81,5],[88,2,88,6],[0,1,1,6],[2,1,2,6],[3,1,3,3],[4,5,4,6],[3,5,3,6],[4,1,5,3]]}
[]
[]
[null,"ใบสั่งจ้าง",null,null,null,null,null,null,null,null,{"$f":"DAY(F5)","v":22},{"$f":"MONTH(F5)","v":8},{"$f":"YEAR(F5)","v":2562}]
[null,{"$f":"\"ผู้รับจ้าง :  \"&DATABASE!C19","v":"ผู้รับจ้าง :  หจก. เอกสารซีพี"},null,null,"ใบสั่งจ้าง เลขที่","710/2562"]
[null,{"$f":"\"ที่อยู่   \"&DATABASE!C20&\"         \n \"&DATABASE!D20","v":"ที่อยู่   95/10-11 ถ.อินจันทร์รรงค์  ต.ในเมือง อ.เมือง จ.บุรีรัมย์         \n โทรศัพท์ 0 4461 4005"},null,null,"วันที่ ","2562-08-22",null,"บันทึกรับใบสั่งซื้อ >>>>",null,{"$f":"F5+1","v":"2562-08-23"}]
[null,null,null,null,{"$f":"DATABASE!C4","v":"สำนักงานสาธารณสุขอำเภอหนองหงส์"},null,null,"วันทำการสุดท้าย >>>>",null,"2561-01-29"]
[null,{"$f":"\"เลขประจำตัวผู้เสียภาษี   \"&DATABASE!C21","v":"เลขประจำตัวผู้เสียภาษี   313555000044"},null,null,{"$f":"DATABASE!C5","v":"ที่อยู่ หมู่ที่ 14 ถนนราษฎร์บำรุง ตำบลสระแก้ว 31240"}]
[null,"-",null,null,{"$f":"DATABASE!D15","v":"อำเภอหนองหงส์ จังหวัดบุรีรัมย์"}]
[null,"-",null,null,{"$f":"DATABASE!D5","v":"โทร. 0 4466 9276, 0 4466 9020"}]
[null,{"$f":"DATABASE!C19&\" ได้เสนอราคาต่อ \"&DATABASE!C2","v":"หจก. เอกสารซีพี ได้เสนอราคาต่อ สำนักงานสาธารณสุขอำเภอหนองหงส์ ถ.ราษฎร์บำรุง จังหวัดบุรีรัมย์"}]
[null,"ซึ่งได้รับการราคาตกลงจ้าง ตามรายการ ดังต่อไปนี้"]
[null,"ลำดับ","รายการ","จำนวน",null,"ราคาต่อหน่วย","จำนวนเงิน"]
[null,null,null,null,null,"(บาท)","(บาท)",null,"<< เลือกตัวกรองก่อนปริ้นทุกครั้ง"]
[null,{"$f":"IF(แนบท้ายรายงาน2!B6=\"\",\"\",แนบท้ายรายงาน2!B6)","v":1},{"$f":"แนบท้ายรายงาน2!C6","v":"ค่าถ่ายเอกสารสี และขาวดำ จำนวน 98 หน้า พร้อมเข้าเล่ม(ส่งเขต)"},{"$f":"แนบท้ายรายงาน2!D6","v":1},{"$f":"แนบท้ายรายงาน2!E6","v":"เล่ม"},{"$f":"แนบท้ายรายงาน2!H6","v":700},{"$f":"F14*D14","v":700},{"$f":"IF(C14=\"\",\"\",\"เลือกปริ้น\")","v":"เลือกปริ้น"}]
[null,2,{"$f":"แนบท้ายรายงาน2!C7","v":"ค่าถ่ายเอกสารสี และขาวดำ จำนวน 141 หน้า พร้อมเข้าเล่ม (ส่งเขต)"},{"$f":"แนบท้ายรายงาน2!D7","v":1},{"$f":"แนบท้ายรายงาน2!E7","v":"เล่ม"},{"$f":"แนบท้ายรายงาน2!H7","v":1018},{"$f":"F15*D15","v":1018},{"$f":"IF(C15=\"\",\"\",\"เลือกปริ้น\")","v":"เลือกปริ้น"}]
[null,3,{"$f":"แนบท้ายรายงาน2!C8","v":"ค่าถ่ายเอกสารขาวดำ จำนวน 98 หน้า พร้อมเข้าเล่ม(นำเสนอ สสจ.)"},{"$f":"แนบท้ายรายงาน2!D8","v":2},{"$f":"แนบท้ายรายงาน2!E8","v":"เล่ม"},{"$f":"แนบท้ายรายงาน2!H8","v":141},{"$f":"F16*D16","v":282},"เลือกปริ้น"]
[null,null,".",null,null,null,null,"เลือกปริ้น"]
[null,null,".",null,null,null,null,"เลือกปริ้น"]
[null,null,".",null,null,null,null,"เลือกปริ้น"]
[null,null,".",null,null,null,null,"เลือกปริ้น"]
[null,null,".",null,null,null,null,"เลือกปริ้น"]
[null,null,null,null,null,null,null,""]
[null,null,null,null,null,null,null,""]
[null,null,null,null,null,null,null,""]
[null,null,null,null,null,null,null,""]
[null,null,null,null,null,null,null,""]
[null,null,null,null,null,null,null,""]
[null,null,null,null,null,null,null,""]
[null,null,null,null,null,null,null,""]
[null,null,null,null,null,null,null,""]
[null,null,null,null,null,null,null,""]
[null,null,null,null,null,null,null,""]
[null,null,null,null,null,null,null,""]
[null,null,null,null,null,null,null,""]
[null,null,null,null,null,null,null,""]
[null,null,null,null,null,null,null,""]
[null,null,null,null,null,null,null,""]
[null,null,null,null,null,null,null,""]
[null,null,null,null,null,null,null,""]
[null,null,null,null,null,null,null,""]
[null,null,null,null,null,null,null,""]
[null,null,null,null,null,null,null,""]
[null,null,null,null,null,null,null,""]
[null,null,null,null,null,null,null,""]
[null,null,null,null,null,null,null,""]
[null,null,null,null,null,null,null,""]
[null,null,null,null,null,null,null,""]
[null,null,null,null,null,null,null,""]
[null,null,null,null,null,null,null,""]
[null,null,null,null,null,null,null,""]
[null,null,null,null,null,null,null,""]
[null,null,null,null,null,null,null,""]
[null,null,null,null,null,null,null,""]
[null,null,null,null,null,null,null,""]
[null,null,null,null,null,null,null,""]
[null,null,null,null,null,null,null,""]
[null,null,null,null,null,null,null,""]
[null,null,null,null,null,null,null,""]
[null,null,null,null,null,null,null,""]
[null,null,null,null,null,null,null,""]
[null,null,null,null,null,null,null,""]
[null,null,null,null,null,null,null,""]
[null,null,null,null,null,null,null,""]
[null,null,null,null,null,null,null,""]
[null,null,null,null,null,null,null,""]
[null,null,null,null,null,null,null,""]
[null,null,null,null,null,null,null,""]
[null,null,null,null,null,null,null,""]
[null,null,null,null,null,null,null,""]
[null,null,null,null,null,null,null,""]
[null,null,null,null,null,null,null,""]
[null,null,null,null,null,null,null,""]
[null,null,null,null,null,null,null,""]
[null,null,null,null,null,null,null,""]
[null,null,null,null,null,null,null,""]
[null,null,null,null,null,null,null,""]
[null,null,null,null,null,null,null,""]
[null,null,null,null,null,null,null,""]
[null,null,null,null,null,null,null,{"$f":"IF(C79=\"\",\"\",\"เลือกปริ้น\")","v":""}]
[null,null,null,null,"รวมเป็นเงิน",null,{"$f":"แนบท้ายรายงาน2!I22","v":1869.1588785046729},"เลือกปริ้น"]
[null,null,null,null,"ภาษีมูลค่าเพิ่ม",null,{"$f":"แนบท้ายรายงาน2!I23","v":130.84112149532712},"เลือกปริ้น"]
[null,{"$f":"BAHTTEXT(G82)","v":"สองพันบาทถ้วน"},null,null,"รวมเป็นเงินทั้งสิ้น",null,{"$f":"แนบท้ายรายงาน2!I24","v":2000},"เลือกปริ้น"]
[null,"การสั่งจ้าง อยู่ภายใต้เงื่อนไขดังต่อไปนี้",null,null,null,null,null,"เลือกปริ้น"]
[null,1,{"$f":"\"กำหนดส่งมอบภายใน\"&\" \"&K84&\" \"&รายงานจัดจ้าง!N21&\" \"&I84","v":"กำหนดส่งมอบภายใน 30 วันทำการ นับถัดจากวันที่ผู้รับจ้างได้รับใบสั่งจ้าง"},null,null,null,null,"เลือกปริ้น","นับถัดจากวันที่ผู้รับจ้างได้รับใบสั่งจ้าง",null,{"$f":"รายงานจัดจ้าง!M21","v":30}]
[null,2,{"$f":"J85","v":"2562-10-04"},null,null,null,null,"เลือกปริ้น",null,{"$f":"F97+K84+12","v":"2562-10-04"}]
[null,3,{"$f":"DATABASE!C15","v":"โรงพยาบาลส่งเสริมสุขภาพตำบลบ้านกระเบื้องน้อย"},null,null,null,null,"เลือกปริ้น"]
[null,4,"ระยะเวลารับประกัน ............ ปี ",null,null,null,null,"เลือกปริ้น"]
[null,5,"สงวนสิทธิ์ค่าปรับกรณีส่งมอบเกินกำหนด โดยคิดค่าปรับเป็นรายวัน ดังนี้",null,null,null,null,"เลือกปริ้น"]
[null,null,"จ้างในอัตราร้อยละ 0.10 ของราคา งานจ้างนั้นที่ยังไม่ได้รับทอบ แต่จะต้องไม่ต่ำกว่าวันละ 100.00 บาท",null,null,null,null,"เลือกปริ้น"]
[null,6,"ส่วนราชการสงวนสิทธิ์ที่จะไม่รับมอบถ้าปรากฏว่าสินค้านั้นมีลักษณะไม่ตรงตามรายการที่ระบุไว้ในใบสั่งจ้าง กรณีนี้",null,null,null,null,"เลือกปริ้น"]
[null,null,"ผู้รับจ้างจะต้องดำเนินการเปลี่ยนใหม่ให้ถูกต้องตามใบสั่งจ้างทุกประการ",null,null,null,null,"เลือกปริ้น"]
[null,7,"กรณีงานจ้าง ผู้จ้างจะต้องไม่เอางานทั้งหมดหรือแต่บางส่วนแห่งสัญญานี้ไปจ้างช่วงอีกทอดหนึ่ง เว้นแต่การจ้างช่วงงานแต่บางส่วนที่ได้รับอนุญาตเป็นหนังสือจากผู้ว่าจ้างแล้ว การที่ผู้ว่าจ้างได้อนุญาตให้จ้างช่วงงานแต่บางส่วนดังกล่าวนั้น ไม่เป็นเหตุให้ผู้รับจ้างหลุดพ้นจากความรับผิดหรือพันธะหน้าที่ตามสัญญานี้ และผู้รับจ้างจะยังคงต้องรับผิดในความผิดและประมาณเลินเล่อของผู้รับจ้างช่วง หรือของตัวแทนหรือลูกจ้างของผู้รับจ้างช่วงนั้นทุกประการ การณีผู้รับจ้างช่วงงานแต่บางส่วน โดยฝ่าฝืนความในวรรคหนึ่ง ผู้รับจ้างต้องชำระค่าปรับให้แก่ผู้ว่าจ้างเป็นจำนวนเงินในอัตราร้อยละ 10 (สิบ) ของวงเงินของงานที่จ้างช่วงตามสัญญา ทั้งนี้ ไม่ตัดสิทธิผู้ว่าจ้างในการบอกเลิกสัญญา",null,null,null,null,"เลือกปริ้น"]
[null,8,"การประเมินผลการปฏิบัติงานของผู้ประกอบการ หน่วยงานของรัฐสามารถนำผลการปฏิบัติงานแล้วเสร็จตามสัญญา หรือข้อตกลงของคู่สัญญา เพื่อนำมาประเมินผลการปฏิบัติงานของผู้ประกอบการ",null,null,null,null,"เลือกปริ้น"]
[null,null,"ลงชื่อ………………………………………………….ผู้สั่งจ้าง",null,"ลงชื่อ……………………………………….ผู้รับใบสั่งจ้าง",null,null,"เลือกปริ้น"]
[null,null,{"$f":"DATABASE!C7","v":"นางจุรีพร  บัวลอย"},null,{"$f":"DATABASE!D19","v":"........................................................."},null,null,"เลือกปริ้น"]
[null,null,"หัวหน้าเจ้าหน้าที่",null,"ผู้รับจ้าง",null,null,"เลือกปริ้น"]
[null,"วันที่",{"$f":"F5","v":"2562-08-22"},null,"วันที่",{"$f":"J5","v":"2562-08-23"},null,"เลือกปริ้น"]
[null,{"$f":"DATABASE!C25","v":" -"},null,null,null,null,null,"เลือกปริ้น"]
[null,{"$f":"DATABASE!C26","v":" -"},null,null,null,null,null,"เลือกปริ้น"]

{"sheet":"ขอบเขตงาน(น2)","index":11,"n_rows":27,"n_cols":4,"rows_kept":27,"cut":false,"hidden":true,"merged":[[0,1,0,11]]}
[null,"ขอบเขตของงานที่ให้ Care giver ทำ"]
[null,"ผู้ช่วยเหลือดูแลผู้สูงอายุที่มีภาวะพึ่งพิง (Care giver)"]
[null,null,"หมายถึง บุคคลที่ผ่านการอบรมตามหลักสูตรที่คณะอนุกรรมการ LTC หรือคณะอนุกรรมการอื่นภายใต้ คณะกรรมการ"]
[null,"หลักประกันสุขภาพแห่งชาติ หรือ สปสช. เห็นชอบ"]
[null,null,"ขอบเขต/บทบาทหน้าที่ของ Care giver "]
[null,null,"ดูแลผู้สูงอายุตามแผนการดูแลที่ได้รับมอบหมาย ได้แก่ "]
[null,null,null,"1. ดูแลกิจวัตรประจำวันของผู้สูงอายุ เช่น การรับประทานอาหาร การนอนหลับพักผ่อน การเคลื่อนย้าย "]
[null,"การขับถ่าย ให้ถูกสุขลักษณะปลอดภัยเหมาะสมกับวัยของผู้สูงอายุ "]
[null,null,null,"2. สังเกตพฤติกรรมการเปลี่ยนแปลงต่างๆ ของผู้สูงอายุ รวมทั้งเรื่องสุขภาพของผู้สูงอายุ และต้อง รายงานให้"]
[null,"ญาติของผู้สูงอายุทราบ"]
[null,null,null,"3. ส่งเสริมสุขภาพของผู้สูงอายุทุกด้านตลอดจนดูแลสภาพแวดล้อม ให้ปลอดภัยถูกสุขลักษณะเอื้อต่อการ "]
[null,"ส่งเสริมสุขภาพของผู้สูงอายุ"]
[null,null,null,"4. เขียนรายงานการปฏิบัติงานเสนอต่อหน่วยงานต้นสังกัด "]
[null,null,null,"5. กรณีที่มีการประกอบอาหารให้ผู้สูงอายุต้องดำเนินการเตรียม ปรุง ประกอบอาหาร พร้อมทั้งดูแล เครื่องมือ"]
[null,"เครื่องใช้ในการปรุงประกอบอาหารให้สะอาด และถูกสุขลักษณะในทุกขั้นตอนและล้างมือ ให้สะอาดอยู่เสมอ"]
[null,null,null,"6. จัดการสิ่งปฏิกูลและมูลฝอยที่เกิดจากการดูแลผู้สูงอายุอย่างถูกต้อง โดยทิ้งลงในภาชนะรองรับที่ถูก "]
[null,"หลักสุขาภิบาล และระวังป้องกันไม่ให้เกิดการปนเปื้อนกับอาหารและเกิดการแพร่กระจายของเชื้อ โรค หรือก่อให้เกิดเหตุรำคาญ"]
[null,"ต่อบ้านเรือนใกล้เคียง"]
[null,null,null,"7. ส่งต่อผู้สูงอายุกรณีที่พบว่ามีเหตุฉุกเฉิน หรือการเจ็บป่วย หรือบาดเจ็บเกิดขึ้นกับผู้สูงอายุตามระบบ การส่งต่อ"]
[null,"และวิธีการอย่างถูกต้อง"]
[null,null,null,"8. จัดทำรายงานผลการดูแลผู้สูงอายุรายเดือน เพื่อรายงานต่อผู้จัดการระบบฯ "]
[null,null,"คุณสมบัติของผู้เข้ารับการอบรมเป็น Care giver "]
[null,null,null,"เป็นไปตามประกาศสำนักงานหลักประกันสุขภาพแห่งชาติกำหนด"]
[null,null,"การฝึกอบรม "]
[null,null,null,"1. อย่างน้อย 70 ชั่วโมง "]
[null,null,null,"2. อบรมโดยหน่วยงานต่างๆ ที่เกี่ยวข้อง เช่น กรมอนามัย วิทยาลัย มหาวิทยาลัย สำนักงานสาธารณสุขจังหวัด "]
[null,"โรงพยาบาล หรือหน่วยงานอื่นๆ ที่เกี่ยวข้อง โดยใช้หลักสูตรของกรมอนามัย กระทรวง สาธารณสุข หรือเทียบเท่า"]

{"sheet":"รายงานข้อ 16","index":12,"n_rows":36,"n_cols":11,"rows_kept":36,"cut":false,"hidden":false,"merged":[[35,1,35,6],[12,1,12,11],[13,5,13,11],[24,1,24,11],[33,3,33,5],[33,7,33,11],[34,1,34,6],[34,7,34,11],[0,1,0,11],[1,3,1,11],[2,2,2,3],[2,7,2,9],[6,7,6,9],[10,1,10,11]]}
[null,"บันทึกข้อความ"]
[null,"ส่วนราชการ",null,{"$f":"DATABASE!C4&\" \"&DATABASE!D4","v":"สำนักงานสาธารณสุขอำเภอหนองหงส์ อำเภอหนองหงส์  จังหวัดบุรีรัมย์ "}]
[null,"ที่",{"$f":"DATABASE!C3","v":"บร 1332.1/"},null,325,null,"วันที่","2562-03-21"]
[null,"เรื่อง",{"$f":"รายงานจัดจ้าง!C4","v":"ถ่ายเอกสารงานราชการและเข้าเล่ม"}]
[null,"เรียน",{"$f":"รายงานจัดจ้าง!C5","v":"ผู้ว่าราชการจังหวัดบุรีรัมย์ (โดยสาธารณสุขอำเภอหนองหงส์ปฏิบัติราชการแทน)"}]
[null,null,null,"เรื่องเดิม"]
[null,null,null,{"$f":"\"ตามบันทึกรายงานขอซื้อ/ขอจ้าง \"&รายงานจัดจ้าง!B3&\" \"&รายงานจัดจ้าง!C3&\" \"&รายงานจัดจ้าง!E3&\" \"&\" ลงวันที่\"","v":"ตามบันทึกรายงานขอซื้อ/ขอจ้าง ที่ บร 1332.1/ 1016  ลงวันที่"},null,null,null,{"$f":"รายงานจัดจ้าง!H3","v":"2562-08-22"}]
[null,{"$f":"\"ได้อนุมัติให้จัดซื้อ\"&'เห็นชอบรวม(น1)'!C5&\" \"&\" โดยวิธีเฉพาะเจาะจง กับร้าน \"&DATABASE!C19","v":"ได้อนุมัติให้จัดซื้อถ่ายเอกสารงานราชการและเข้าเล่ม  โดยวิธีเฉพาะเจาะจง กับร้าน หจก. เอกสารซีพี"}]
[null,{"$f":"\"รวมเป็นเงินทั้งสิ้น \"&ใบสั่งจ้าง!G82&\" บาท \"&\"(\"&BAHTTEXT(ใบสั่งจ้าง!G82)&\") \"&\" \"&\"โดยเบิกจ่ายจากเงินบำรุง\"&DATABASE!C15","v":"รวมเป็นเงินทั้งสิ้น 2000 บาท (สองพันบาทถ้วน)  โดยเบิกจ่ายจากเงินบำรุงโรงพยาบาลส่งเสริมสุขภาพตำบลบ้านกระเบื้องน้อย"}]
[null,null,null,"ข้อเท็จจริง"]
[null,{"$f":"\"ร้าน \"&DATABASE!C19&\" ได้ส่งมอบ\"&'เห็นชอบรวม(น1)'!C5&\" เมื่อวันที่ \"&'ใบส่งของ มอบ'!N1&\"/\"&'ใบส่งของ มอบ'!O1&\"/\"&'ใบส่งของ มอบ'!P1&\" ตามเอกสาร เลขที่..............................เล่มที่.......................................ลงวันที่...........................................................จำนวนเงิน \"&ใบสั่งจ้าง!G82&\" บาท \"&\"(\"&BAHTTEXT(ใบสั่งจ้าง!G82)&\")\"&\" และผู้ตรวจรับพัสดุ ได้ทำการตรวจรับไว้เป็นการถูกต้อง ครบถ้วน ตามเงื่อนไข ดังรายละเอียดในใบสั่งซื้อ/จ้าง เลขที่\"&ใบสั่งจ้าง!F4&\" ลงวันที่ \"&ใบสั่งจ้าง!K3&\"/\"&ใบสั่งจ้าง!L3&\"/\"&ใบสั่งจ้าง!M3&\" และผู้ตรวจรับพัสดุได้ทำการตรวจรับเรียบร้อยแล้วตามใบตรวจรับการจัดซื้อ ที่แนบมาพร้อมนี้\"","v":"ร้าน หจก. เอกสารซีพี ได้ส่งมอบถ่ายเอกสารงานราชการและเข้าเล่ม เมื่อวันที่ 30/9/2562 ตามเอกสาร เลขที่..............................เล่มที่.......................................ลงวันที่...........................................................จำนวนเงิน 2000 บาท (สองพันบาทถ้วน) และผู้ตรวจรับพัสดุ ได้ทำการตรวจรับไว้เป็นการถูกต้อง ครบถ้วน ตามเงื่อนไข ดังรายละเอียดในใบสั่งซื้อ/จ้าง เลขที่710/2562 ลงวันที่ 22/8/2562 และผู้ตรวจรับพัสดุได้ทำการตรวจรับเรียบร้อยแล้วตามใบตรวจรับการจัดซื้อ ที่แนบมาพร้อมนี้"}]
[null,null,null,"ข้อกฎหมายและข้อระเบียบ"]
[null,"                    ระเบียบกระทรวงการคลังว่าด้วยการจัดซื้อจัดจ้างและการบริหารพัสดุภาครัฐ พ.ศ. 2560 ข้อ 16 เมื่อสิ้นสุดกระบวนการจัดซื้อจัดจ้างในแต่ละโครงการ ให้หน่วยงานของรัฐจัดให้มีการบันทึกรายงานผลการพิจารณา รายละเอียดวิธีการและขั้นตอนการจัดซื้อจัดจ้างพร้อมทั้งเอกสารหลักฐานประกอบ ตามรายการดังต่อไปนี้"]
[null,null,1,"รายงานขอซื้อ/ขอจ้าง"]
[null,null,2,"ใบสั่งจ้าง "]
[null,"ลงวันที่ 5 ตุลาคม 2560 เรื่อง แนวทางการบริหารจัดการโครงการพัฒนาระบบบริการดูแลระยะยาวด้านสาธารณสุขสำหรับ"]
[null,"ผู้สูงอายุที่มีภาวะพึ่งพิง (Long Term Care) (เอกสารแนบ 4)"]
[null,null,3,"ใบตรวจรับการจัดจ้าง"]
[null,null,4,"แบบแสดงความบริสุทธิ์ใจในการจัดซื้อจัดจ้างของหน่วยงาน"]
[null,null,5,"บันทึกรายงานผลการตรวจรับพัสดุ"]
[null,null,null,"ข้อพิจารณาและข้อเสนอ "]
[null,null,null,"เพื่อให้การดำเนินการเป็นไปตามระเบียบกระทรวงการคลังว่าด้วยการจัดซื้อจัดจ้างและการบริหารพัสดุภาครัฐ พ.ศ. 2560"]
[null,null,null,2,{"$f":"[1]DATABASE!C18","v":0},null,{"$f":"[1]DATABASE!D18","v":0},null,null,null,"กรรมการ"]
[null,null,null,3,{"$f":"[1]DATABASE!C19","v":0},null,{"$f":"[1]DATABASE!D19","v":0},null,null,null,"กรรมการ"]
[null,{"$f":"\"ข้อ 16 จึงขอรายงานผลการพิจารณารายละเอียด วิธีการและขั้นตอนการจัดซื้อ\"&'เห็นชอบรวม(น1)'!C5&\" จำนวนเงิน \"&ใบสั่งจ้าง!G82&\" บาท \"&\"(\"&BAHTTEXT(ใบสั่งจ้าง!G82)&\") \"&\" \"&\"ดังรายละเอียดที่แนบมาพร้อมนี้ \"","v":"ข้อ 16 จึงขอรายงานผลการพิจารณารายละเอียด วิธีการและขั้นตอนการจัดซื้อถ่ายเอกสารงานราชการและเข้าเล่ม จำนวนเงิน 2000 บาท (สองพันบาทถ้วน)  ดังรายละเอียดที่แนบมาพร้อมนี้ "}]
[null,null,null,"จึงเรียนมาเพื่อโปรดพิจารณา "]
[null,null,null,null,null,"ลงชื่อ","…………..............……………………………เจ้าหน้าที่"]
[null,null,null,null,null,null,{"$f":"DATABASE!C11","v":"นางวรรณเพ็ญ  วศินไพบูลย์วงศ์"}]
[null,null,null,null,null,null,{"$f":"DATABASE!D11","v":"เจ้าพนักงานสาธารณสุข"}]
[null,"เรียน",{"$f":"C5","v":"ผู้ว่าราชการจังหวัดบุรีรัมย์ (โดยสาธารณสุขอำเภอหนองหงส์ปฏิบัติราชการแทน)"}]
[null,null,null," - การจัดจ้างครั้งนี้เป็นไปตามวิธีการและขั้นตอนตามระเบียบฯ",null,null,null,null,"o","ทราบ / ดำเนินการ"]
[null,null,null,"ข้อ 16 ทุกประการ  จึงเรียนมาเพื่อโปรดทราบ"]
[]
[null,null,null,{"$f":"DATABASE!C7","v":"นางจุรีพร  บัวลอย"},null,null,null,{"$f":"DATABASE!C6","v":"นายประหยัด  นงประโคน"}]
[null,{"$f":"DATABASE!D7","v":"นักวิชาการสาธารณสุข ชำนาญการ"},null,null,null,null,null,{"$f":"DATABASE!D6","v":"สาธารณสุขอำเภอหนองหงส์"}]
[null,"หัวหน้าเจ้าหน้าที่",null,null,null,null,null,null,null,"ปฏิบัติราชการแทนผู้ว่าราชการจังหวัดบุรีรัมย์"]

{"sheet":"ใบส่งของ มอบ","index":13,"n_rows":25,"n_cols":16,"rows_kept":25,"cut":false,"hidden":false,"merged":[[24,5,24,10],[17,5,17,8],[6,11,6,13],[6,5,6,7],[22,2,22,4],[23,2,23,4],[23,7,23,9],[11,1,11,3],[13,1,13,2],[0,1,0,10],[1,1,1,10],[2,1,2,10],[8,1,8,10],[3,6,3,9]]}
[null,"ใบส่งมอบงานจ้าง",null,null,null,null,null,null,null,null,null,null,null,{"$f":"DAY(G4)","v":30},{"$f":"MONTH(G4)","v":9},{"$f":"YEAR(G4)","v":2562}]
[null,{"$f":"DATABASE!C19","v":"หจก. เอกสารซีพี"}]
[null,{"$f":"DATABASE!C20&\" \"&DATABASE!D20","v":"95/10-11 ถ.อินจันทร์รรงค์  ต.ในเมือง อ.เมือง จ.บุรีรัมย์ โทรศัพท์ 0 4461 4005"}]
[null,null,null,null,null,"วันที่","2562-09-30"]
[null,"เรื่อง    ","ส่งมอบงานจ้าง และขอเบิกเงิน"]
[null,"เรียน   ",{"$f":"DATABASE!D14","v":"ผู้อำนวยการโรงพยาบาลส่งเสริมสุขภาพตำบลบ้านกระเบื้องน้อย"}]
[null,"อ้างถึง",{"$f":"ใบสั่งจ้าง!E4&\" \"&ใบสั่งจ้าง!F4&\" ลงวันที่\"","v":"ใบสั่งจ้าง เลขที่ 710/2562 ลงวันที่"},null,null,{"$f":"ใบสั่งจ้าง!F5","v":"2562-08-22"}]
[null,null,null,{"$f":"DATABASE!C4&\" \"&DATABASE!D4","v":"สำนักงานสาธารณสุขอำเภอหนองหงส์ อำเภอหนองหงส์  จังหวัดบุรีรัมย์ "}]
[null,{"$f":"\"ได้จ้าง \"&\" \"&'เห็นชอบรวม(น1)'!C5&\" จาก \"&DATABASE!C19&\" \"&DATABASE!B21&\" \"&DATABASE!C21","v":"ได้จ้าง  ถ่ายเอกสารงานราชการและเข้าเล่ม จาก หจก. เอกสารซีพี เลขผู้เสียภาษี 313555000044"}]
[null,{"$f":"รายงานจัดจ้าง!D21&\" นั้น\"","v":"กำหนดเวลาการส่งมอบพัสดุหรือให้งานแล้วเสร็จภายใน 30 วันทำการ นับจากวันที่ได้รับใบสั่งจ้าง นั้น"}]
[null,null,null,{"$f":"\"บัดนี้ ข้าพเจ้าได้ปฏิบัติหน้าที่ตามที่ได้รับมอบหมาย ตามข้อ\"&CG!$H$10&\" \"&VLOOKUP(รายงานจัดจ้าง!$A$1,CG!$A$11:$H$40,8,0)&\" \"&CG!I10","v":"บัดนี้ ข้าพเจ้าได้ปฏิบัติหน้าที่ตามที่ได้รับมอบหมาย ตามข้อตกลงจ้าง ที่ 46/2560 ลงวันที่"}]
[null,{"$f":"F7","v":"2562-08-22"},null,null,"ได้ดำเนินการเสร็จเรียบร้อยแล้ว จึงขอส่งมอบงานดังกล่าว  ให้ผู้ตรวจรับพัสดุ  ได้โปรด"]
[null,"ทำการตรวจรับงานดังกล่าว  หากเห็นว่าถูกต้องเรียบร้อย ตามข้อตกลงแล้ว กรุณาเบิกจ่าย เป็นเงินทั้งสิ้น"]
[null,{"$f":"ใบสั่งจ้าง!G82","v":2000},null,{"$f":"\"บาท \"&\" \"&\"(\"&BAHTTEXT(B14)&\")\"","v":"บาท  (สองพันบาทถ้วน)"}]
[null,null,null,"จีงเรียนมาเพื่อโปรดทราบ และพิจารณาดำเนินการต่อไป"]
[null,null,null,null,null,null,"ขอแสดงความนับถือ"]
[]
[null,null,null,null,null,{"$f":"DATABASE!D19","v":"........................................................."}]
[null,"เรียน",{"$f":"DATABASE!D14","v":"ผู้อำนวยการโรงพยาบาลส่งเสริมสุขภาพตำบลบ้านกระเบื้องน้อย"}]
[null,null," - เพื่อโปรดทราบ/เห็นควรแจ้งคณะกรรมการตรวจรับ"]
[null,null,null,null,null,null,"o","ทราบ / ดำเนินการ"]
[]
[null,null,{"$f":"DATABASE!C12","v":"นางสาวกนกรัตน์  พรมมา"}]
[null,null,{"$f":"DATABASE!D12","v":"เจ้าพนักงานสาธารณสุข"},null,null,null,null,{"$f":"DATABASE!C14","v":"นายดำรงค์  สีระสูงเนิน"}]
[null,null,null,null,null,{"$f":"DATABASE!D14","v":"ผู้อำนวยการโรงพยาบาลส่งเสริมสุขภาพตำบลบ้านกระเบื้องน้อย"}]

{"sheet":"ใบตรวจรับ","index":14,"n_rows":32,"n_cols":11,"rows_kept":32,"cut":false,"hidden":false,"merged":[[26,6,26,8],[0,1,0,9],[1,1,1,9],[2,6,2,8],[4,1,4,9],[3,6,3,7]]}
[null,"ใบตรวจรับการจ้าง"]
[null,{"$f":"DATABASE!C15","v":"โรงพยาบาลส่งเสริมสุขภาพตำบลบ้านกระเบื้องน้อย"}]
[null,null,null,null,null,"วันที่",{"$f":"'ใบส่งของ มอบ'!G4:J4","v":"2562-09-30"}]
[null,null,{"$f":"\"ตามข้อ \"&ใบสั่งจ้าง!E4&\" \"&ใบสั่งจ้าง!F4&\" ลงวันที่\"","v":"ตามข้อ ใบสั่งจ้าง เลขที่ 710/2562 ลงวันที่"},null,null,null,{"$f":"ใบสั่งจ้าง!F5","v":"2562-08-22"}]
[null,{"$f":"DATABASE!C4&\" \"&DATABASE!D15&\" ได้ตกลงจ้าง \"&'เห็นชอบรวม(น1)'!C5&\" ซึ่ง \"&DATABASE!C19&\" เลขที่ \"&DATABASE!C20&\" โดยวิธีเฉพาะเจาะจง ผู้รับจ้าง ได้ส่งมอบงานจ้างตามหนังสือส่งมอบงานจ้าง (เอกสารแนบ)\"","v":"สำนักงานสาธารณสุขอำเภอหนองหงส์ อำเภอหนองหงส์ จังหวัดบุรีรัมย์ ได้ตกลงจ้าง ถ่ายเอกสารงานราชการและเข้าเล่ม ซึ่ง หจก. เอกสารซีพี เลขที่ 95/10-11 ถ.อินจันทร์รรงค์  ต.ในเมือง อ.เมือง จ.บุรีรัมย์ โดยวิธีเฉพาะเจาะจง ผู้รับจ้าง ได้ส่งมอบงานจ้างตามหนังสือส่งมอบงานจ้าง (เอกสารแนบ)"}]
[null,{"$f":"\"เป็นจำนวนเงินทั้งสิ้น \"&'ใบส่งของ มอบ'!B14&\" \"&'ใบส่งของ มอบ'!D14","v":"เป็นจำนวนเงินทั้งสิ้น 2000 บาท  (สองพันบาทถ้วน)"}]
[null,null,"ผู้ตรวจรับพัสดุ ได้ตรวจรับพัสดุ  ผลปรากฎว่า"]
[null,null,"ผลการตรวจรับ"]
[null,null,"o","ถูกต้อง"]
[null,null,null,"o","ครบถ้วนตามสัญญา"]
[null,null,null,"o","ไม่ครบถ้วนตามสัญญา"]
[null,null,"ค่าปรับ"]
[null,null,"o","มีค่าปรับ"]
[null,null,"o","ไม่มีค่าปรับ"]
[null,null,"(ลงชื่อ)....................................................",null,null,{"$f":"DATABASE!D16","v":"เจ้าพนักงานสาธารณสุข อาวุโส"},null,null,{"$f":"IF(DATABASE!C17=\"\",\"ผู้ตรวจรับพัสดุ\",\"ประธานกรรมการ\")","v":"ผู้ตรวจรับพัสดุ"},null,"เลือกปริ้น"]
[null,null,null,{"$f":"DATABASE!C16","v":"นายสมยศ  นงประโคน"},null,null,null,null,null,null,"เลือกปริ้น"]
[null,null,{"$f":"IF(DATABASE!C17=\"\",\"\",\"(ลงชื่อ)....................................................\")","v":""},null,null,{"$f":"IF(DATABASE!C17=\"\",\"\",DATABASE!D17)","v":""},null,null,{"$f":"IF(DATABASE!C17=\"\",\"\",\"กรรมการ\")","v":""},null,{"$f":"IF(DATABASE!C17=\"\",\"\",\"เลือกปริ้น\")","v":""}]
[null,null,null,{"$f":"IF(DATABASE!C17=\"\",\"\",DATABASE!C17)","v":""},null,null,null,null,null,null,{"$f":"IF(DATABASE!C17=\"\",\"\",\"เลือกปริ้น\")","v":""}]
[null,null,{"$f":"IF(DATABASE!C18=\"\",\"\",\"(ลงชื่อ)....................................................\")","v":""},null,null,{"$f":"IF(DATABASE!C18=\"\",\"\",DATABASE!D18)","v":""},null,null,{"$f":"IF(DATABASE!C18=\"\",\"\",\"กรรมการ\")","v":""},null,{"$f":"IF(DATABASE!C18=\"\",\"\",\"เลือกปริ้น\")","v":""}]
[null,null,null,{"$f":"IF(DATABASE!C18=\"\",\"\",DATABASE!C18)","v":""},null,null,null,null,null,null,{"$f":"IF(DATABASE!C18=\"\",\"\",\"เลือกปริ้น\")","v":""}]
[null,"เรียน  ผู้ว่าราชการจังหวัดบุรีรัมย์ โดยสาธารณสุขอำเภอปกิบัติราชการแทน"]
[null,null," - เพื่อโปรดทราบ"]
[null,null," - ผู้ตรวจรับพัสดุ ได้ทำการตรวจรับพัสดุ"]
[null,null,"และรายงานผลให้ทราบ ตามระเบียบฯ ข้อ 16(8)"]
[null,null," - จึงเรียนมาเพื่อโปรดทราบ",null,null,null,null,"ทราบ / ดำเนินการ"]
[]
[null,null,null,"นายชัยณรงค์  สมสะอาด",null,null,{"$f":"DATABASE!C6","v":"นายประหยัด  นงประโคน"}]
[null,null,null,"นักวิชาการสาธารณสุข ชำนาญการ",null,null,null,{"$f":"DATABASE!D6","v":"สาธารณสุขอำเภอหนองหงส์"}]
[null,null,null,null,null,null,null,"ปฏิบัติราชการแทนผู้ว่าราชการจังหวัดบุรีรัมย์"]
[null,null,"หมายเหตุ :",{"$f":"ใบสั่งจ้าง!B98","v":" -"}]
[null,null,null,{"$f":"ใบสั่งจ้าง!B99","v":" -"}]
[null,null,null,"เลขคุมตรวจรับ.............................................................."]

{"sheet":"ใบสำคัญรับเงิน","index":15,"n_rows":30,"n_cols":10,"rows_kept":30,"cut":false,"hidden":true,"merged":[[23,1,23,7],[23,8,23,9],[27,5,27,8],[29,5,29,8],[20,1,20,7],[20,8,20,9],[21,1,21,7],[21,8,21,9],[22,1,22,7],[22,8,22,9],[17,1,17,7],[17,8,17,9],[18,1,18,7],[18,8,18,9],[19,1,19,7],[19,8,19,9],[14,1,14,7],[14,8,14,9],[15,1,15,7],[15,8,15,9],[16,1,16,7],[16,8,16,9],[11,8,11,9],[12,1,12,7],[12,8,12,9],[13,1,13,7],[13,8,13,9],[11,1,11,7],[0,1,0,9],[1,1,1,9],[3,1,3,9],[5,6,5,9],[6,3,6,5],[10,1,10,7],[10,8,10,9],[7,2,7,3],[7,5,7,6],[7,8,7,9],[8,2,8,7],[9,1,9,7],[9,8,9,9]]}
[null,"แบบใบสำคัญรับเงิน"]
[null,{"$f":"DATABASE!C15","v":"โรงพยาบาลส่งเสริมสุขภาพตำบลบ้านกระเบื้องน้อย"}]
[]
[null,"ใบสำคัญรับเงิน"]
[]
[null,null,null,null,null,"วันที่",{"$f":"ใบสั่งจ้าง!J6","v":"2561-01-29"}]
[null,null,"ข้าพเจ้า",{"$f":"VLOOKUP(รายงานจัดจ้าง!$A$1,CG!$A$11:$B$40,2,0)","v":"นางน้อย ปานเพ็ชร"},null,null,"บ้านเลขที่",{"$f":"VLOOKUP(รายงานจัดจ้าง!$A$1,CG!$A$11:$F$40,3,0)","v":133},"หมู่ที่",{"$f":"VLOOKUP(รายงานจัดจ้าง!$A$1,CG!$A$11:$F$40,4,0)","v":6}]
[null,"ตำบล",{"$f":"VLOOKUP(รายงานจัดจ้าง!$A$1,CG!$A$11:$U$40,12,0)","v":"หนองชัยศรี"},null,"อำเภอ.",{"$f":"VLOOKUP(รายงานจัดจ้าง!$A$1,CG!$A$11:$U$40,13,0)","v":"หนองหงส์"},null,"จังหวัด",{"$f":"VLOOKUP(รายงานจัดจ้าง!$A$1,CG!$A$11:$U$40,14,0)","v":"บุรีรัมย์"}]
[null,"ได้รับเงินจาก",{"$f":"B2","v":"โรงพยาบาลส่งเสริมสุขภาพตำบลบ้านกระเบื้องน้อย"},null,null,null,null,null,"ดังมีรายการดังต่อไปนี้"]
[null,"รายการ",null,null,null,null,null,null,"จำนวนเงิน (บาท)"]
[null,{"$f":"ใบสั่งจ้าง!C14","v":"ค่าถ่ายเอกสารสี และขาวดำ จำนวน 98 หน้า พร้อมเข้าเล่ม(ส่งเขต)"},null,null,null,null,null,null,{"$f":"VLOOKUP(รายงานจัดจ้าง!$A$1,CG!$A$11:$S$40,6,0)","v":600}]
[null,{"$f":"ใบสั่งจ้าง!C16","v":"ค่าถ่ายเอกสารขาวดำ จำนวน 98 หน้า พร้อมเข้าเล่ม(นำเสนอ สสจ.)"}]
[]
[]
[]
[]
[]
[]
[]
[]
[]
[]
[]
[null,"รวมเป็นเงิน",null,null,null,null,null,null,{"$f":"SUM(I11:J23)","v":600}]
[]
[null,"(ตัวอักษร)",{"$f":"\"(\"&BAHTTEXT(I24)&\")\"","v":"(หกร้อยบาทถ้วน)"}]
[null,null,null,null,null,"(ลงชื่อ)..............................................................ผู้รับเงิน"]
[null,null,null,null,null,{"$f":"VLOOKUP(รายงานจัดจ้าง!$A$1,CG!$A$11:$B$40,2,0)","v":"นางน้อย ปานเพ็ชร"}]
[null,null,null,null,null,"(ลงชื่อ)..............................................................ผู้จ่ายเงิน"]
[null,null,null,null,null,{"$f":"DATABASE!C12","v":"นางสาวกนกรัตน์  พรมมา"}]

{"sheet":"บริสุทธิ์","index":16,"n_rows":25,"n_cols":7,"rows_kept":25,"cut":false,"hidden":false,"merged":[[24,3,24,5],[0,1,0,5],[1,1,1,5],[2,1,2,5],[3,1,3,5],[4,2,4,4],[5,2,5,4],[6,2,6,4],[7,2,7,4],[8,2,8,4],[9,1,9,5],[10,1,10,5],[23,2,23,5]]}
[null,"แบบแสดงความบริสุทธิ์ใจในการจัดซื้อจัดจ้างของหน่วยงาน (วงเงินเล็กน้อยไม่เกิน 100,000 บาท)"]
[null,"ในการเปิดเผยข้อมูลความขัดแย้งทางผลประโยชน์ของหัวหน้าเจ้าหน้าที่"]
[null," เจ้าหน้าที่ และผู้ตรวจรับพัสดุ"]
[null,"*********************************"]
[null,"ข้าพเจ้า",{"$f":"DATABASE!C7","v":"นางจุรีพร  บัวลอย"},null,null,"หัวหน้าเจ้าหน้าที่"]
[null,"ข้าพเจ้า",{"$f":"DATABASE!C11","v":"นางวรรณเพ็ญ  วศินไพบูลย์วงศ์"},null,null,"เจ้าหน้าที่","เลือกปริ้น"]
[null,"ข้าพเจ้า",{"$f":"DATABASE!C16","v":"นายสมยศ  นงประโคน"},null,null,{"$f":"IF(DATABASE!C17=\"\",DATABASE!B16,\"ประธานกรรมการ\")","v":"ประธานกรรมการ"},"เลือกปริ้น"]
[null,{"$f":"IF(DATABASE!C17=\"\",\"\",\"ข้าพจ้า\")","v":""},{"$f":"IF(DATABASE!C17=\"\",\"\",DATABASE!C17)","v":""},null,null,{"$f":"IF(DATABASE!C17=\"\",\"\",\"กรรมการ\")","v":""},{"$f":"IF(DATABASE!C17=\"\",\"\",\"เลือกปริ้น\")","v":""}]
[null,{"$f":"IF(DATABASE!C18=\"\",\"\",\"ข้าพจ้า\")","v":""},{"$f":"IF(DATABASE!C18=\"\",\"\",DATABASE!C18)","v":""},null,null,{"$f":"IF(DATABASE!C18=\"\",\"\",\"กรรมการ\")","v":""},{"$f":"IF(DATABASE!C18=\"\",\"\",\"เลือกปริ้น\")","v":""}]
[null,"           ขอให้คำรับรองว่าไม่มีความเกี่ยวข้องหรือมีส่วนได้ส่วนเสียไม่ว่าโดยตรงหรือโดยอ้อม หรือผลประโยชน์ใดๆ ที่ก่อให้เกิดความขัดแย้งทางผลประโยชน์กับผู้ขาย ผู้รับจ้าง ผู้เสนองาน หรือผู้ชนะประมูล หรือผู้มีส่วนเกี่ยวข้องที่เข้ามามีนิติสัมพันธ์ และวางตัวเป็นกลางในการดำเนินการเกี่ยวกับการพัสดุ ปฏิบัติหน้าที่ด้วยจิตสำนึก ด้วยความโปร่งใส สามารถให้มีผู้เกี่ยวข้องตรวจสอบได้ทุกเวลา มุ่งประโยชน์ส่วนรวมเป็นสำคัญ ตามที่ระบุไว้ในประกาศสำนักงานปลัดกระทรวงสาธารณสุขว่าด้วยแนวทางในการปฏิบัติในหน่วยงานด้าน การจัดซื้อจัดจ้าง พ.ศ. 2560",null,null,null,null,"เลือกปริ้น"]
[null,"           หากปรากฏว่าเกิดความขัดแย้งทางผลประโยชน์ระหว่างข้าพเจ้ากับผู้ขาย ผู้รับจ้าง ผู้เสนองาน หรือ   ผู้ชนะประมูล หรือผู้มีส่วนเกี่ยวข้องที่เข้ามามีนิติสัมพันธ์ ข้าพเจ้าจะรายงานให้ทราบโดยทันที",null,null,null,null,"เลือกปริ้น"]
[null,null,null,null,null,null,"เลือกปริ้น"]
[null,null,"ลงนาม....................................................................",null,null,"ลงนาม....................................................................","เลือกปริ้น"]
[null,null,{"$f":"C5","v":"นางจุรีพร  บัวลอย"},null,null,{"$f":"C6","v":"นางวรรณเพ็ญ  วศินไพบูลย์วงศ์"},"เลือกปริ้น"]
[null,null,{"$f":"F5","v":"หัวหน้าเจ้าหน้าที่"},null,null,{"$f":"F6","v":"เจ้าหน้าที่"},"เลือกปริ้น"]
[null,null,"ลงนาม....................................................................",null,null,{"$f":"IF(DATABASE!C17=\"\",\"\",\"ลงนาม....................................................................\")","v":""},"เลือกปริ้น"]
[null,null,{"$f":"C7","v":"นายสมยศ  นงประโคน"},null,null,{"$f":"IF(DATABASE!C17=\"\",\"\",DATABASE!C17)","v":""},"เลือกปริ้น"]
[null,null,{"$f":"F7","v":"ประธานกรรมการ"},null,null,{"$f":"F8","v":""},"เลือกปริ้น"]
[null,null,{"$f":"IF(DATABASE!C18=\"\",\"\",\"ลงนาม....................................................................\")","v":""},null,null,null,{"$f":"IF(DATABASE!C18=\"\",\"\",\"เลือกปริ้น\")","v":""}]
[null,null,{"$f":"IF(DATABASE!C18=\"\",\"\",DATABASE!C18)","v":""},null,null,null,{"$f":"IF(DATABASE!C18=\"\",\"\",\"เลือกปริ้น\")","v":""}]
[null,null,{"$f":"IF(DATABASE!C18=\"\",\"\",\"กรรมการ\")","v":""},null,null,null,{"$f":"IF(DATABASE!C18=\"\",\"\",\"เลือกปริ้น\")","v":""}]
[]
[null,null,{"$f":"'เห็นชอบรวม(น1)'!C5","v":"ถ่ายเอกสารงานราชการและเข้าเล่ม"}]
[null,null,{"$f":"รายงานจัดจ้าง!D18","v":"วงเงินที่จะจ้าง โดยขอเบิกเงินบำรุงของหน่วยงาน สังกัด โรงพยาบาลส่งเสริมสุขภาพตำบลบ้านกระเบื้องน้อย"}]
[null,null,{"$f":"\"ตามข้อตกลงจ้าง เลขที่ \"&VLOOKUP(รายงานจัดจ้าง!$A$1,CG!$A$11:$I$40,8,0)&\" ลงวันที่\"","v":"ตามข้อตกลงจ้าง เลขที่ 46/2560 ลงวันที่"},{"$f":"VLOOKUP(รายงานจัดจ้าง!$A$1,CG!$A$11:$I$40,9)","v":"2560-12-01"}]

{"sheet":"เบิกจ่ายเงินรวม","index":17,"n_rows":32,"n_cols":13,"rows_kept":32,"cut":false,"hidden":false,"merged":[[0,1,0,11],[24,7,24,9],[2,8,2,9],[5,4,5,11],[23,7,23,9]]}
[null,"บันทึกข้อความ"]
[null,"ส่วนราชการ",null,null,{"$f":"DATABASE!C15&\" \"&DATABASE!D15","v":"โรงพยาบาลส่งเสริมสุขภาพตำบลบ้านกระเบื้องน้อย อำเภอหนองหงส์ จังหวัดบุรีรัมย์"}]
[null,"ที่",null,{"$f":"DATABASE!C13","v":"บร 1332.1.4/"},null,".",null,"วันที่","2562-10-01"]
[null,"เรื่อง",null,{"$f":"'เห็นชอบรวม(น1)'!C5","v":"ถ่ายเอกสารงานราชการและเข้าเล่ม"}]
[null,"เรียน",null,{"$f":"DATABASE!D14","v":"ผู้อำนวยการโรงพยาบาลส่งเสริมสุขภาพตำบลบ้านกระเบื้องน้อย"}]
[null,null,null,null,{"$f":"DATABASE!C15&\" \"&DATABASE!D15","v":"โรงพยาบาลส่งเสริมสุขภาพตำบลบ้านกระเบื้องน้อย อำเภอหนองหงส์ จังหวัดบุรีรัมย์"}]
[null,{"$f":"'เห็นชอบรวม(น1)'!C5","v":"ถ่ายเอกสารงานราชการและเข้าเล่ม"},null,null,null,null,null,null,{"$f":"ใบสั่งจ้าง!G82","v":2000},{"$f":"\"บาท \"&\"(\"&BAHTTEXT(I7)&\")\"","v":"บาท (สองพันบาทถ้วน)"}]
[null,null,null,null,"ผู้ตรวจรับพัสดุ ได้ตรวจรับถูกต้องแล้ว ดังเอกสารแนบการเบิกจ่าย ดังนี้",null,null,null,null,null,null,null,"ลงเลขเอกสาร"]
[null,null,null,null,"1. ขออนุมัติจัดจ้าง",null,null,null,null,{"$f":"IF(E9=\"\",\"\",\"จำนวน\")","v":"จำนวน"},{"$f":"IF(M9=\"\",\" -  ฉบับ\",M9&\"  ฉบับ\")","v":"1  ฉบับ"},null,1]
[null,null,null,null,"2. ใบเสนอราคา",null,null,null,null,{"$f":"IF(E10=\"\",\"\",\"จำนวน\")","v":"จำนวน"},"1  ฉบับ",null,1]
[null,null,null,null,"3. รายงานขอจ้าง",null,null,null,null,{"$f":"IF(E11=\"\",\"\",\"จำนวน\")","v":"จำนวน"},"1  ฉบับ",null,1]
[null,null,null,null,"4. คำสั่งจังหวัดบุรีรัมย์ เรื่อง แต่งตั้งคณะกรรมการตรวจรับพัสดุ",null,null,null,null,{"$f":"IF(E12=\"\",\"\",\"จำนวน\")","v":"จำนวน"},"0  ฉบับ",null,0]
[null,null,null,null,"5. รายงานผลการพิจารณาและขออนุมัติสั่งซื้อ",null,null,null,null,{"$f":"IF(E13=\"\",\"\",\"จำนวน\")","v":"จำนวน"},"0  ฉบับ",null,0]
[null,null,null,null,"6. ประกาศจังหวัดบุรีรัมย์",null,null,null,null,"จำนวน","0  ฉบับ",null,0]
[null,null,null,null,"4. ใบสั่งจ้าง",null,null,null,null,"จำนวน","1  ฉบับ",null,1]
[null,null,null,null,"5. หนังสือส่งมอบงานจ้าง",null,null,null,null,"จำนวน","1  ฉบับ",null,1]
[null,null,null,null,"5. ใบตรวจรับการจ้าง",null,null,null,null,"จำนวน","1  ฉบับ",null,1]
[null,null,null,null,"10. แบบแสดงความบริสุทธ์ใจในการซื้อ",null,null,null,null,"จำนวน","1  ฉบับ",null,1]
[null,null,null,null,"6. ใบเสร็จรับเงิน",null,null,null,null,"จำนวน","1  ฉบับ",null,1]
[null,null,null,null,"โดยนายดำรงค์  สีระสูงเนิน ได้จ่ายเงินสดไปพรางก่อนแล้ว ตามใบเร็จรับเงินเล่มที่..........................เลขที่....................",null,null,null,null,null,"1  ฉบับ",null,1]
[null,"ลงวันที่...................................................จำนวนเงิน",null,null,null,null,null,{"$f":"I7","v":2000},{"$f":"\"บาท \"&\"(\"&BAHTTEXT(H21)&\")\"","v":"บาท (สองพันบาทถ้วน)"},null,"1  ฉบับ",null,1]
[null,null,null,null,"จึงเรียนมาเพื่อนโปรดดำเนินการเบิกจ่ายเงินให้ นายดำรงค์  สีระสูงเนิน ต่อไป",null,null,null,null,null,null,null,1]
[null,null,null,null,null,null,null,null,null,null,null,null,1]
[null,null,null,null,null,null,null,{"$f":"DATABASE!C12","v":"นางสาวกนกรัตน์  พรมมา"},null,null,null,null,1]
[null,null,null,null,null,null,null,{"$f":"DATABASE!D12","v":"เจ้าพนักงานสาธารณสุข"},null,null,null,null,1]
[null,{"$f":"B5&\"  \"&D5","v":"เรียน  ผู้อำนวยการโรงพยาบาลส่งเสริมสุขภาพตำบลบ้านกระเบื้องน้อย"},null,null,null,null,null,null,null,null,null,null,1]
[null,null,null," - เห็นควรอนุมัติ",null,null,null,"คำสั่ง ",{"$f":"D5","v":"ผู้อำนวยการโรงพยาบาลส่งเสริมสุขภาพตำบลบ้านกระเบื้องน้อย"},null,null,null,1]
[null,null,null,null,null,null,null,"¨","อนุมัติ","¨  ไม่อนุมัติ เนื่องจาก.........................",null,null,1]
[null,null,null,null,{"$f":"DATABASE!C12","v":"นางสาวกนกรัตน์  พรมมา"},null,null,null,null,null,null,null,1]
[null,null,null,null,{"$f":"DATABASE!D12","v":"เจ้าพนักงานสาธารณสุข"},null,null,null,{"$f":"DATABASE!C14","v":"นายดำรงค์  สีระสูงเนิน"},null,null,null,1]
[null,null,null,null,null,null,null,null,{"$f":"DATABASE!D14","v":"ผู้อำนวยการโรงพยาบาลส่งเสริมสุขภาพตำบลบ้านกระเบื้องน้อย"},null,null,null,1]
[null,null,null,null,null,null,null,null,{"$f":"DATABASE!C8","v":"ปฏิบัติตามคำสั่ง สป. ที่ 2999/2559 ลว. 30 กันยายน 2559"},null,null,null,1]